BEGIN:VCALENDAR
VERSION:2.0
PRODID:-//Hagerstown AA - ECPv6.15.20//NONSGML v1.0//EN
CALSCALE:GREGORIAN
METHOD:PUBLISH
X-WR-CALNAME:Hagerstown AA
X-ORIGINAL-URL:https://hagerstownaa.org
X-WR-CALDESC:Events for Hagerstown AA
REFRESH-INTERVAL;VALUE=DURATION:PT1H
X-Robots-Tag:noindex
X-PUBLISHED-TTL:PT1H
BEGIN:VTIMEZONE
TZID:America/New_York
BEGIN:DAYLIGHT
TZOFFSETFROM:-0500
TZOFFSETTO:-0400
TZNAME:EDT
DTSTART:20170312T070000
END:DAYLIGHT
BEGIN:STANDARD
TZOFFSETFROM:-0400
TZOFFSETTO:-0500
TZNAME:EST
DTSTART:20171105T060000
END:STANDARD
BEGIN:DAYLIGHT
TZOFFSETFROM:-0500
TZOFFSETTO:-0400
TZNAME:EDT
DTSTART:20180311T070000
END:DAYLIGHT
BEGIN:STANDARD
TZOFFSETFROM:-0400
TZOFFSETTO:-0500
TZNAME:EST
DTSTART:20181104T060000
END:STANDARD
BEGIN:DAYLIGHT
TZOFFSETFROM:-0500
TZOFFSETTO:-0400
TZNAME:EDT
DTSTART:20190310T070000
END:DAYLIGHT
BEGIN:STANDARD
TZOFFSETFROM:-0400
TZOFFSETTO:-0500
TZNAME:EST
DTSTART:20191103T060000
END:STANDARD
END:VTIMEZONE
BEGIN:VEVENT
DTSTART;TZID=America/New_York:20180428T200000
DTEND;TZID=America/New_York:20180428T210000
DTSTAMP:20260424T002432
CREATED:20180216T033627Z
LAST-MODIFIED:20180408T135334Z
UID:10000008-1524945600-1524949200@hagerstownaa.org
SUMMARY:Hagerstown Group - Speaker
DESCRIPTION:Speaker to be announced…
URL:https://hagerstownaa.org/event/hagerstown-group-speaker/
LOCATION:St. John’s Episcopal Church\, 101 S. Prospect St.\, Hagerstown\, MD\, 21740\, United States
CATEGORIES:Speaker Meeting
GEO:39.6426117;-77.7256852
X-APPLE-STRUCTURED-LOCATION;VALUE=URI;X-ADDRESS=St. John’s Episcopal Church 101 S. Prospect St. Hagerstown MD 21740 United States;X-APPLE-RADIUS=500;X-TITLE=101 S. Prospect St.:geo:-77.7256852,39.6426117
END:VEVENT
END:VCALENDAR