BEGIN:VCALENDAR
VERSION:2.0
PRODID:-//Hagerstown AA - ECPv6.15.20//NONSGML v1.0//EN
CALSCALE:GREGORIAN
METHOD:PUBLISH
X-WR-CALNAME:Hagerstown AA
X-ORIGINAL-URL:https://hagerstownaa.org
X-WR-CALDESC:Events for Hagerstown AA
REFRESH-INTERVAL;VALUE=DURATION:PT1H
X-Robots-Tag:noindex
X-PUBLISHED-TTL:PT1H
BEGIN:VTIMEZONE
TZID:America/New_York
BEGIN:DAYLIGHT
TZOFFSETFROM:-0500
TZOFFSETTO:-0400
TZNAME:EDT
DTSTART:20170312T070000
END:DAYLIGHT
BEGIN:STANDARD
TZOFFSETFROM:-0400
TZOFFSETTO:-0500
TZNAME:EST
DTSTART:20171105T060000
END:STANDARD
BEGIN:DAYLIGHT
TZOFFSETFROM:-0500
TZOFFSETTO:-0400
TZNAME:EDT
DTSTART:20180311T070000
END:DAYLIGHT
BEGIN:STANDARD
TZOFFSETFROM:-0400
TZOFFSETTO:-0500
TZNAME:EST
DTSTART:20181104T060000
END:STANDARD
BEGIN:DAYLIGHT
TZOFFSETFROM:-0500
TZOFFSETTO:-0400
TZNAME:EDT
DTSTART:20190310T070000
END:DAYLIGHT
BEGIN:STANDARD
TZOFFSETFROM:-0400
TZOFFSETTO:-0500
TZNAME:EST
DTSTART:20191103T060000
END:STANDARD
BEGIN:DAYLIGHT
TZOFFSETFROM:-0500
TZOFFSETTO:-0400
TZNAME:EDT
DTSTART:20200308T070000
END:DAYLIGHT
BEGIN:STANDARD
TZOFFSETFROM:-0400
TZOFFSETTO:-0500
TZNAME:EST
DTSTART:20201101T060000
END:STANDARD
BEGIN:DAYLIGHT
TZOFFSETFROM:-0500
TZOFFSETTO:-0400
TZNAME:EDT
DTSTART:20210314T070000
END:DAYLIGHT
BEGIN:STANDARD
TZOFFSETFROM:-0400
TZOFFSETTO:-0500
TZNAME:EST
DTSTART:20211107T060000
END:STANDARD
BEGIN:DAYLIGHT
TZOFFSETFROM:-0500
TZOFFSETTO:-0400
TZNAME:EDT
DTSTART:20220313T070000
END:DAYLIGHT
BEGIN:STANDARD
TZOFFSETFROM:-0400
TZOFFSETTO:-0500
TZNAME:EST
DTSTART:20221106T060000
END:STANDARD
BEGIN:DAYLIGHT
TZOFFSETFROM:-0500
TZOFFSETTO:-0400
TZNAME:EDT
DTSTART:20230312T070000
END:DAYLIGHT
BEGIN:STANDARD
TZOFFSETFROM:-0400
TZOFFSETTO:-0500
TZNAME:EST
DTSTART:20231105T060000
END:STANDARD
BEGIN:DAYLIGHT
TZOFFSETFROM:-0500
TZOFFSETTO:-0400
TZNAME:EDT
DTSTART:20240310T070000
END:DAYLIGHT
BEGIN:STANDARD
TZOFFSETFROM:-0400
TZOFFSETTO:-0500
TZNAME:EST
DTSTART:20241103T060000
END:STANDARD
BEGIN:DAYLIGHT
TZOFFSETFROM:-0500
TZOFFSETTO:-0400
TZNAME:EDT
DTSTART:20250309T070000
END:DAYLIGHT
BEGIN:STANDARD
TZOFFSETFROM:-0400
TZOFFSETTO:-0500
TZNAME:EST
DTSTART:20251102T060000
END:STANDARD
END:VTIMEZONE
BEGIN:VEVENT
DTSTART;TZID=America/New_York:20240615T130000
DTEND;TZID=America/New_York:20240615T150000
DTSTAMP:20260423T231207
CREATED:20240530T122833Z
LAST-MODIFIED:20240530T122833Z
UID:10000150-1718456400-1718463600@hagerstownaa.org
SUMMARY:A History of A.A. - HAIG Workshop
DESCRIPTION:Please join us for the HAIG Workshop: A History of A.A. with speaker Mike M. This workshop will be held at Otterbein United Methodist Church (108 E. Franklin St.\, Hagerstown\, MD 21740) on June 15 from 1-3pm. Light refreshments will be provided. \n 
URL:https://hagerstownaa.org/event/a-history-of-a-a-haig-workshop/
LOCATION:Otterbein United Methodist Church\, 108 East Franklin Street\, Hagerstown\, MD\, 21740\, United States
GEO:39.6423094;-77.7165078
X-APPLE-STRUCTURED-LOCATION;VALUE=URI;X-ADDRESS=Otterbein United Methodist Church 108 East Franklin Street Hagerstown MD 21740 United States;X-APPLE-RADIUS=500;X-TITLE=108 East Franklin Street:geo:-77.7165078,39.6423094
END:VEVENT
BEGIN:VEVENT
DTSTART;TZID=America/New_York:20180519T110000
DTEND;TZID=America/New_York:20180519T140000
DTSTAMP:20260423T231207
CREATED:20180428T144659Z
LAST-MODIFIED:20180428T144659Z
UID:10000011-1526727600-1526738400@hagerstownaa.org
SUMMARY:HAIG Round Robin Spring Fellowship & Speaker
DESCRIPTION:Coffee & Fellowship\, Lunch\, and a Speaker: 11 am to 2 pm \nChicken\, Coffee\, and Drinks Provided \nPLEASE BRING A CASSEROLE\, SALAD OR DESSERT TO SHARE \nCome out and get some good food\, fellowship\, and an amazing speaker! \nADMISSION IS FREE!!
URL:https://hagerstownaa.org/event/haig-round-robin-spring-fellowship-speaker/
LOCATION:Otterbein United Methodist Church\, 108 East Franklin Street\, Hagerstown\, MD\, 21740\, United States
CATEGORIES:Intergroup,Speaker Meeting
GEO:39.6423094;-77.7165078
X-APPLE-STRUCTURED-LOCATION;VALUE=URI;X-ADDRESS=Otterbein United Methodist Church 108 East Franklin Street Hagerstown MD 21740 United States;X-APPLE-RADIUS=500;X-TITLE=108 East Franklin Street:geo:-77.7165078,39.6423094
END:VEVENT
END:VCALENDAR