BEGIN:VCALENDAR
VERSION:2.0
PRODID:-//Hagerstown AA - ECPv6.15.20//NONSGML v1.0//EN
CALSCALE:GREGORIAN
METHOD:PUBLISH
X-WR-CALNAME:Hagerstown AA
X-ORIGINAL-URL:https://hagerstownaa.org
X-WR-CALDESC:Events for Hagerstown AA
REFRESH-INTERVAL;VALUE=DURATION:PT1H
X-Robots-Tag:noindex
X-PUBLISHED-TTL:PT1H
BEGIN:VTIMEZONE
TZID:America/New_York
BEGIN:DAYLIGHT
TZOFFSETFROM:-0500
TZOFFSETTO:-0400
TZNAME:EDT
DTSTART:20200308T070000
END:DAYLIGHT
BEGIN:STANDARD
TZOFFSETFROM:-0400
TZOFFSETTO:-0500
TZNAME:EST
DTSTART:20201101T060000
END:STANDARD
BEGIN:DAYLIGHT
TZOFFSETFROM:-0500
TZOFFSETTO:-0400
TZNAME:EDT
DTSTART:20210314T070000
END:DAYLIGHT
BEGIN:STANDARD
TZOFFSETFROM:-0400
TZOFFSETTO:-0500
TZNAME:EST
DTSTART:20211107T060000
END:STANDARD
BEGIN:DAYLIGHT
TZOFFSETFROM:-0500
TZOFFSETTO:-0400
TZNAME:EDT
DTSTART:20220313T070000
END:DAYLIGHT
BEGIN:STANDARD
TZOFFSETFROM:-0400
TZOFFSETTO:-0500
TZNAME:EST
DTSTART:20221106T060000
END:STANDARD
BEGIN:DAYLIGHT
TZOFFSETFROM:-0500
TZOFFSETTO:-0400
TZNAME:EDT
DTSTART:20230312T070000
END:DAYLIGHT
BEGIN:STANDARD
TZOFFSETFROM:-0400
TZOFFSETTO:-0500
TZNAME:EST
DTSTART:20231105T060000
END:STANDARD
BEGIN:DAYLIGHT
TZOFFSETFROM:-0500
TZOFFSETTO:-0400
TZNAME:EDT
DTSTART:20240310T070000
END:DAYLIGHT
BEGIN:STANDARD
TZOFFSETFROM:-0400
TZOFFSETTO:-0500
TZNAME:EST
DTSTART:20241103T060000
END:STANDARD
END:VTIMEZONE
BEGIN:VEVENT
DTSTART;TZID=America/New_York:20230708T090000
DTEND;TZID=America/New_York:20230708T120000
DTSTAMP:20260423T184230
CREATED:20180222T231644Z
LAST-MODIFIED:20231124T120035Z
UID:10000079-1688806800-1688817600@hagerstownaa.org
SUMMARY:Mountain Breakfast
DESCRIPTION:Great service opportunity! \nSetup at 7:00 (Service Opportunity) \nFellowship at 9:00 \nBreakfast at 10:00 \nSpeaker at 11:00 \n$10.00 donation
URL:https://hagerstownaa.org/event/mountain-breakfast-2/2023-07-08/
LOCATION:Old Germantown Church of God\, 16924 Raven Rd\, Sabillasville\, MD\, 21780\, United States
GEO:39.7003209;-77.4560092
X-APPLE-STRUCTURED-LOCATION;VALUE=URI;X-ADDRESS=Old Germantown Church of God 16924 Raven Rd Sabillasville MD 21780 United States;X-APPLE-RADIUS=500;X-TITLE=16924 Raven Rd:geo:-77.4560092,39.7003209
END:VEVENT
BEGIN:VEVENT
DTSTART;TZID=America/New_York:20230610T090000
DTEND;TZID=America/New_York:20230610T120000
DTSTAMP:20260423T184230
CREATED:20180222T231644Z
LAST-MODIFIED:20231124T120035Z
UID:10000078-1686387600-1686398400@hagerstownaa.org
SUMMARY:Mountain Breakfast
DESCRIPTION:Great service opportunity! \nSetup at 7:00 (Service Opportunity) \nFellowship at 9:00 \nBreakfast at 10:00 \nSpeaker at 11:00 \n$10.00 donation
URL:https://hagerstownaa.org/event/mountain-breakfast-2/2023-06-10/
LOCATION:Old Germantown Church of God\, 16924 Raven Rd\, Sabillasville\, MD\, 21780\, United States
GEO:39.7003209;-77.4560092
X-APPLE-STRUCTURED-LOCATION;VALUE=URI;X-ADDRESS=Old Germantown Church of God 16924 Raven Rd Sabillasville MD 21780 United States;X-APPLE-RADIUS=500;X-TITLE=16924 Raven Rd:geo:-77.4560092,39.7003209
END:VEVENT
BEGIN:VEVENT
DTSTART;TZID=America/New_York:20230513T090000
DTEND;TZID=America/New_York:20230513T120000
DTSTAMP:20260423T184230
CREATED:20180222T231644Z
LAST-MODIFIED:20231124T120035Z
UID:10000077-1683968400-1683979200@hagerstownaa.org
SUMMARY:Mountain Breakfast
DESCRIPTION:Great service opportunity! \nSetup at 7:00 (Service Opportunity) \nFellowship at 9:00 \nBreakfast at 10:00 \nSpeaker at 11:00 \n$10.00 donation
URL:https://hagerstownaa.org/event/mountain-breakfast-2/2023-05-13/
LOCATION:Old Germantown Church of God\, 16924 Raven Rd\, Sabillasville\, MD\, 21780\, United States
GEO:39.7003209;-77.4560092
X-APPLE-STRUCTURED-LOCATION;VALUE=URI;X-ADDRESS=Old Germantown Church of God 16924 Raven Rd Sabillasville MD 21780 United States;X-APPLE-RADIUS=500;X-TITLE=16924 Raven Rd:geo:-77.4560092,39.7003209
END:VEVENT
BEGIN:VEVENT
DTSTART;TZID=America/New_York:20230408T090000
DTEND;TZID=America/New_York:20230408T120000
DTSTAMP:20260423T184230
CREATED:20180222T231644Z
LAST-MODIFIED:20231124T120035Z
UID:10000076-1680944400-1680955200@hagerstownaa.org
SUMMARY:Mountain Breakfast
DESCRIPTION:Great service opportunity! \nSetup at 7:00 (Service Opportunity) \nFellowship at 9:00 \nBreakfast at 10:00 \nSpeaker at 11:00 \n$10.00 donation
URL:https://hagerstownaa.org/event/mountain-breakfast-2/2023-04-08/
LOCATION:Old Germantown Church of God\, 16924 Raven Rd\, Sabillasville\, MD\, 21780\, United States
GEO:39.7003209;-77.4560092
X-APPLE-STRUCTURED-LOCATION;VALUE=URI;X-ADDRESS=Old Germantown Church of God 16924 Raven Rd Sabillasville MD 21780 United States;X-APPLE-RADIUS=500;X-TITLE=16924 Raven Rd:geo:-77.4560092,39.7003209
END:VEVENT
BEGIN:VEVENT
DTSTART;TZID=America/New_York:20230311T090000
DTEND;TZID=America/New_York:20230311T120000
DTSTAMP:20260423T184230
CREATED:20180222T231644Z
LAST-MODIFIED:20231124T120035Z
UID:10000075-1678525200-1678536000@hagerstownaa.org
SUMMARY:Mountain Breakfast
DESCRIPTION:Great service opportunity! \nSetup at 7:00 (Service Opportunity) \nFellowship at 9:00 \nBreakfast at 10:00 \nSpeaker at 11:00 \n$10.00 donation
URL:https://hagerstownaa.org/event/mountain-breakfast-2/2023-03-11/
LOCATION:Old Germantown Church of God\, 16924 Raven Rd\, Sabillasville\, MD\, 21780\, United States
GEO:39.7003209;-77.4560092
X-APPLE-STRUCTURED-LOCATION;VALUE=URI;X-ADDRESS=Old Germantown Church of God 16924 Raven Rd Sabillasville MD 21780 United States;X-APPLE-RADIUS=500;X-TITLE=16924 Raven Rd:geo:-77.4560092,39.7003209
END:VEVENT
BEGIN:VEVENT
DTSTART;TZID=America/New_York:20230211T090000
DTEND;TZID=America/New_York:20230211T120000
DTSTAMP:20260423T184230
CREATED:20180222T231644Z
LAST-MODIFIED:20231124T120035Z
UID:10000074-1676106000-1676116800@hagerstownaa.org
SUMMARY:Mountain Breakfast
DESCRIPTION:Great service opportunity! \nSetup at 7:00 (Service Opportunity) \nFellowship at 9:00 \nBreakfast at 10:00 \nSpeaker at 11:00 \n$10.00 donation
URL:https://hagerstownaa.org/event/mountain-breakfast-2/2023-02-11/
LOCATION:Old Germantown Church of God\, 16924 Raven Rd\, Sabillasville\, MD\, 21780\, United States
GEO:39.7003209;-77.4560092
X-APPLE-STRUCTURED-LOCATION;VALUE=URI;X-ADDRESS=Old Germantown Church of God 16924 Raven Rd Sabillasville MD 21780 United States;X-APPLE-RADIUS=500;X-TITLE=16924 Raven Rd:geo:-77.4560092,39.7003209
END:VEVENT
BEGIN:VEVENT
DTSTART;TZID=America/New_York:20230114T090000
DTEND;TZID=America/New_York:20230114T120000
DTSTAMP:20260423T184230
CREATED:20180222T231644Z
LAST-MODIFIED:20231124T120035Z
UID:10000073-1673686800-1673697600@hagerstownaa.org
SUMMARY:Mountain Breakfast
DESCRIPTION:Great service opportunity! \nSetup at 7:00 (Service Opportunity) \nFellowship at 9:00 \nBreakfast at 10:00 \nSpeaker at 11:00 \n$10.00 donation
URL:https://hagerstownaa.org/event/mountain-breakfast-2/2023-01-14/
LOCATION:Old Germantown Church of God\, 16924 Raven Rd\, Sabillasville\, MD\, 21780\, United States
GEO:39.7003209;-77.4560092
X-APPLE-STRUCTURED-LOCATION;VALUE=URI;X-ADDRESS=Old Germantown Church of God 16924 Raven Rd Sabillasville MD 21780 United States;X-APPLE-RADIUS=500;X-TITLE=16924 Raven Rd:geo:-77.4560092,39.7003209
END:VEVENT
BEGIN:VEVENT
DTSTART;TZID=America/New_York:20221210T090000
DTEND;TZID=America/New_York:20221210T120000
DTSTAMP:20260423T184230
CREATED:20180222T231644Z
LAST-MODIFIED:20231124T120035Z
UID:10000072-1670662800-1670673600@hagerstownaa.org
SUMMARY:Mountain Breakfast
DESCRIPTION:Great service opportunity! \nSetup at 7:00 (Service Opportunity) \nFellowship at 9:00 \nBreakfast at 10:00 \nSpeaker at 11:00 \n$10.00 donation
URL:https://hagerstownaa.org/event/mountain-breakfast-2/2022-12-10/
LOCATION:Old Germantown Church of God\, 16924 Raven Rd\, Sabillasville\, MD\, 21780\, United States
GEO:39.7003209;-77.4560092
X-APPLE-STRUCTURED-LOCATION;VALUE=URI;X-ADDRESS=Old Germantown Church of God 16924 Raven Rd Sabillasville MD 21780 United States;X-APPLE-RADIUS=500;X-TITLE=16924 Raven Rd:geo:-77.4560092,39.7003209
END:VEVENT
BEGIN:VEVENT
DTSTART;TZID=America/New_York:20221112T090000
DTEND;TZID=America/New_York:20221112T120000
DTSTAMP:20260423T184230
CREATED:20180222T231644Z
LAST-MODIFIED:20231124T120035Z
UID:10000071-1668243600-1668254400@hagerstownaa.org
SUMMARY:Mountain Breakfast
DESCRIPTION:Great service opportunity! \nSetup at 7:00 (Service Opportunity) \nFellowship at 9:00 \nBreakfast at 10:00 \nSpeaker at 11:00 \n$10.00 donation
URL:https://hagerstownaa.org/event/mountain-breakfast-2/2022-11-12/
LOCATION:Old Germantown Church of God\, 16924 Raven Rd\, Sabillasville\, MD\, 21780\, United States
GEO:39.7003209;-77.4560092
X-APPLE-STRUCTURED-LOCATION;VALUE=URI;X-ADDRESS=Old Germantown Church of God 16924 Raven Rd Sabillasville MD 21780 United States;X-APPLE-RADIUS=500;X-TITLE=16924 Raven Rd:geo:-77.4560092,39.7003209
END:VEVENT
BEGIN:VEVENT
DTSTART;TZID=America/New_York:20221008T090000
DTEND;TZID=America/New_York:20221008T120000
DTSTAMP:20260423T184230
CREATED:20180222T231644Z
LAST-MODIFIED:20231124T120035Z
UID:10000070-1665219600-1665230400@hagerstownaa.org
SUMMARY:Mountain Breakfast
DESCRIPTION:Great service opportunity! \nSetup at 7:00 (Service Opportunity) \nFellowship at 9:00 \nBreakfast at 10:00 \nSpeaker at 11:00 \n$10.00 donation
URL:https://hagerstownaa.org/event/mountain-breakfast-2/2022-10-08/
LOCATION:Old Germantown Church of God\, 16924 Raven Rd\, Sabillasville\, MD\, 21780\, United States
GEO:39.7003209;-77.4560092
X-APPLE-STRUCTURED-LOCATION;VALUE=URI;X-ADDRESS=Old Germantown Church of God 16924 Raven Rd Sabillasville MD 21780 United States;X-APPLE-RADIUS=500;X-TITLE=16924 Raven Rd:geo:-77.4560092,39.7003209
END:VEVENT
BEGIN:VEVENT
DTSTART;TZID=America/New_York:20220910T090000
DTEND;TZID=America/New_York:20220910T120000
DTSTAMP:20260423T184230
CREATED:20180222T231644Z
LAST-MODIFIED:20231124T120035Z
UID:10000069-1662800400-1662811200@hagerstownaa.org
SUMMARY:Mountain Breakfast
DESCRIPTION:Great service opportunity! \nSetup at 7:00 (Service Opportunity) \nFellowship at 9:00 \nBreakfast at 10:00 \nSpeaker at 11:00 \n$10.00 donation
URL:https://hagerstownaa.org/event/mountain-breakfast-2/2022-09-10/
LOCATION:Old Germantown Church of God\, 16924 Raven Rd\, Sabillasville\, MD\, 21780\, United States
GEO:39.7003209;-77.4560092
X-APPLE-STRUCTURED-LOCATION;VALUE=URI;X-ADDRESS=Old Germantown Church of God 16924 Raven Rd Sabillasville MD 21780 United States;X-APPLE-RADIUS=500;X-TITLE=16924 Raven Rd:geo:-77.4560092,39.7003209
END:VEVENT
BEGIN:VEVENT
DTSTART;TZID=America/New_York:20220813T090000
DTEND;TZID=America/New_York:20220813T120000
DTSTAMP:20260423T184230
CREATED:20180222T231644Z
LAST-MODIFIED:20231124T120035Z
UID:10000068-1660381200-1660392000@hagerstownaa.org
SUMMARY:Mountain Breakfast
DESCRIPTION:Great service opportunity! \nSetup at 7:00 (Service Opportunity) \nFellowship at 9:00 \nBreakfast at 10:00 \nSpeaker at 11:00 \n$10.00 donation
URL:https://hagerstownaa.org/event/mountain-breakfast-2/2022-08-13/
LOCATION:Old Germantown Church of God\, 16924 Raven Rd\, Sabillasville\, MD\, 21780\, United States
GEO:39.7003209;-77.4560092
X-APPLE-STRUCTURED-LOCATION;VALUE=URI;X-ADDRESS=Old Germantown Church of God 16924 Raven Rd Sabillasville MD 21780 United States;X-APPLE-RADIUS=500;X-TITLE=16924 Raven Rd:geo:-77.4560092,39.7003209
END:VEVENT
BEGIN:VEVENT
DTSTART;TZID=America/New_York:20220709T090000
DTEND;TZID=America/New_York:20220709T120000
DTSTAMP:20260423T184230
CREATED:20180222T231644Z
LAST-MODIFIED:20231124T120035Z
UID:10000067-1657357200-1657368000@hagerstownaa.org
SUMMARY:Mountain Breakfast
DESCRIPTION:Great service opportunity! \nSetup at 7:00 (Service Opportunity) \nFellowship at 9:00 \nBreakfast at 10:00 \nSpeaker at 11:00 \n$10.00 donation
URL:https://hagerstownaa.org/event/mountain-breakfast-2/2022-07-09/
LOCATION:Old Germantown Church of God\, 16924 Raven Rd\, Sabillasville\, MD\, 21780\, United States
GEO:39.7003209;-77.4560092
X-APPLE-STRUCTURED-LOCATION;VALUE=URI;X-ADDRESS=Old Germantown Church of God 16924 Raven Rd Sabillasville MD 21780 United States;X-APPLE-RADIUS=500;X-TITLE=16924 Raven Rd:geo:-77.4560092,39.7003209
END:VEVENT
BEGIN:VEVENT
DTSTART;TZID=America/New_York:20220611T090000
DTEND;TZID=America/New_York:20220611T120000
DTSTAMP:20260423T184230
CREATED:20180222T231644Z
LAST-MODIFIED:20231124T120035Z
UID:10000066-1654938000-1654948800@hagerstownaa.org
SUMMARY:Mountain Breakfast
DESCRIPTION:Great service opportunity! \nSetup at 7:00 (Service Opportunity) \nFellowship at 9:00 \nBreakfast at 10:00 \nSpeaker at 11:00 \n$10.00 donation
URL:https://hagerstownaa.org/event/mountain-breakfast-2/2022-06-11/
LOCATION:Old Germantown Church of God\, 16924 Raven Rd\, Sabillasville\, MD\, 21780\, United States
GEO:39.7003209;-77.4560092
X-APPLE-STRUCTURED-LOCATION;VALUE=URI;X-ADDRESS=Old Germantown Church of God 16924 Raven Rd Sabillasville MD 21780 United States;X-APPLE-RADIUS=500;X-TITLE=16924 Raven Rd:geo:-77.4560092,39.7003209
END:VEVENT
BEGIN:VEVENT
DTSTART;TZID=America/New_York:20220514T090000
DTEND;TZID=America/New_York:20220514T120000
DTSTAMP:20260423T184230
CREATED:20180222T231644Z
LAST-MODIFIED:20231124T120035Z
UID:10000065-1652518800-1652529600@hagerstownaa.org
SUMMARY:Mountain Breakfast
DESCRIPTION:Great service opportunity! \nSetup at 7:00 (Service Opportunity) \nFellowship at 9:00 \nBreakfast at 10:00 \nSpeaker at 11:00 \n$10.00 donation
URL:https://hagerstownaa.org/event/mountain-breakfast-2/2022-05-14/
LOCATION:Old Germantown Church of God\, 16924 Raven Rd\, Sabillasville\, MD\, 21780\, United States
GEO:39.7003209;-77.4560092
X-APPLE-STRUCTURED-LOCATION;VALUE=URI;X-ADDRESS=Old Germantown Church of God 16924 Raven Rd Sabillasville MD 21780 United States;X-APPLE-RADIUS=500;X-TITLE=16924 Raven Rd:geo:-77.4560092,39.7003209
END:VEVENT
BEGIN:VEVENT
DTSTART;TZID=America/New_York:20220409T090000
DTEND;TZID=America/New_York:20220409T120000
DTSTAMP:20260423T184230
CREATED:20180222T231644Z
LAST-MODIFIED:20231124T120035Z
UID:10000064-1649494800-1649505600@hagerstownaa.org
SUMMARY:Mountain Breakfast
DESCRIPTION:Great service opportunity! \nSetup at 7:00 (Service Opportunity) \nFellowship at 9:00 \nBreakfast at 10:00 \nSpeaker at 11:00 \n$10.00 donation
URL:https://hagerstownaa.org/event/mountain-breakfast-2/2022-04-09/
LOCATION:Old Germantown Church of God\, 16924 Raven Rd\, Sabillasville\, MD\, 21780\, United States
GEO:39.7003209;-77.4560092
X-APPLE-STRUCTURED-LOCATION;VALUE=URI;X-ADDRESS=Old Germantown Church of God 16924 Raven Rd Sabillasville MD 21780 United States;X-APPLE-RADIUS=500;X-TITLE=16924 Raven Rd:geo:-77.4560092,39.7003209
END:VEVENT
BEGIN:VEVENT
DTSTART;TZID=America/New_York:20220312T090000
DTEND;TZID=America/New_York:20220312T120000
DTSTAMP:20260423T184230
CREATED:20180222T231644Z
LAST-MODIFIED:20231124T120035Z
UID:10000063-1647075600-1647086400@hagerstownaa.org
SUMMARY:Mountain Breakfast
DESCRIPTION:Great service opportunity! \nSetup at 7:00 (Service Opportunity) \nFellowship at 9:00 \nBreakfast at 10:00 \nSpeaker at 11:00 \n$10.00 donation
URL:https://hagerstownaa.org/event/mountain-breakfast-2/2022-03-12/
LOCATION:Old Germantown Church of God\, 16924 Raven Rd\, Sabillasville\, MD\, 21780\, United States
GEO:39.7003209;-77.4560092
X-APPLE-STRUCTURED-LOCATION;VALUE=URI;X-ADDRESS=Old Germantown Church of God 16924 Raven Rd Sabillasville MD 21780 United States;X-APPLE-RADIUS=500;X-TITLE=16924 Raven Rd:geo:-77.4560092,39.7003209
END:VEVENT
BEGIN:VEVENT
DTSTART;TZID=America/New_York:20220212T090000
DTEND;TZID=America/New_York:20220212T120000
DTSTAMP:20260423T184230
CREATED:20180222T231644Z
LAST-MODIFIED:20231124T120035Z
UID:10000062-1644656400-1644667200@hagerstownaa.org
SUMMARY:Mountain Breakfast
DESCRIPTION:Great service opportunity! \nSetup at 7:00 (Service Opportunity) \nFellowship at 9:00 \nBreakfast at 10:00 \nSpeaker at 11:00 \n$10.00 donation
URL:https://hagerstownaa.org/event/mountain-breakfast-2/2022-02-12/
LOCATION:Old Germantown Church of God\, 16924 Raven Rd\, Sabillasville\, MD\, 21780\, United States
GEO:39.7003209;-77.4560092
X-APPLE-STRUCTURED-LOCATION;VALUE=URI;X-ADDRESS=Old Germantown Church of God 16924 Raven Rd Sabillasville MD 21780 United States;X-APPLE-RADIUS=500;X-TITLE=16924 Raven Rd:geo:-77.4560092,39.7003209
END:VEVENT
BEGIN:VEVENT
DTSTART;TZID=America/New_York:20220108T090000
DTEND;TZID=America/New_York:20220108T120000
DTSTAMP:20260423T184230
CREATED:20180222T231644Z
LAST-MODIFIED:20231124T120035Z
UID:10000061-1641632400-1641643200@hagerstownaa.org
SUMMARY:Mountain Breakfast
DESCRIPTION:Great service opportunity! \nSetup at 7:00 (Service Opportunity) \nFellowship at 9:00 \nBreakfast at 10:00 \nSpeaker at 11:00 \n$10.00 donation
URL:https://hagerstownaa.org/event/mountain-breakfast-2/2022-01-08/
LOCATION:Old Germantown Church of God\, 16924 Raven Rd\, Sabillasville\, MD\, 21780\, United States
GEO:39.7003209;-77.4560092
X-APPLE-STRUCTURED-LOCATION;VALUE=URI;X-ADDRESS=Old Germantown Church of God 16924 Raven Rd Sabillasville MD 21780 United States;X-APPLE-RADIUS=500;X-TITLE=16924 Raven Rd:geo:-77.4560092,39.7003209
END:VEVENT
BEGIN:VEVENT
DTSTART;TZID=America/New_York:20211211T090000
DTEND;TZID=America/New_York:20211211T120000
DTSTAMP:20260423T184230
CREATED:20180222T231644Z
LAST-MODIFIED:20231124T120035Z
UID:10000060-1639213200-1639224000@hagerstownaa.org
SUMMARY:Mountain Breakfast
DESCRIPTION:Great service opportunity! \nSetup at 7:00 (Service Opportunity) \nFellowship at 9:00 \nBreakfast at 10:00 \nSpeaker at 11:00 \n$10.00 donation
URL:https://hagerstownaa.org/event/mountain-breakfast-2/2021-12-11/
LOCATION:Old Germantown Church of God\, 16924 Raven Rd\, Sabillasville\, MD\, 21780\, United States
GEO:39.7003209;-77.4560092
X-APPLE-STRUCTURED-LOCATION;VALUE=URI;X-ADDRESS=Old Germantown Church of God 16924 Raven Rd Sabillasville MD 21780 United States;X-APPLE-RADIUS=500;X-TITLE=16924 Raven Rd:geo:-77.4560092,39.7003209
END:VEVENT
BEGIN:VEVENT
DTSTART;TZID=America/New_York:20211113T090000
DTEND;TZID=America/New_York:20211113T120000
DTSTAMP:20260423T184230
CREATED:20180222T231644Z
LAST-MODIFIED:20231124T120035Z
UID:10000059-1636794000-1636804800@hagerstownaa.org
SUMMARY:Mountain Breakfast
DESCRIPTION:Great service opportunity! \nSetup at 7:00 (Service Opportunity) \nFellowship at 9:00 \nBreakfast at 10:00 \nSpeaker at 11:00 \n$10.00 donation
URL:https://hagerstownaa.org/event/mountain-breakfast-2/2021-11-13/
LOCATION:Old Germantown Church of God\, 16924 Raven Rd\, Sabillasville\, MD\, 21780\, United States
GEO:39.7003209;-77.4560092
X-APPLE-STRUCTURED-LOCATION;VALUE=URI;X-ADDRESS=Old Germantown Church of God 16924 Raven Rd Sabillasville MD 21780 United States;X-APPLE-RADIUS=500;X-TITLE=16924 Raven Rd:geo:-77.4560092,39.7003209
END:VEVENT
BEGIN:VEVENT
DTSTART;TZID=America/New_York:20211009T090000
DTEND;TZID=America/New_York:20211009T120000
DTSTAMP:20260423T184230
CREATED:20180222T231644Z
LAST-MODIFIED:20231124T120035Z
UID:10000058-1633770000-1633780800@hagerstownaa.org
SUMMARY:Mountain Breakfast
DESCRIPTION:Great service opportunity! \nSetup at 7:00 (Service Opportunity) \nFellowship at 9:00 \nBreakfast at 10:00 \nSpeaker at 11:00 \n$10.00 donation
URL:https://hagerstownaa.org/event/mountain-breakfast-2/2021-10-09/
LOCATION:Old Germantown Church of God\, 16924 Raven Rd\, Sabillasville\, MD\, 21780\, United States
GEO:39.7003209;-77.4560092
X-APPLE-STRUCTURED-LOCATION;VALUE=URI;X-ADDRESS=Old Germantown Church of God 16924 Raven Rd Sabillasville MD 21780 United States;X-APPLE-RADIUS=500;X-TITLE=16924 Raven Rd:geo:-77.4560092,39.7003209
END:VEVENT
BEGIN:VEVENT
DTSTART;TZID=America/New_York:20210911T090000
DTEND;TZID=America/New_York:20210911T120000
DTSTAMP:20260423T184230
CREATED:20180222T231644Z
LAST-MODIFIED:20231124T120035Z
UID:10000057-1631350800-1631361600@hagerstownaa.org
SUMMARY:Mountain Breakfast
DESCRIPTION:Great service opportunity! \nSetup at 7:00 (Service Opportunity) \nFellowship at 9:00 \nBreakfast at 10:00 \nSpeaker at 11:00 \n$10.00 donation
URL:https://hagerstownaa.org/event/mountain-breakfast-2/2021-09-11/
LOCATION:Old Germantown Church of God\, 16924 Raven Rd\, Sabillasville\, MD\, 21780\, United States
GEO:39.7003209;-77.4560092
X-APPLE-STRUCTURED-LOCATION;VALUE=URI;X-ADDRESS=Old Germantown Church of God 16924 Raven Rd Sabillasville MD 21780 United States;X-APPLE-RADIUS=500;X-TITLE=16924 Raven Rd:geo:-77.4560092,39.7003209
END:VEVENT
BEGIN:VEVENT
DTSTART;TZID=America/New_York:20210814T090000
DTEND;TZID=America/New_York:20210814T120000
DTSTAMP:20260423T184230
CREATED:20180222T231644Z
LAST-MODIFIED:20231124T120035Z
UID:10000056-1628931600-1628942400@hagerstownaa.org
SUMMARY:Mountain Breakfast
DESCRIPTION:Great service opportunity! \nSetup at 7:00 (Service Opportunity) \nFellowship at 9:00 \nBreakfast at 10:00 \nSpeaker at 11:00 \n$10.00 donation
URL:https://hagerstownaa.org/event/mountain-breakfast-2/2021-08-14/
LOCATION:Old Germantown Church of God\, 16924 Raven Rd\, Sabillasville\, MD\, 21780\, United States
GEO:39.7003209;-77.4560092
X-APPLE-STRUCTURED-LOCATION;VALUE=URI;X-ADDRESS=Old Germantown Church of God 16924 Raven Rd Sabillasville MD 21780 United States;X-APPLE-RADIUS=500;X-TITLE=16924 Raven Rd:geo:-77.4560092,39.7003209
END:VEVENT
BEGIN:VEVENT
DTSTART;TZID=America/New_York:20210710T090000
DTEND;TZID=America/New_York:20210710T120000
DTSTAMP:20260423T184230
CREATED:20180222T231644Z
LAST-MODIFIED:20231124T120035Z
UID:10000055-1625907600-1625918400@hagerstownaa.org
SUMMARY:Mountain Breakfast
DESCRIPTION:Great service opportunity! \nSetup at 7:00 (Service Opportunity) \nFellowship at 9:00 \nBreakfast at 10:00 \nSpeaker at 11:00 \n$10.00 donation
URL:https://hagerstownaa.org/event/mountain-breakfast-2/2021-07-10/
LOCATION:Old Germantown Church of God\, 16924 Raven Rd\, Sabillasville\, MD\, 21780\, United States
GEO:39.7003209;-77.4560092
X-APPLE-STRUCTURED-LOCATION;VALUE=URI;X-ADDRESS=Old Germantown Church of God 16924 Raven Rd Sabillasville MD 21780 United States;X-APPLE-RADIUS=500;X-TITLE=16924 Raven Rd:geo:-77.4560092,39.7003209
END:VEVENT
BEGIN:VEVENT
DTSTART;TZID=America/New_York:20210612T090000
DTEND;TZID=America/New_York:20210612T120000
DTSTAMP:20260423T184230
CREATED:20180222T231644Z
LAST-MODIFIED:20231124T120035Z
UID:10000054-1623488400-1623499200@hagerstownaa.org
SUMMARY:Mountain Breakfast
DESCRIPTION:Great service opportunity! \nSetup at 7:00 (Service Opportunity) \nFellowship at 9:00 \nBreakfast at 10:00 \nSpeaker at 11:00 \n$10.00 donation
URL:https://hagerstownaa.org/event/mountain-breakfast-2/2021-06-12/
LOCATION:Old Germantown Church of God\, 16924 Raven Rd\, Sabillasville\, MD\, 21780\, United States
GEO:39.7003209;-77.4560092
X-APPLE-STRUCTURED-LOCATION;VALUE=URI;X-ADDRESS=Old Germantown Church of God 16924 Raven Rd Sabillasville MD 21780 United States;X-APPLE-RADIUS=500;X-TITLE=16924 Raven Rd:geo:-77.4560092,39.7003209
END:VEVENT
BEGIN:VEVENT
DTSTART;TZID=America/New_York:20210508T090000
DTEND;TZID=America/New_York:20210508T120000
DTSTAMP:20260423T184230
CREATED:20180222T231644Z
LAST-MODIFIED:20231124T120035Z
UID:10000053-1620464400-1620475200@hagerstownaa.org
SUMMARY:Mountain Breakfast
DESCRIPTION:Great service opportunity! \nSetup at 7:00 (Service Opportunity) \nFellowship at 9:00 \nBreakfast at 10:00 \nSpeaker at 11:00 \n$10.00 donation
URL:https://hagerstownaa.org/event/mountain-breakfast-2/2021-05-08/
LOCATION:Old Germantown Church of God\, 16924 Raven Rd\, Sabillasville\, MD\, 21780\, United States
GEO:39.7003209;-77.4560092
X-APPLE-STRUCTURED-LOCATION;VALUE=URI;X-ADDRESS=Old Germantown Church of God 16924 Raven Rd Sabillasville MD 21780 United States;X-APPLE-RADIUS=500;X-TITLE=16924 Raven Rd:geo:-77.4560092,39.7003209
END:VEVENT
BEGIN:VEVENT
DTSTART;TZID=America/New_York:20210410T090000
DTEND;TZID=America/New_York:20210410T120000
DTSTAMP:20260423T184230
CREATED:20180222T231644Z
LAST-MODIFIED:20231124T120035Z
UID:10000052-1618045200-1618056000@hagerstownaa.org
SUMMARY:Mountain Breakfast
DESCRIPTION:Great service opportunity! \nSetup at 7:00 (Service Opportunity) \nFellowship at 9:00 \nBreakfast at 10:00 \nSpeaker at 11:00 \n$10.00 donation
URL:https://hagerstownaa.org/event/mountain-breakfast-2/2021-04-10/
LOCATION:Old Germantown Church of God\, 16924 Raven Rd\, Sabillasville\, MD\, 21780\, United States
GEO:39.7003209;-77.4560092
X-APPLE-STRUCTURED-LOCATION;VALUE=URI;X-ADDRESS=Old Germantown Church of God 16924 Raven Rd Sabillasville MD 21780 United States;X-APPLE-RADIUS=500;X-TITLE=16924 Raven Rd:geo:-77.4560092,39.7003209
END:VEVENT
BEGIN:VEVENT
DTSTART;TZID=America/New_York:20210313T090000
DTEND;TZID=America/New_York:20210313T120000
DTSTAMP:20260423T184230
CREATED:20180222T231644Z
LAST-MODIFIED:20231124T120035Z
UID:10000051-1615626000-1615636800@hagerstownaa.org
SUMMARY:Mountain Breakfast
DESCRIPTION:Great service opportunity! \nSetup at 7:00 (Service Opportunity) \nFellowship at 9:00 \nBreakfast at 10:00 \nSpeaker at 11:00 \n$10.00 donation
URL:https://hagerstownaa.org/event/mountain-breakfast-2/2021-03-13/
LOCATION:Old Germantown Church of God\, 16924 Raven Rd\, Sabillasville\, MD\, 21780\, United States
GEO:39.7003209;-77.4560092
X-APPLE-STRUCTURED-LOCATION;VALUE=URI;X-ADDRESS=Old Germantown Church of God 16924 Raven Rd Sabillasville MD 21780 United States;X-APPLE-RADIUS=500;X-TITLE=16924 Raven Rd:geo:-77.4560092,39.7003209
END:VEVENT
BEGIN:VEVENT
DTSTART;TZID=America/New_York:20210213T090000
DTEND;TZID=America/New_York:20210213T120000
DTSTAMP:20260423T184230
CREATED:20180222T231644Z
LAST-MODIFIED:20231124T120035Z
UID:10000050-1613206800-1613217600@hagerstownaa.org
SUMMARY:Mountain Breakfast
DESCRIPTION:Great service opportunity! \nSetup at 7:00 (Service Opportunity) \nFellowship at 9:00 \nBreakfast at 10:00 \nSpeaker at 11:00 \n$10.00 donation
URL:https://hagerstownaa.org/event/mountain-breakfast-2/2021-02-13/
LOCATION:Old Germantown Church of God\, 16924 Raven Rd\, Sabillasville\, MD\, 21780\, United States
GEO:39.7003209;-77.4560092
X-APPLE-STRUCTURED-LOCATION;VALUE=URI;X-ADDRESS=Old Germantown Church of God 16924 Raven Rd Sabillasville MD 21780 United States;X-APPLE-RADIUS=500;X-TITLE=16924 Raven Rd:geo:-77.4560092,39.7003209
END:VEVENT
END:VCALENDAR