BEGIN:VCALENDAR
VERSION:2.0
PRODID:-//Hagerstown AA - ECPv6.15.20//NONSGML v1.0//EN
CALSCALE:GREGORIAN
METHOD:PUBLISH
X-WR-CALNAME:Hagerstown AA
X-ORIGINAL-URL:https://hagerstownaa.org
X-WR-CALDESC:Events for Hagerstown AA
REFRESH-INTERVAL;VALUE=DURATION:PT1H
X-Robots-Tag:noindex
X-PUBLISHED-TTL:PT1H
BEGIN:VTIMEZONE
TZID:America/New_York
BEGIN:DAYLIGHT
TZOFFSETFROM:-0500
TZOFFSETTO:-0400
TZNAME:EDT
DTSTART:20220313T070000
END:DAYLIGHT
BEGIN:STANDARD
TZOFFSETFROM:-0400
TZOFFSETTO:-0500
TZNAME:EST
DTSTART:20221106T060000
END:STANDARD
BEGIN:DAYLIGHT
TZOFFSETFROM:-0500
TZOFFSETTO:-0400
TZNAME:EDT
DTSTART:20230312T070000
END:DAYLIGHT
BEGIN:STANDARD
TZOFFSETFROM:-0400
TZOFFSETTO:-0500
TZNAME:EST
DTSTART:20231105T060000
END:STANDARD
BEGIN:DAYLIGHT
TZOFFSETFROM:-0500
TZOFFSETTO:-0400
TZNAME:EDT
DTSTART:20240310T070000
END:DAYLIGHT
BEGIN:STANDARD
TZOFFSETFROM:-0400
TZOFFSETTO:-0500
TZNAME:EST
DTSTART:20241103T060000
END:STANDARD
BEGIN:DAYLIGHT
TZOFFSETFROM:-0500
TZOFFSETTO:-0400
TZNAME:EDT
DTSTART:20250309T070000
END:DAYLIGHT
BEGIN:STANDARD
TZOFFSETFROM:-0400
TZOFFSETTO:-0500
TZNAME:EST
DTSTART:20251102T060000
END:STANDARD
BEGIN:DAYLIGHT
TZOFFSETFROM:-0500
TZOFFSETTO:-0400
TZNAME:EDT
DTSTART:20260308T070000
END:DAYLIGHT
BEGIN:STANDARD
TZOFFSETFROM:-0400
TZOFFSETTO:-0500
TZNAME:EST
DTSTART:20261101T060000
END:STANDARD
BEGIN:DAYLIGHT
TZOFFSETFROM:-0500
TZOFFSETTO:-0400
TZNAME:EDT
DTSTART:20270314T070000
END:DAYLIGHT
BEGIN:STANDARD
TZOFFSETFROM:-0400
TZOFFSETTO:-0500
TZNAME:EST
DTSTART:20271107T060000
END:STANDARD
END:VTIMEZONE
BEGIN:VEVENT
DTSTART;TZID=America/New_York:20260411T090000
DTEND;TZID=America/New_York:20260411T120000
DTSTAMP:20260423T135743
CREATED:20231220T202026Z
LAST-MODIFIED:20250110T205608Z
UID:10000112-1775898000-1775908800@hagerstownaa.org
SUMMARY:Mountain Breakfast
DESCRIPTION:Great service opportunity! \nSetup at 7:00 (Service Opportunity) \nFellowship at 9:00 \nBreakfast at 10:00 \nSpeaker at 11:00 \n$10.00 donation
URL:https://hagerstownaa.org/event/mountain-breakfast-2-2/2026-04-11/
LOCATION:Old Germantown Church of God\, 16924 Raven Rd\, Sabillasville\, MD\, 21780\, United States
GEO:39.7003209;-77.4560092
X-APPLE-STRUCTURED-LOCATION;VALUE=URI;X-ADDRESS=Old Germantown Church of God 16924 Raven Rd Sabillasville MD 21780 United States;X-APPLE-RADIUS=500;X-TITLE=16924 Raven Rd:geo:-77.4560092,39.7003209
END:VEVENT
BEGIN:VEVENT
DTSTART;TZID=America/New_York:20260314T090000
DTEND;TZID=America/New_York:20260314T120000
DTSTAMP:20260423T135744
CREATED:20231220T202026Z
LAST-MODIFIED:20250110T205608Z
UID:10000111-1773478800-1773489600@hagerstownaa.org
SUMMARY:Mountain Breakfast
DESCRIPTION:Great service opportunity! \nSetup at 7:00 (Service Opportunity) \nFellowship at 9:00 \nBreakfast at 10:00 \nSpeaker at 11:00 \n$10.00 donation
URL:https://hagerstownaa.org/event/mountain-breakfast-2-2/2026-03-14/
LOCATION:Old Germantown Church of God\, 16924 Raven Rd\, Sabillasville\, MD\, 21780\, United States
GEO:39.7003209;-77.4560092
X-APPLE-STRUCTURED-LOCATION;VALUE=URI;X-ADDRESS=Old Germantown Church of God 16924 Raven Rd Sabillasville MD 21780 United States;X-APPLE-RADIUS=500;X-TITLE=16924 Raven Rd:geo:-77.4560092,39.7003209
END:VEVENT
BEGIN:VEVENT
DTSTART;TZID=America/New_York:20260214T090000
DTEND;TZID=America/New_York:20260214T120000
DTSTAMP:20260423T135744
CREATED:20231220T202026Z
LAST-MODIFIED:20250110T205608Z
UID:10000110-1771059600-1771070400@hagerstownaa.org
SUMMARY:Mountain Breakfast
DESCRIPTION:Great service opportunity! \nSetup at 7:00 (Service Opportunity) \nFellowship at 9:00 \nBreakfast at 10:00 \nSpeaker at 11:00 \n$10.00 donation
URL:https://hagerstownaa.org/event/mountain-breakfast-2-2/2026-02-14/
LOCATION:Old Germantown Church of God\, 16924 Raven Rd\, Sabillasville\, MD\, 21780\, United States
GEO:39.7003209;-77.4560092
X-APPLE-STRUCTURED-LOCATION;VALUE=URI;X-ADDRESS=Old Germantown Church of God 16924 Raven Rd Sabillasville MD 21780 United States;X-APPLE-RADIUS=500;X-TITLE=16924 Raven Rd:geo:-77.4560092,39.7003209
END:VEVENT
BEGIN:VEVENT
DTSTART;TZID=America/New_York:20260110T090000
DTEND;TZID=America/New_York:20260110T120000
DTSTAMP:20260423T135744
CREATED:20231220T202026Z
LAST-MODIFIED:20250110T205608Z
UID:10000109-1768035600-1768046400@hagerstownaa.org
SUMMARY:Mountain Breakfast
DESCRIPTION:Great service opportunity! \nSetup at 7:00 (Service Opportunity) \nFellowship at 9:00 \nBreakfast at 10:00 \nSpeaker at 11:00 \n$10.00 donation
URL:https://hagerstownaa.org/event/mountain-breakfast-2-2/2026-01-10/
LOCATION:Old Germantown Church of God\, 16924 Raven Rd\, Sabillasville\, MD\, 21780\, United States
GEO:39.7003209;-77.4560092
X-APPLE-STRUCTURED-LOCATION;VALUE=URI;X-ADDRESS=Old Germantown Church of God 16924 Raven Rd Sabillasville MD 21780 United States;X-APPLE-RADIUS=500;X-TITLE=16924 Raven Rd:geo:-77.4560092,39.7003209
END:VEVENT
BEGIN:VEVENT
DTSTART;TZID=America/New_York:20251213T090000
DTEND;TZID=America/New_York:20251213T120000
DTSTAMP:20260423T135744
CREATED:20231220T202026Z
LAST-MODIFIED:20250110T205608Z
UID:10000108-1765616400-1765627200@hagerstownaa.org
SUMMARY:Mountain Breakfast
DESCRIPTION:Great service opportunity! \nSetup at 7:00 (Service Opportunity) \nFellowship at 9:00 \nBreakfast at 10:00 \nSpeaker at 11:00 \n$10.00 donation
URL:https://hagerstownaa.org/event/mountain-breakfast-2-2/2025-12-13/
LOCATION:Old Germantown Church of God\, 16924 Raven Rd\, Sabillasville\, MD\, 21780\, United States
GEO:39.7003209;-77.4560092
X-APPLE-STRUCTURED-LOCATION;VALUE=URI;X-ADDRESS=Old Germantown Church of God 16924 Raven Rd Sabillasville MD 21780 United States;X-APPLE-RADIUS=500;X-TITLE=16924 Raven Rd:geo:-77.4560092,39.7003209
END:VEVENT
BEGIN:VEVENT
DTSTART;TZID=America/New_York:20251108T090000
DTEND;TZID=America/New_York:20251108T120000
DTSTAMP:20260423T135744
CREATED:20231220T202026Z
LAST-MODIFIED:20250110T205608Z
UID:10000107-1762592400-1762603200@hagerstownaa.org
SUMMARY:Mountain Breakfast
DESCRIPTION:Great service opportunity! \nSetup at 7:00 (Service Opportunity) \nFellowship at 9:00 \nBreakfast at 10:00 \nSpeaker at 11:00 \n$10.00 donation
URL:https://hagerstownaa.org/event/mountain-breakfast-2-2/2025-11-08/
LOCATION:Old Germantown Church of God\, 16924 Raven Rd\, Sabillasville\, MD\, 21780\, United States
GEO:39.7003209;-77.4560092
X-APPLE-STRUCTURED-LOCATION;VALUE=URI;X-ADDRESS=Old Germantown Church of God 16924 Raven Rd Sabillasville MD 21780 United States;X-APPLE-RADIUS=500;X-TITLE=16924 Raven Rd:geo:-77.4560092,39.7003209
END:VEVENT
BEGIN:VEVENT
DTSTART;TZID=America/New_York:20251011T090000
DTEND;TZID=America/New_York:20251011T120000
DTSTAMP:20260423T135744
CREATED:20231220T202026Z
LAST-MODIFIED:20250110T205608Z
UID:10000106-1760173200-1760184000@hagerstownaa.org
SUMMARY:Mountain Breakfast
DESCRIPTION:Great service opportunity! \nSetup at 7:00 (Service Opportunity) \nFellowship at 9:00 \nBreakfast at 10:00 \nSpeaker at 11:00 \n$10.00 donation
URL:https://hagerstownaa.org/event/mountain-breakfast-2-2/2025-10-11/
LOCATION:Old Germantown Church of God\, 16924 Raven Rd\, Sabillasville\, MD\, 21780\, United States
GEO:39.7003209;-77.4560092
X-APPLE-STRUCTURED-LOCATION;VALUE=URI;X-ADDRESS=Old Germantown Church of God 16924 Raven Rd Sabillasville MD 21780 United States;X-APPLE-RADIUS=500;X-TITLE=16924 Raven Rd:geo:-77.4560092,39.7003209
END:VEVENT
BEGIN:VEVENT
DTSTART;TZID=America/New_York:20250913T090000
DTEND;TZID=America/New_York:20250913T120000
DTSTAMP:20260423T135744
CREATED:20231220T202026Z
LAST-MODIFIED:20250110T205608Z
UID:10000105-1757754000-1757764800@hagerstownaa.org
SUMMARY:Mountain Breakfast
DESCRIPTION:Great service opportunity! \nSetup at 7:00 (Service Opportunity) \nFellowship at 9:00 \nBreakfast at 10:00 \nSpeaker at 11:00 \n$10.00 donation
URL:https://hagerstownaa.org/event/mountain-breakfast-2-2/2025-09-13/
LOCATION:Old Germantown Church of God\, 16924 Raven Rd\, Sabillasville\, MD\, 21780\, United States
GEO:39.7003209;-77.4560092
X-APPLE-STRUCTURED-LOCATION;VALUE=URI;X-ADDRESS=Old Germantown Church of God 16924 Raven Rd Sabillasville MD 21780 United States;X-APPLE-RADIUS=500;X-TITLE=16924 Raven Rd:geo:-77.4560092,39.7003209
END:VEVENT
BEGIN:VEVENT
DTSTART;TZID=America/New_York:20250809T090000
DTEND;TZID=America/New_York:20250809T120000
DTSTAMP:20260423T135744
CREATED:20231220T202026Z
LAST-MODIFIED:20250110T205608Z
UID:10000104-1754730000-1754740800@hagerstownaa.org
SUMMARY:Mountain Breakfast
DESCRIPTION:Great service opportunity! \nSetup at 7:00 (Service Opportunity) \nFellowship at 9:00 \nBreakfast at 10:00 \nSpeaker at 11:00 \n$10.00 donation
URL:https://hagerstownaa.org/event/mountain-breakfast-2-2/2025-08-09/
LOCATION:Old Germantown Church of God\, 16924 Raven Rd\, Sabillasville\, MD\, 21780\, United States
GEO:39.7003209;-77.4560092
X-APPLE-STRUCTURED-LOCATION;VALUE=URI;X-ADDRESS=Old Germantown Church of God 16924 Raven Rd Sabillasville MD 21780 United States;X-APPLE-RADIUS=500;X-TITLE=16924 Raven Rd:geo:-77.4560092,39.7003209
END:VEVENT
BEGIN:VEVENT
DTSTART;TZID=America/New_York:20250712T090000
DTEND;TZID=America/New_York:20250712T120000
DTSTAMP:20260423T135744
CREATED:20231220T202026Z
LAST-MODIFIED:20250110T205608Z
UID:10000103-1752310800-1752321600@hagerstownaa.org
SUMMARY:Mountain Breakfast
DESCRIPTION:Great service opportunity! \nSetup at 7:00 (Service Opportunity) \nFellowship at 9:00 \nBreakfast at 10:00 \nSpeaker at 11:00 \n$10.00 donation
URL:https://hagerstownaa.org/event/mountain-breakfast-2-2/2025-07-12/
LOCATION:Old Germantown Church of God\, 16924 Raven Rd\, Sabillasville\, MD\, 21780\, United States
GEO:39.7003209;-77.4560092
X-APPLE-STRUCTURED-LOCATION;VALUE=URI;X-ADDRESS=Old Germantown Church of God 16924 Raven Rd Sabillasville MD 21780 United States;X-APPLE-RADIUS=500;X-TITLE=16924 Raven Rd:geo:-77.4560092,39.7003209
END:VEVENT
BEGIN:VEVENT
DTSTART;TZID=America/New_York:20250614T090000
DTEND;TZID=America/New_York:20250614T120000
DTSTAMP:20260423T135744
CREATED:20231220T202026Z
LAST-MODIFIED:20250110T205608Z
UID:10000102-1749891600-1749902400@hagerstownaa.org
SUMMARY:Mountain Breakfast
DESCRIPTION:Great service opportunity! \nSetup at 7:00 (Service Opportunity) \nFellowship at 9:00 \nBreakfast at 10:00 \nSpeaker at 11:00 \n$10.00 donation
URL:https://hagerstownaa.org/event/mountain-breakfast-2-2/2025-06-14/
LOCATION:Old Germantown Church of God\, 16924 Raven Rd\, Sabillasville\, MD\, 21780\, United States
GEO:39.7003209;-77.4560092
X-APPLE-STRUCTURED-LOCATION;VALUE=URI;X-ADDRESS=Old Germantown Church of God 16924 Raven Rd Sabillasville MD 21780 United States;X-APPLE-RADIUS=500;X-TITLE=16924 Raven Rd:geo:-77.4560092,39.7003209
END:VEVENT
BEGIN:VEVENT
DTSTART;TZID=America/New_York:20250510T090000
DTEND;TZID=America/New_York:20250510T120000
DTSTAMP:20260423T135744
CREATED:20231220T202026Z
LAST-MODIFIED:20250110T205608Z
UID:10000101-1746867600-1746878400@hagerstownaa.org
SUMMARY:Mountain Breakfast
DESCRIPTION:Great service opportunity! \nSetup at 7:00 (Service Opportunity) \nFellowship at 9:00 \nBreakfast at 10:00 \nSpeaker at 11:00 \n$10.00 donation
URL:https://hagerstownaa.org/event/mountain-breakfast-2-2/2025-05-10/
LOCATION:Old Germantown Church of God\, 16924 Raven Rd\, Sabillasville\, MD\, 21780\, United States
GEO:39.7003209;-77.4560092
X-APPLE-STRUCTURED-LOCATION;VALUE=URI;X-ADDRESS=Old Germantown Church of God 16924 Raven Rd Sabillasville MD 21780 United States;X-APPLE-RADIUS=500;X-TITLE=16924 Raven Rd:geo:-77.4560092,39.7003209
END:VEVENT
BEGIN:VEVENT
DTSTART;TZID=America/New_York:20250412T090000
DTEND;TZID=America/New_York:20250412T120000
DTSTAMP:20260423T135744
CREATED:20231220T202026Z
LAST-MODIFIED:20250110T205608Z
UID:10000100-1744448400-1744459200@hagerstownaa.org
SUMMARY:Mountain Breakfast
DESCRIPTION:Great service opportunity! \nSetup at 7:00 (Service Opportunity) \nFellowship at 9:00 \nBreakfast at 10:00 \nSpeaker at 11:00 \n$10.00 donation
URL:https://hagerstownaa.org/event/mountain-breakfast-2-2/2025-04-12/
LOCATION:Old Germantown Church of God\, 16924 Raven Rd\, Sabillasville\, MD\, 21780\, United States
GEO:39.7003209;-77.4560092
X-APPLE-STRUCTURED-LOCATION;VALUE=URI;X-ADDRESS=Old Germantown Church of God 16924 Raven Rd Sabillasville MD 21780 United States;X-APPLE-RADIUS=500;X-TITLE=16924 Raven Rd:geo:-77.4560092,39.7003209
END:VEVENT
BEGIN:VEVENT
DTSTART;TZID=America/New_York:20250308T090000
DTEND;TZID=America/New_York:20250308T120000
DTSTAMP:20260423T135744
CREATED:20231220T202026Z
LAST-MODIFIED:20250110T205608Z
UID:10000099-1741424400-1741435200@hagerstownaa.org
SUMMARY:Mountain Breakfast
DESCRIPTION:Great service opportunity! \nSetup at 7:00 (Service Opportunity) \nFellowship at 9:00 \nBreakfast at 10:00 \nSpeaker at 11:00 \n$10.00 donation
URL:https://hagerstownaa.org/event/mountain-breakfast-2-2/2025-03-08/
LOCATION:Old Germantown Church of God\, 16924 Raven Rd\, Sabillasville\, MD\, 21780\, United States
GEO:39.7003209;-77.4560092
X-APPLE-STRUCTURED-LOCATION;VALUE=URI;X-ADDRESS=Old Germantown Church of God 16924 Raven Rd Sabillasville MD 21780 United States;X-APPLE-RADIUS=500;X-TITLE=16924 Raven Rd:geo:-77.4560092,39.7003209
END:VEVENT
BEGIN:VEVENT
DTSTART;TZID=America/New_York:20250208T090000
DTEND;TZID=America/New_York:20250208T120000
DTSTAMP:20260423T135744
CREATED:20231220T202026Z
LAST-MODIFIED:20250110T205608Z
UID:10000098-1739005200-1739016000@hagerstownaa.org
SUMMARY:Mountain Breakfast
DESCRIPTION:Great service opportunity! \nSetup at 7:00 (Service Opportunity) \nFellowship at 9:00 \nBreakfast at 10:00 \nSpeaker at 11:00 \n$10.00 donation
URL:https://hagerstownaa.org/event/mountain-breakfast-2-2/2025-02-08/
LOCATION:Old Germantown Church of God\, 16924 Raven Rd\, Sabillasville\, MD\, 21780\, United States
GEO:39.7003209;-77.4560092
X-APPLE-STRUCTURED-LOCATION;VALUE=URI;X-ADDRESS=Old Germantown Church of God 16924 Raven Rd Sabillasville MD 21780 United States;X-APPLE-RADIUS=500;X-TITLE=16924 Raven Rd:geo:-77.4560092,39.7003209
END:VEVENT
BEGIN:VEVENT
DTSTART;TZID=America/New_York:20241214T090000
DTEND;TZID=America/New_York:20241214T120000
DTSTAMP:20260423T135744
CREATED:20231220T202026Z
LAST-MODIFIED:20250110T205608Z
UID:10000096-1734166800-1734177600@hagerstownaa.org
SUMMARY:Mountain Breakfast
DESCRIPTION:Great service opportunity! \nSetup at 7:00 (Service Opportunity) \nFellowship at 9:00 \nBreakfast at 10:00 \nSpeaker at 11:00 \n$10.00 donation
URL:https://hagerstownaa.org/event/mountain-breakfast-2-2/2024-12-14/
LOCATION:Old Germantown Church of God\, 16924 Raven Rd\, Sabillasville\, MD\, 21780\, United States
GEO:39.7003209;-77.4560092
X-APPLE-STRUCTURED-LOCATION;VALUE=URI;X-ADDRESS=Old Germantown Church of God 16924 Raven Rd Sabillasville MD 21780 United States;X-APPLE-RADIUS=500;X-TITLE=16924 Raven Rd:geo:-77.4560092,39.7003209
END:VEVENT
BEGIN:VEVENT
DTSTART;TZID=America/New_York:20241109T090000
DTEND;TZID=America/New_York:20241109T120000
DTSTAMP:20260423T135744
CREATED:20231220T202026Z
LAST-MODIFIED:20250110T205608Z
UID:10000095-1731142800-1731153600@hagerstownaa.org
SUMMARY:Mountain Breakfast
DESCRIPTION:Great service opportunity! \nSetup at 7:00 (Service Opportunity) \nFellowship at 9:00 \nBreakfast at 10:00 \nSpeaker at 11:00 \n$10.00 donation
URL:https://hagerstownaa.org/event/mountain-breakfast-2-2/2024-11-09/
LOCATION:Old Germantown Church of God\, 16924 Raven Rd\, Sabillasville\, MD\, 21780\, United States
GEO:39.7003209;-77.4560092
X-APPLE-STRUCTURED-LOCATION;VALUE=URI;X-ADDRESS=Old Germantown Church of God 16924 Raven Rd Sabillasville MD 21780 United States;X-APPLE-RADIUS=500;X-TITLE=16924 Raven Rd:geo:-77.4560092,39.7003209
END:VEVENT
BEGIN:VEVENT
DTSTART;TZID=America/New_York:20241012T090000
DTEND;TZID=America/New_York:20241012T120000
DTSTAMP:20260423T135744
CREATED:20231220T202026Z
LAST-MODIFIED:20250110T205608Z
UID:10000094-1728723600-1728734400@hagerstownaa.org
SUMMARY:Mountain Breakfast
DESCRIPTION:Great service opportunity! \nSetup at 7:00 (Service Opportunity) \nFellowship at 9:00 \nBreakfast at 10:00 \nSpeaker at 11:00 \n$10.00 donation
URL:https://hagerstownaa.org/event/mountain-breakfast-2-2/2024-10-12/
LOCATION:Old Germantown Church of God\, 16924 Raven Rd\, Sabillasville\, MD\, 21780\, United States
GEO:39.7003209;-77.4560092
X-APPLE-STRUCTURED-LOCATION;VALUE=URI;X-ADDRESS=Old Germantown Church of God 16924 Raven Rd Sabillasville MD 21780 United States;X-APPLE-RADIUS=500;X-TITLE=16924 Raven Rd:geo:-77.4560092,39.7003209
END:VEVENT
BEGIN:VEVENT
DTSTART;TZID=America/New_York:20240914T090000
DTEND;TZID=America/New_York:20240914T120000
DTSTAMP:20260423T135744
CREATED:20231220T202026Z
LAST-MODIFIED:20250110T205608Z
UID:10000093-1726304400-1726315200@hagerstownaa.org
SUMMARY:Mountain Breakfast
DESCRIPTION:Great service opportunity! \nSetup at 7:00 (Service Opportunity) \nFellowship at 9:00 \nBreakfast at 10:00 \nSpeaker at 11:00 \n$10.00 donation
URL:https://hagerstownaa.org/event/mountain-breakfast-2-2/2024-09-14/
LOCATION:Old Germantown Church of God\, 16924 Raven Rd\, Sabillasville\, MD\, 21780\, United States
GEO:39.7003209;-77.4560092
X-APPLE-STRUCTURED-LOCATION;VALUE=URI;X-ADDRESS=Old Germantown Church of God 16924 Raven Rd Sabillasville MD 21780 United States;X-APPLE-RADIUS=500;X-TITLE=16924 Raven Rd:geo:-77.4560092,39.7003209
END:VEVENT
BEGIN:VEVENT
DTSTART;TZID=America/New_York:20240810T090000
DTEND;TZID=America/New_York:20240810T120000
DTSTAMP:20260423T135744
CREATED:20231220T202026Z
LAST-MODIFIED:20250110T205608Z
UID:10000092-1723280400-1723291200@hagerstownaa.org
SUMMARY:Mountain Breakfast
DESCRIPTION:Great service opportunity! \nSetup at 7:00 (Service Opportunity) \nFellowship at 9:00 \nBreakfast at 10:00 \nSpeaker at 11:00 \n$10.00 donation
URL:https://hagerstownaa.org/event/mountain-breakfast-2-2/2024-08-10/
LOCATION:Old Germantown Church of God\, 16924 Raven Rd\, Sabillasville\, MD\, 21780\, United States
GEO:39.7003209;-77.4560092
X-APPLE-STRUCTURED-LOCATION;VALUE=URI;X-ADDRESS=Old Germantown Church of God 16924 Raven Rd Sabillasville MD 21780 United States;X-APPLE-RADIUS=500;X-TITLE=16924 Raven Rd:geo:-77.4560092,39.7003209
END:VEVENT
BEGIN:VEVENT
DTSTART;TZID=America/New_York:20240713T090000
DTEND;TZID=America/New_York:20240713T120000
DTSTAMP:20260423T135744
CREATED:20231220T202026Z
LAST-MODIFIED:20250110T205608Z
UID:10000091-1720861200-1720872000@hagerstownaa.org
SUMMARY:Mountain Breakfast
DESCRIPTION:Great service opportunity! \nSetup at 7:00 (Service Opportunity) \nFellowship at 9:00 \nBreakfast at 10:00 \nSpeaker at 11:00 \n$10.00 donation
URL:https://hagerstownaa.org/event/mountain-breakfast-2-2/2024-07-13/
LOCATION:Old Germantown Church of God\, 16924 Raven Rd\, Sabillasville\, MD\, 21780\, United States
GEO:39.7003209;-77.4560092
X-APPLE-STRUCTURED-LOCATION;VALUE=URI;X-ADDRESS=Old Germantown Church of God 16924 Raven Rd Sabillasville MD 21780 United States;X-APPLE-RADIUS=500;X-TITLE=16924 Raven Rd:geo:-77.4560092,39.7003209
END:VEVENT
BEGIN:VEVENT
DTSTART;TZID=America/New_York:20240608T090000
DTEND;TZID=America/New_York:20240608T120000
DTSTAMP:20260423T135744
CREATED:20231220T202026Z
LAST-MODIFIED:20250110T205608Z
UID:10000090-1717837200-1717848000@hagerstownaa.org
SUMMARY:Mountain Breakfast
DESCRIPTION:Great service opportunity! \nSetup at 7:00 (Service Opportunity) \nFellowship at 9:00 \nBreakfast at 10:00 \nSpeaker at 11:00 \n$10.00 donation
URL:https://hagerstownaa.org/event/mountain-breakfast-2-2/2024-06-08/
LOCATION:Old Germantown Church of God\, 16924 Raven Rd\, Sabillasville\, MD\, 21780\, United States
GEO:39.7003209;-77.4560092
X-APPLE-STRUCTURED-LOCATION;VALUE=URI;X-ADDRESS=Old Germantown Church of God 16924 Raven Rd Sabillasville MD 21780 United States;X-APPLE-RADIUS=500;X-TITLE=16924 Raven Rd:geo:-77.4560092,39.7003209
END:VEVENT
BEGIN:VEVENT
DTSTART;TZID=America/New_York:20240511T090000
DTEND;TZID=America/New_York:20240511T120000
DTSTAMP:20260423T135744
CREATED:20231220T202026Z
LAST-MODIFIED:20250110T205608Z
UID:10000089-1715418000-1715428800@hagerstownaa.org
SUMMARY:Mountain Breakfast
DESCRIPTION:Great service opportunity! \nSetup at 7:00 (Service Opportunity) \nFellowship at 9:00 \nBreakfast at 10:00 \nSpeaker at 11:00 \n$10.00 donation
URL:https://hagerstownaa.org/event/mountain-breakfast-2-2/2024-05-11/
LOCATION:Old Germantown Church of God\, 16924 Raven Rd\, Sabillasville\, MD\, 21780\, United States
GEO:39.7003209;-77.4560092
X-APPLE-STRUCTURED-LOCATION;VALUE=URI;X-ADDRESS=Old Germantown Church of God 16924 Raven Rd Sabillasville MD 21780 United States;X-APPLE-RADIUS=500;X-TITLE=16924 Raven Rd:geo:-77.4560092,39.7003209
END:VEVENT
BEGIN:VEVENT
DTSTART;TZID=America/New_York:20240413T090000
DTEND;TZID=America/New_York:20240413T120000
DTSTAMP:20260423T135744
CREATED:20231220T202026Z
LAST-MODIFIED:20250110T205608Z
UID:10000088-1712998800-1713009600@hagerstownaa.org
SUMMARY:Mountain Breakfast
DESCRIPTION:Great service opportunity! \nSetup at 7:00 (Service Opportunity) \nFellowship at 9:00 \nBreakfast at 10:00 \nSpeaker at 11:00 \n$10.00 donation
URL:https://hagerstownaa.org/event/mountain-breakfast-2-2/2024-04-13/
LOCATION:Old Germantown Church of God\, 16924 Raven Rd\, Sabillasville\, MD\, 21780\, United States
GEO:39.7003209;-77.4560092
X-APPLE-STRUCTURED-LOCATION;VALUE=URI;X-ADDRESS=Old Germantown Church of God 16924 Raven Rd Sabillasville MD 21780 United States;X-APPLE-RADIUS=500;X-TITLE=16924 Raven Rd:geo:-77.4560092,39.7003209
END:VEVENT
BEGIN:VEVENT
DTSTART;TZID=America/New_York:20240309T090000
DTEND;TZID=America/New_York:20240309T120000
DTSTAMP:20260423T135744
CREATED:20231220T202026Z
LAST-MODIFIED:20250110T205608Z
UID:10000147-1709974800-1709985600@hagerstownaa.org
SUMMARY:Mountain Breakfast
DESCRIPTION:Great service opportunity! \nSetup at 7:00 (Service Opportunity) \nFellowship at 9:00 \nBreakfast at 10:00 \nSpeaker at 11:00 \n$10.00 donation
URL:https://hagerstownaa.org/event/mountain-breakfast-2-2/2024-03-09/
LOCATION:Old Germantown Church of God\, 16924 Raven Rd\, Sabillasville\, MD\, 21780\, United States
GEO:39.7003209;-77.4560092
X-APPLE-STRUCTURED-LOCATION;VALUE=URI;X-ADDRESS=Old Germantown Church of God 16924 Raven Rd Sabillasville MD 21780 United States;X-APPLE-RADIUS=500;X-TITLE=16924 Raven Rd:geo:-77.4560092,39.7003209
END:VEVENT
BEGIN:VEVENT
DTSTART;TZID=America/New_York:20231209T090000
DTEND;TZID=America/New_York:20231209T120000
DTSTAMP:20260423T135744
CREATED:20180222T231644Z
LAST-MODIFIED:20231124T120035Z
UID:10000084-1702112400-1702123200@hagerstownaa.org
SUMMARY:Mountain Breakfast
DESCRIPTION:Great service opportunity! \nSetup at 7:00 (Service Opportunity) \nFellowship at 9:00 \nBreakfast at 10:00 \nSpeaker at 11:00 \n$10.00 donation
URL:https://hagerstownaa.org/event/mountain-breakfast-2/2023-12-09/
LOCATION:Old Germantown Church of God\, 16924 Raven Rd\, Sabillasville\, MD\, 21780\, United States
GEO:39.7003209;-77.4560092
X-APPLE-STRUCTURED-LOCATION;VALUE=URI;X-ADDRESS=Old Germantown Church of God 16924 Raven Rd Sabillasville MD 21780 United States;X-APPLE-RADIUS=500;X-TITLE=16924 Raven Rd:geo:-77.4560092,39.7003209
END:VEVENT
BEGIN:VEVENT
DTSTART;TZID=America/New_York:20231111T090000
DTEND;TZID=America/New_York:20231111T120000
DTSTAMP:20260423T135744
CREATED:20180222T231644Z
LAST-MODIFIED:20231124T120035Z
UID:10000083-1699693200-1699704000@hagerstownaa.org
SUMMARY:Mountain Breakfast
DESCRIPTION:Great service opportunity! \nSetup at 7:00 (Service Opportunity) \nFellowship at 9:00 \nBreakfast at 10:00 \nSpeaker at 11:00 \n$10.00 donation
URL:https://hagerstownaa.org/event/mountain-breakfast-2/2023-11-11/
LOCATION:Old Germantown Church of God\, 16924 Raven Rd\, Sabillasville\, MD\, 21780\, United States
GEO:39.7003209;-77.4560092
X-APPLE-STRUCTURED-LOCATION;VALUE=URI;X-ADDRESS=Old Germantown Church of God 16924 Raven Rd Sabillasville MD 21780 United States;X-APPLE-RADIUS=500;X-TITLE=16924 Raven Rd:geo:-77.4560092,39.7003209
END:VEVENT
BEGIN:VEVENT
DTSTART;TZID=America/New_York:20231014T090000
DTEND;TZID=America/New_York:20231014T120000
DTSTAMP:20260423T135744
CREATED:20180222T231644Z
LAST-MODIFIED:20231124T120035Z
UID:10000082-1697274000-1697284800@hagerstownaa.org
SUMMARY:Mountain Breakfast
DESCRIPTION:Great service opportunity! \nSetup at 7:00 (Service Opportunity) \nFellowship at 9:00 \nBreakfast at 10:00 \nSpeaker at 11:00 \n$10.00 donation
URL:https://hagerstownaa.org/event/mountain-breakfast-2/2023-10-14/
LOCATION:Old Germantown Church of God\, 16924 Raven Rd\, Sabillasville\, MD\, 21780\, United States
GEO:39.7003209;-77.4560092
X-APPLE-STRUCTURED-LOCATION;VALUE=URI;X-ADDRESS=Old Germantown Church of God 16924 Raven Rd Sabillasville MD 21780 United States;X-APPLE-RADIUS=500;X-TITLE=16924 Raven Rd:geo:-77.4560092,39.7003209
END:VEVENT
BEGIN:VEVENT
DTSTART;TZID=America/New_York:20230909T090000
DTEND;TZID=America/New_York:20230909T120000
DTSTAMP:20260423T135744
CREATED:20180222T231644Z
LAST-MODIFIED:20231124T120035Z
UID:10000081-1694250000-1694260800@hagerstownaa.org
SUMMARY:Mountain Breakfast
DESCRIPTION:Great service opportunity! \nSetup at 7:00 (Service Opportunity) \nFellowship at 9:00 \nBreakfast at 10:00 \nSpeaker at 11:00 \n$10.00 donation
URL:https://hagerstownaa.org/event/mountain-breakfast-2/2023-09-09/
LOCATION:Old Germantown Church of God\, 16924 Raven Rd\, Sabillasville\, MD\, 21780\, United States
GEO:39.7003209;-77.4560092
X-APPLE-STRUCTURED-LOCATION;VALUE=URI;X-ADDRESS=Old Germantown Church of God 16924 Raven Rd Sabillasville MD 21780 United States;X-APPLE-RADIUS=500;X-TITLE=16924 Raven Rd:geo:-77.4560092,39.7003209
END:VEVENT
BEGIN:VEVENT
DTSTART;TZID=America/New_York:20230812T090000
DTEND;TZID=America/New_York:20230812T120000
DTSTAMP:20260423T135744
CREATED:20180222T231644Z
LAST-MODIFIED:20231124T120035Z
UID:10000080-1691830800-1691841600@hagerstownaa.org
SUMMARY:Mountain Breakfast
DESCRIPTION:Great service opportunity! \nSetup at 7:00 (Service Opportunity) \nFellowship at 9:00 \nBreakfast at 10:00 \nSpeaker at 11:00 \n$10.00 donation
URL:https://hagerstownaa.org/event/mountain-breakfast-2/2023-08-12/
LOCATION:Old Germantown Church of God\, 16924 Raven Rd\, Sabillasville\, MD\, 21780\, United States
GEO:39.7003209;-77.4560092
X-APPLE-STRUCTURED-LOCATION;VALUE=URI;X-ADDRESS=Old Germantown Church of God 16924 Raven Rd Sabillasville MD 21780 United States;X-APPLE-RADIUS=500;X-TITLE=16924 Raven Rd:geo:-77.4560092,39.7003209
END:VEVENT
END:VCALENDAR