BEGIN:VCALENDAR
VERSION:2.0
PRODID:-//Hagerstown AA - ECPv6.15.20//NONSGML v1.0//EN
CALSCALE:GREGORIAN
METHOD:PUBLISH
X-WR-CALNAME:Hagerstown AA
X-ORIGINAL-URL:https://hagerstownaa.org
X-WR-CALDESC:Events for Hagerstown AA
REFRESH-INTERVAL;VALUE=DURATION:PT1H
X-Robots-Tag:noindex
X-PUBLISHED-TTL:PT1H
BEGIN:VTIMEZONE
TZID:America/New_York
BEGIN:DAYLIGHT
TZOFFSETFROM:-0500
TZOFFSETTO:-0400
TZNAME:EDT
DTSTART:20250309T070000
END:DAYLIGHT
BEGIN:STANDARD
TZOFFSETFROM:-0400
TZOFFSETTO:-0500
TZNAME:EST
DTSTART:20251102T060000
END:STANDARD
BEGIN:DAYLIGHT
TZOFFSETFROM:-0500
TZOFFSETTO:-0400
TZNAME:EDT
DTSTART:20260308T070000
END:DAYLIGHT
BEGIN:STANDARD
TZOFFSETFROM:-0400
TZOFFSETTO:-0500
TZNAME:EST
DTSTART:20261101T060000
END:STANDARD
BEGIN:DAYLIGHT
TZOFFSETFROM:-0500
TZOFFSETTO:-0400
TZNAME:EDT
DTSTART:20270314T070000
END:DAYLIGHT
BEGIN:STANDARD
TZOFFSETFROM:-0400
TZOFFSETTO:-0500
TZNAME:EST
DTSTART:20271107T060000
END:STANDARD
BEGIN:DAYLIGHT
TZOFFSETFROM:-0500
TZOFFSETTO:-0400
TZNAME:EDT
DTSTART:20280312T070000
END:DAYLIGHT
BEGIN:STANDARD
TZOFFSETFROM:-0400
TZOFFSETTO:-0500
TZNAME:EST
DTSTART:20281105T060000
END:STANDARD
END:VTIMEZONE
BEGIN:VEVENT
DTSTART;TZID=America/New_York:20260426T153000
DTEND;TZID=America/New_York:20260426T163000
DTSTAMP:20260423T115555
CREATED:20240702T130853Z
LAST-MODIFIED:20250505T014452Z
UID:10000173-1777217400-1777221000@hagerstownaa.org
SUMMARY:HAIG Meeting
DESCRIPTION:The Hagerstown Area Intergroup (HAIG) meetings are typically held the 4th Sunday of the month\, 3:30pm at Fellowship Hall.
URL:https://hagerstownaa.org/event/haig-meeting-2/2026-04-26/
LOCATION:Fellowship Hall\, 6 N Mulberry St\, Hagerstown\, MD\, 21740\, United States
GEO:39.6402839;-77.7159808
X-APPLE-STRUCTURED-LOCATION;VALUE=URI;X-ADDRESS=Fellowship Hall 6 N Mulberry St Hagerstown MD 21740 United States;X-APPLE-RADIUS=500;X-TITLE=6 N Mulberry St:geo:-77.7159808,39.6402839
END:VEVENT
BEGIN:VEVENT
DTSTART;TZID=America/New_York:20260517T160000
DTEND;TZID=America/New_York:20260517T170000
DTSTAMP:20260423T115555
CREATED:20241123T234112Z
LAST-MODIFIED:20241124T120042Z
UID:10000293-1779033600-1779037200@hagerstownaa.org
SUMMARY:District 20 Meeting
DESCRIPTION:District 20 Meetings take place the 3rd Sunday of each month\, 4:00pm at Fellowship Hall.
URL:https://hagerstownaa.org/event/district-20-meeting-2/2026-05-17/
LOCATION:Fellowship Hall\, 6 N Mulberry St\, Hagerstown\, MD\, 21740\, United States
GEO:39.6402839;-77.7159808
X-APPLE-STRUCTURED-LOCATION;VALUE=URI;X-ADDRESS=Fellowship Hall 6 N Mulberry St Hagerstown MD 21740 United States;X-APPLE-RADIUS=500;X-TITLE=6 N Mulberry St:geo:-77.7159808,39.6402839
END:VEVENT
BEGIN:VEVENT
DTSTART;TZID=America/New_York:20260524T153000
DTEND;TZID=America/New_York:20260524T163000
DTSTAMP:20260423T115555
CREATED:20240702T130853Z
LAST-MODIFIED:20250505T014452Z
UID:10000174-1779636600-1779640200@hagerstownaa.org
SUMMARY:HAIG Meeting
DESCRIPTION:The Hagerstown Area Intergroup (HAIG) meetings are typically held the 4th Sunday of the month\, 3:30pm at Fellowship Hall.
URL:https://hagerstownaa.org/event/haig-meeting-2/2026-05-24/
LOCATION:Fellowship Hall\, 6 N Mulberry St\, Hagerstown\, MD\, 21740\, United States
GEO:39.6402839;-77.7159808
X-APPLE-STRUCTURED-LOCATION;VALUE=URI;X-ADDRESS=Fellowship Hall 6 N Mulberry St Hagerstown MD 21740 United States;X-APPLE-RADIUS=500;X-TITLE=6 N Mulberry St:geo:-77.7159808,39.6402839
END:VEVENT
BEGIN:VEVENT
DTSTART;TZID=America/New_York:20260621T160000
DTEND;TZID=America/New_York:20260621T170000
DTSTAMP:20260423T115555
CREATED:20241123T234112Z
LAST-MODIFIED:20241124T120042Z
UID:10000294-1782057600-1782061200@hagerstownaa.org
SUMMARY:District 20 Meeting
DESCRIPTION:District 20 Meetings take place the 3rd Sunday of each month\, 4:00pm at Fellowship Hall.
URL:https://hagerstownaa.org/event/district-20-meeting-2/2026-06-21/
LOCATION:Fellowship Hall\, 6 N Mulberry St\, Hagerstown\, MD\, 21740\, United States
GEO:39.6402839;-77.7159808
X-APPLE-STRUCTURED-LOCATION;VALUE=URI;X-ADDRESS=Fellowship Hall 6 N Mulberry St Hagerstown MD 21740 United States;X-APPLE-RADIUS=500;X-TITLE=6 N Mulberry St:geo:-77.7159808,39.6402839
END:VEVENT
BEGIN:VEVENT
DTSTART;TZID=America/New_York:20260628T153000
DTEND;TZID=America/New_York:20260628T163000
DTSTAMP:20260423T115555
CREATED:20240702T130853Z
LAST-MODIFIED:20250505T014452Z
UID:10000175-1782660600-1782664200@hagerstownaa.org
SUMMARY:HAIG Meeting
DESCRIPTION:The Hagerstown Area Intergroup (HAIG) meetings are typically held the 4th Sunday of the month\, 3:30pm at Fellowship Hall.
URL:https://hagerstownaa.org/event/haig-meeting-2/2026-06-28/
LOCATION:Fellowship Hall\, 6 N Mulberry St\, Hagerstown\, MD\, 21740\, United States
GEO:39.6402839;-77.7159808
X-APPLE-STRUCTURED-LOCATION;VALUE=URI;X-ADDRESS=Fellowship Hall 6 N Mulberry St Hagerstown MD 21740 United States;X-APPLE-RADIUS=500;X-TITLE=6 N Mulberry St:geo:-77.7159808,39.6402839
END:VEVENT
BEGIN:VEVENT
DTSTART;TZID=America/New_York:20260719T160000
DTEND;TZID=America/New_York:20260719T170000
DTSTAMP:20260423T115555
CREATED:20241123T234112Z
LAST-MODIFIED:20241124T120042Z
UID:10000295-1784476800-1784480400@hagerstownaa.org
SUMMARY:District 20 Meeting
DESCRIPTION:District 20 Meetings take place the 3rd Sunday of each month\, 4:00pm at Fellowship Hall.
URL:https://hagerstownaa.org/event/district-20-meeting-2/2026-07-19/
LOCATION:Fellowship Hall\, 6 N Mulberry St\, Hagerstown\, MD\, 21740\, United States
GEO:39.6402839;-77.7159808
X-APPLE-STRUCTURED-LOCATION;VALUE=URI;X-ADDRESS=Fellowship Hall 6 N Mulberry St Hagerstown MD 21740 United States;X-APPLE-RADIUS=500;X-TITLE=6 N Mulberry St:geo:-77.7159808,39.6402839
END:VEVENT
BEGIN:VEVENT
DTSTART;TZID=America/New_York:20260726T153000
DTEND;TZID=America/New_York:20260726T163000
DTSTAMP:20260423T115555
CREATED:20240702T130853Z
LAST-MODIFIED:20250505T014452Z
UID:10000176-1785079800-1785083400@hagerstownaa.org
SUMMARY:HAIG Meeting
DESCRIPTION:The Hagerstown Area Intergroup (HAIG) meetings are typically held the 4th Sunday of the month\, 3:30pm at Fellowship Hall.
URL:https://hagerstownaa.org/event/haig-meeting-2/2026-07-26/
LOCATION:Fellowship Hall\, 6 N Mulberry St\, Hagerstown\, MD\, 21740\, United States
GEO:39.6402839;-77.7159808
X-APPLE-STRUCTURED-LOCATION;VALUE=URI;X-ADDRESS=Fellowship Hall 6 N Mulberry St Hagerstown MD 21740 United States;X-APPLE-RADIUS=500;X-TITLE=6 N Mulberry St:geo:-77.7159808,39.6402839
END:VEVENT
BEGIN:VEVENT
DTSTART;TZID=America/New_York:20260816T160000
DTEND;TZID=America/New_York:20260816T170000
DTSTAMP:20260423T115555
CREATED:20241123T234112Z
LAST-MODIFIED:20241124T120042Z
UID:10000296-1786896000-1786899600@hagerstownaa.org
SUMMARY:District 20 Meeting
DESCRIPTION:District 20 Meetings take place the 3rd Sunday of each month\, 4:00pm at Fellowship Hall.
URL:https://hagerstownaa.org/event/district-20-meeting-2/2026-08-16/
LOCATION:Fellowship Hall\, 6 N Mulberry St\, Hagerstown\, MD\, 21740\, United States
GEO:39.6402839;-77.7159808
X-APPLE-STRUCTURED-LOCATION;VALUE=URI;X-ADDRESS=Fellowship Hall 6 N Mulberry St Hagerstown MD 21740 United States;X-APPLE-RADIUS=500;X-TITLE=6 N Mulberry St:geo:-77.7159808,39.6402839
END:VEVENT
BEGIN:VEVENT
DTSTART;TZID=America/New_York:20260823T153000
DTEND;TZID=America/New_York:20260823T163000
DTSTAMP:20260423T115555
CREATED:20240702T130853Z
LAST-MODIFIED:20250505T014452Z
UID:10000177-1787499000-1787502600@hagerstownaa.org
SUMMARY:HAIG Meeting
DESCRIPTION:The Hagerstown Area Intergroup (HAIG) meetings are typically held the 4th Sunday of the month\, 3:30pm at Fellowship Hall.
URL:https://hagerstownaa.org/event/haig-meeting-2/2026-08-23/
LOCATION:Fellowship Hall\, 6 N Mulberry St\, Hagerstown\, MD\, 21740\, United States
GEO:39.6402839;-77.7159808
X-APPLE-STRUCTURED-LOCATION;VALUE=URI;X-ADDRESS=Fellowship Hall 6 N Mulberry St Hagerstown MD 21740 United States;X-APPLE-RADIUS=500;X-TITLE=6 N Mulberry St:geo:-77.7159808,39.6402839
END:VEVENT
BEGIN:VEVENT
DTSTART;TZID=America/New_York:20260920T160000
DTEND;TZID=America/New_York:20260920T170000
DTSTAMP:20260423T115555
CREATED:20241123T234112Z
LAST-MODIFIED:20241124T120042Z
UID:10000297-1789920000-1789923600@hagerstownaa.org
SUMMARY:District 20 Meeting
DESCRIPTION:District 20 Meetings take place the 3rd Sunday of each month\, 4:00pm at Fellowship Hall.
URL:https://hagerstownaa.org/event/district-20-meeting-2/2026-09-20/
LOCATION:Fellowship Hall\, 6 N Mulberry St\, Hagerstown\, MD\, 21740\, United States
GEO:39.6402839;-77.7159808
X-APPLE-STRUCTURED-LOCATION;VALUE=URI;X-ADDRESS=Fellowship Hall 6 N Mulberry St Hagerstown MD 21740 United States;X-APPLE-RADIUS=500;X-TITLE=6 N Mulberry St:geo:-77.7159808,39.6402839
END:VEVENT
BEGIN:VEVENT
DTSTART;TZID=America/New_York:20260927T153000
DTEND;TZID=America/New_York:20260927T163000
DTSTAMP:20260423T115555
CREATED:20240702T130853Z
LAST-MODIFIED:20250505T014452Z
UID:10000178-1790523000-1790526600@hagerstownaa.org
SUMMARY:HAIG Meeting
DESCRIPTION:The Hagerstown Area Intergroup (HAIG) meetings are typically held the 4th Sunday of the month\, 3:30pm at Fellowship Hall.
URL:https://hagerstownaa.org/event/haig-meeting-2/2026-09-27/
LOCATION:Fellowship Hall\, 6 N Mulberry St\, Hagerstown\, MD\, 21740\, United States
GEO:39.6402839;-77.7159808
X-APPLE-STRUCTURED-LOCATION;VALUE=URI;X-ADDRESS=Fellowship Hall 6 N Mulberry St Hagerstown MD 21740 United States;X-APPLE-RADIUS=500;X-TITLE=6 N Mulberry St:geo:-77.7159808,39.6402839
END:VEVENT
BEGIN:VEVENT
DTSTART;TZID=America/New_York:20261018T160000
DTEND;TZID=America/New_York:20261018T170000
DTSTAMP:20260423T115555
CREATED:20241123T234112Z
LAST-MODIFIED:20241124T120042Z
UID:10000298-1792339200-1792342800@hagerstownaa.org
SUMMARY:District 20 Meeting
DESCRIPTION:District 20 Meetings take place the 3rd Sunday of each month\, 4:00pm at Fellowship Hall.
URL:https://hagerstownaa.org/event/district-20-meeting-2/2026-10-18/
LOCATION:Fellowship Hall\, 6 N Mulberry St\, Hagerstown\, MD\, 21740\, United States
GEO:39.6402839;-77.7159808
X-APPLE-STRUCTURED-LOCATION;VALUE=URI;X-ADDRESS=Fellowship Hall 6 N Mulberry St Hagerstown MD 21740 United States;X-APPLE-RADIUS=500;X-TITLE=6 N Mulberry St:geo:-77.7159808,39.6402839
END:VEVENT
BEGIN:VEVENT
DTSTART;TZID=America/New_York:20261025T153000
DTEND;TZID=America/New_York:20261025T163000
DTSTAMP:20260423T115555
CREATED:20240702T130853Z
LAST-MODIFIED:20250505T014452Z
UID:10000179-1792942200-1792945800@hagerstownaa.org
SUMMARY:HAIG Meeting
DESCRIPTION:The Hagerstown Area Intergroup (HAIG) meetings are typically held the 4th Sunday of the month\, 3:30pm at Fellowship Hall.
URL:https://hagerstownaa.org/event/haig-meeting-2/2026-10-25/
LOCATION:Fellowship Hall\, 6 N Mulberry St\, Hagerstown\, MD\, 21740\, United States
GEO:39.6402839;-77.7159808
X-APPLE-STRUCTURED-LOCATION;VALUE=URI;X-ADDRESS=Fellowship Hall 6 N Mulberry St Hagerstown MD 21740 United States;X-APPLE-RADIUS=500;X-TITLE=6 N Mulberry St:geo:-77.7159808,39.6402839
END:VEVENT
BEGIN:VEVENT
DTSTART;TZID=America/New_York:20261115T160000
DTEND;TZID=America/New_York:20261115T170000
DTSTAMP:20260423T115555
CREATED:20241123T234112Z
LAST-MODIFIED:20241124T120042Z
UID:10000299-1794758400-1794762000@hagerstownaa.org
SUMMARY:District 20 Meeting
DESCRIPTION:District 20 Meetings take place the 3rd Sunday of each month\, 4:00pm at Fellowship Hall.
URL:https://hagerstownaa.org/event/district-20-meeting-2/2026-11-15/
LOCATION:Fellowship Hall\, 6 N Mulberry St\, Hagerstown\, MD\, 21740\, United States
GEO:39.6402839;-77.7159808
X-APPLE-STRUCTURED-LOCATION;VALUE=URI;X-ADDRESS=Fellowship Hall 6 N Mulberry St Hagerstown MD 21740 United States;X-APPLE-RADIUS=500;X-TITLE=6 N Mulberry St:geo:-77.7159808,39.6402839
END:VEVENT
BEGIN:VEVENT
DTSTART;TZID=America/New_York:20261122T153000
DTEND;TZID=America/New_York:20261122T163000
DTSTAMP:20260423T115555
CREATED:20240702T130853Z
LAST-MODIFIED:20250505T014452Z
UID:10000180-1795361400-1795365000@hagerstownaa.org
SUMMARY:HAIG Meeting
DESCRIPTION:The Hagerstown Area Intergroup (HAIG) meetings are typically held the 4th Sunday of the month\, 3:30pm at Fellowship Hall.
URL:https://hagerstownaa.org/event/haig-meeting-2/2026-11-22/
LOCATION:Fellowship Hall\, 6 N Mulberry St\, Hagerstown\, MD\, 21740\, United States
GEO:39.6402839;-77.7159808
X-APPLE-STRUCTURED-LOCATION;VALUE=URI;X-ADDRESS=Fellowship Hall 6 N Mulberry St Hagerstown MD 21740 United States;X-APPLE-RADIUS=500;X-TITLE=6 N Mulberry St:geo:-77.7159808,39.6402839
END:VEVENT
BEGIN:VEVENT
DTSTART;TZID=America/New_York:20261220T160000
DTEND;TZID=America/New_York:20261220T170000
DTSTAMP:20260423T115555
CREATED:20241123T234112Z
LAST-MODIFIED:20241124T120042Z
UID:10000300-1797782400-1797786000@hagerstownaa.org
SUMMARY:District 20 Meeting
DESCRIPTION:District 20 Meetings take place the 3rd Sunday of each month\, 4:00pm at Fellowship Hall.
URL:https://hagerstownaa.org/event/district-20-meeting-2/2026-12-20/
LOCATION:Fellowship Hall\, 6 N Mulberry St\, Hagerstown\, MD\, 21740\, United States
GEO:39.6402839;-77.7159808
X-APPLE-STRUCTURED-LOCATION;VALUE=URI;X-ADDRESS=Fellowship Hall 6 N Mulberry St Hagerstown MD 21740 United States;X-APPLE-RADIUS=500;X-TITLE=6 N Mulberry St:geo:-77.7159808,39.6402839
END:VEVENT
BEGIN:VEVENT
DTSTART;TZID=America/New_York:20261227T153000
DTEND;TZID=America/New_York:20261227T163000
DTSTAMP:20260423T115555
CREATED:20240702T130853Z
LAST-MODIFIED:20250505T014452Z
UID:10000181-1798385400-1798389000@hagerstownaa.org
SUMMARY:HAIG Meeting
DESCRIPTION:The Hagerstown Area Intergroup (HAIG) meetings are typically held the 4th Sunday of the month\, 3:30pm at Fellowship Hall.
URL:https://hagerstownaa.org/event/haig-meeting-2/2026-12-27/
LOCATION:Fellowship Hall\, 6 N Mulberry St\, Hagerstown\, MD\, 21740\, United States
GEO:39.6402839;-77.7159808
X-APPLE-STRUCTURED-LOCATION;VALUE=URI;X-ADDRESS=Fellowship Hall 6 N Mulberry St Hagerstown MD 21740 United States;X-APPLE-RADIUS=500;X-TITLE=6 N Mulberry St:geo:-77.7159808,39.6402839
END:VEVENT
BEGIN:VEVENT
DTSTART;TZID=America/New_York:20270117T160000
DTEND;TZID=America/New_York:20270117T170000
DTSTAMP:20260423T115555
CREATED:20241123T234112Z
LAST-MODIFIED:20241124T120042Z
UID:10000301-1800201600-1800205200@hagerstownaa.org
SUMMARY:District 20 Meeting
DESCRIPTION:District 20 Meetings take place the 3rd Sunday of each month\, 4:00pm at Fellowship Hall.
URL:https://hagerstownaa.org/event/district-20-meeting-2/2027-01-17/
LOCATION:Fellowship Hall\, 6 N Mulberry St\, Hagerstown\, MD\, 21740\, United States
GEO:39.6402839;-77.7159808
X-APPLE-STRUCTURED-LOCATION;VALUE=URI;X-ADDRESS=Fellowship Hall 6 N Mulberry St Hagerstown MD 21740 United States;X-APPLE-RADIUS=500;X-TITLE=6 N Mulberry St:geo:-77.7159808,39.6402839
END:VEVENT
BEGIN:VEVENT
DTSTART;TZID=America/New_York:20270124T153000
DTEND;TZID=America/New_York:20270124T163000
DTSTAMP:20260423T115555
CREATED:20240702T130853Z
LAST-MODIFIED:20250505T014452Z
UID:10000182-1800804600-1800808200@hagerstownaa.org
SUMMARY:HAIG Meeting
DESCRIPTION:The Hagerstown Area Intergroup (HAIG) meetings are typically held the 4th Sunday of the month\, 3:30pm at Fellowship Hall.
URL:https://hagerstownaa.org/event/haig-meeting-2/2027-01-24/
LOCATION:Fellowship Hall\, 6 N Mulberry St\, Hagerstown\, MD\, 21740\, United States
GEO:39.6402839;-77.7159808
X-APPLE-STRUCTURED-LOCATION;VALUE=URI;X-ADDRESS=Fellowship Hall 6 N Mulberry St Hagerstown MD 21740 United States;X-APPLE-RADIUS=500;X-TITLE=6 N Mulberry St:geo:-77.7159808,39.6402839
END:VEVENT
BEGIN:VEVENT
DTSTART;TZID=America/New_York:20270221T160000
DTEND;TZID=America/New_York:20270221T170000
DTSTAMP:20260423T115555
CREATED:20241123T234112Z
LAST-MODIFIED:20241124T120042Z
UID:10000302-1803225600-1803229200@hagerstownaa.org
SUMMARY:District 20 Meeting
DESCRIPTION:District 20 Meetings take place the 3rd Sunday of each month\, 4:00pm at Fellowship Hall.
URL:https://hagerstownaa.org/event/district-20-meeting-2/2027-02-21/
LOCATION:Fellowship Hall\, 6 N Mulberry St\, Hagerstown\, MD\, 21740\, United States
GEO:39.6402839;-77.7159808
X-APPLE-STRUCTURED-LOCATION;VALUE=URI;X-ADDRESS=Fellowship Hall 6 N Mulberry St Hagerstown MD 21740 United States;X-APPLE-RADIUS=500;X-TITLE=6 N Mulberry St:geo:-77.7159808,39.6402839
END:VEVENT
BEGIN:VEVENT
DTSTART;TZID=America/New_York:20270228T153000
DTEND;TZID=America/New_York:20270228T163000
DTSTAMP:20260423T115555
CREATED:20240702T130853Z
LAST-MODIFIED:20250505T014452Z
UID:10000183-1803828600-1803832200@hagerstownaa.org
SUMMARY:HAIG Meeting
DESCRIPTION:The Hagerstown Area Intergroup (HAIG) meetings are typically held the 4th Sunday of the month\, 3:30pm at Fellowship Hall.
URL:https://hagerstownaa.org/event/haig-meeting-2/2027-02-28/
LOCATION:Fellowship Hall\, 6 N Mulberry St\, Hagerstown\, MD\, 21740\, United States
GEO:39.6402839;-77.7159808
X-APPLE-STRUCTURED-LOCATION;VALUE=URI;X-ADDRESS=Fellowship Hall 6 N Mulberry St Hagerstown MD 21740 United States;X-APPLE-RADIUS=500;X-TITLE=6 N Mulberry St:geo:-77.7159808,39.6402839
END:VEVENT
BEGIN:VEVENT
DTSTART;TZID=America/New_York:20270321T160000
DTEND;TZID=America/New_York:20270321T170000
DTSTAMP:20260423T115555
CREATED:20241123T234112Z
LAST-MODIFIED:20241124T120042Z
UID:10000303-1805644800-1805648400@hagerstownaa.org
SUMMARY:District 20 Meeting
DESCRIPTION:District 20 Meetings take place the 3rd Sunday of each month\, 4:00pm at Fellowship Hall.
URL:https://hagerstownaa.org/event/district-20-meeting-2/2027-03-21/
LOCATION:Fellowship Hall\, 6 N Mulberry St\, Hagerstown\, MD\, 21740\, United States
GEO:39.6402839;-77.7159808
X-APPLE-STRUCTURED-LOCATION;VALUE=URI;X-ADDRESS=Fellowship Hall 6 N Mulberry St Hagerstown MD 21740 United States;X-APPLE-RADIUS=500;X-TITLE=6 N Mulberry St:geo:-77.7159808,39.6402839
END:VEVENT
BEGIN:VEVENT
DTSTART;TZID=America/New_York:20270328T153000
DTEND;TZID=America/New_York:20270328T163000
DTSTAMP:20260423T115555
CREATED:20240702T130853Z
LAST-MODIFIED:20250505T014452Z
UID:10000184-1806247800-1806251400@hagerstownaa.org
SUMMARY:HAIG Meeting
DESCRIPTION:The Hagerstown Area Intergroup (HAIG) meetings are typically held the 4th Sunday of the month\, 3:30pm at Fellowship Hall.
URL:https://hagerstownaa.org/event/haig-meeting-2/2027-03-28/
LOCATION:Fellowship Hall\, 6 N Mulberry St\, Hagerstown\, MD\, 21740\, United States
GEO:39.6402839;-77.7159808
X-APPLE-STRUCTURED-LOCATION;VALUE=URI;X-ADDRESS=Fellowship Hall 6 N Mulberry St Hagerstown MD 21740 United States;X-APPLE-RADIUS=500;X-TITLE=6 N Mulberry St:geo:-77.7159808,39.6402839
END:VEVENT
BEGIN:VEVENT
DTSTART;TZID=America/New_York:20270418T160000
DTEND;TZID=America/New_York:20270418T170000
DTSTAMP:20260423T115555
CREATED:20241123T234112Z
LAST-MODIFIED:20241124T120042Z
UID:10000304-1808064000-1808067600@hagerstownaa.org
SUMMARY:District 20 Meeting
DESCRIPTION:District 20 Meetings take place the 3rd Sunday of each month\, 4:00pm at Fellowship Hall.
URL:https://hagerstownaa.org/event/district-20-meeting-2/2027-04-18/
LOCATION:Fellowship Hall\, 6 N Mulberry St\, Hagerstown\, MD\, 21740\, United States
GEO:39.6402839;-77.7159808
X-APPLE-STRUCTURED-LOCATION;VALUE=URI;X-ADDRESS=Fellowship Hall 6 N Mulberry St Hagerstown MD 21740 United States;X-APPLE-RADIUS=500;X-TITLE=6 N Mulberry St:geo:-77.7159808,39.6402839
END:VEVENT
BEGIN:VEVENT
DTSTART;TZID=America/New_York:20270425T153000
DTEND;TZID=America/New_York:20270425T163000
DTSTAMP:20260423T115555
CREATED:20240702T130853Z
LAST-MODIFIED:20250505T014452Z
UID:10000185-1808667000-1808670600@hagerstownaa.org
SUMMARY:HAIG Meeting
DESCRIPTION:The Hagerstown Area Intergroup (HAIG) meetings are typically held the 4th Sunday of the month\, 3:30pm at Fellowship Hall.
URL:https://hagerstownaa.org/event/haig-meeting-2/2027-04-25/
LOCATION:Fellowship Hall\, 6 N Mulberry St\, Hagerstown\, MD\, 21740\, United States
GEO:39.6402839;-77.7159808
X-APPLE-STRUCTURED-LOCATION;VALUE=URI;X-ADDRESS=Fellowship Hall 6 N Mulberry St Hagerstown MD 21740 United States;X-APPLE-RADIUS=500;X-TITLE=6 N Mulberry St:geo:-77.7159808,39.6402839
END:VEVENT
BEGIN:VEVENT
DTSTART;TZID=America/New_York:20270516T160000
DTEND;TZID=America/New_York:20270516T170000
DTSTAMP:20260423T115555
CREATED:20241123T234112Z
LAST-MODIFIED:20241124T120042Z
UID:10000305-1810483200-1810486800@hagerstownaa.org
SUMMARY:District 20 Meeting
DESCRIPTION:District 20 Meetings take place the 3rd Sunday of each month\, 4:00pm at Fellowship Hall.
URL:https://hagerstownaa.org/event/district-20-meeting-2/2027-05-16/
LOCATION:Fellowship Hall\, 6 N Mulberry St\, Hagerstown\, MD\, 21740\, United States
GEO:39.6402839;-77.7159808
X-APPLE-STRUCTURED-LOCATION;VALUE=URI;X-ADDRESS=Fellowship Hall 6 N Mulberry St Hagerstown MD 21740 United States;X-APPLE-RADIUS=500;X-TITLE=6 N Mulberry St:geo:-77.7159808,39.6402839
END:VEVENT
BEGIN:VEVENT
DTSTART;TZID=America/New_York:20270523T153000
DTEND;TZID=America/New_York:20270523T163000
DTSTAMP:20260423T115555
CREATED:20240702T130853Z
LAST-MODIFIED:20250505T014452Z
UID:10000186-1811086200-1811089800@hagerstownaa.org
SUMMARY:HAIG Meeting
DESCRIPTION:The Hagerstown Area Intergroup (HAIG) meetings are typically held the 4th Sunday of the month\, 3:30pm at Fellowship Hall.
URL:https://hagerstownaa.org/event/haig-meeting-2/2027-05-23/
LOCATION:Fellowship Hall\, 6 N Mulberry St\, Hagerstown\, MD\, 21740\, United States
GEO:39.6402839;-77.7159808
X-APPLE-STRUCTURED-LOCATION;VALUE=URI;X-ADDRESS=Fellowship Hall 6 N Mulberry St Hagerstown MD 21740 United States;X-APPLE-RADIUS=500;X-TITLE=6 N Mulberry St:geo:-77.7159808,39.6402839
END:VEVENT
BEGIN:VEVENT
DTSTART;TZID=America/New_York:20270620T160000
DTEND;TZID=America/New_York:20270620T170000
DTSTAMP:20260423T115555
CREATED:20241123T234112Z
LAST-MODIFIED:20241124T120042Z
UID:10000306-1813507200-1813510800@hagerstownaa.org
SUMMARY:District 20 Meeting
DESCRIPTION:District 20 Meetings take place the 3rd Sunday of each month\, 4:00pm at Fellowship Hall.
URL:https://hagerstownaa.org/event/district-20-meeting-2/2027-06-20/
LOCATION:Fellowship Hall\, 6 N Mulberry St\, Hagerstown\, MD\, 21740\, United States
GEO:39.6402839;-77.7159808
X-APPLE-STRUCTURED-LOCATION;VALUE=URI;X-ADDRESS=Fellowship Hall 6 N Mulberry St Hagerstown MD 21740 United States;X-APPLE-RADIUS=500;X-TITLE=6 N Mulberry St:geo:-77.7159808,39.6402839
END:VEVENT
BEGIN:VEVENT
DTSTART;TZID=America/New_York:20270627T153000
DTEND;TZID=America/New_York:20270627T163000
DTSTAMP:20260423T115555
CREATED:20240702T130853Z
LAST-MODIFIED:20250505T014452Z
UID:10000187-1814110200-1814113800@hagerstownaa.org
SUMMARY:HAIG Meeting
DESCRIPTION:The Hagerstown Area Intergroup (HAIG) meetings are typically held the 4th Sunday of the month\, 3:30pm at Fellowship Hall.
URL:https://hagerstownaa.org/event/haig-meeting-2/2027-06-27/
LOCATION:Fellowship Hall\, 6 N Mulberry St\, Hagerstown\, MD\, 21740\, United States
GEO:39.6402839;-77.7159808
X-APPLE-STRUCTURED-LOCATION;VALUE=URI;X-ADDRESS=Fellowship Hall 6 N Mulberry St Hagerstown MD 21740 United States;X-APPLE-RADIUS=500;X-TITLE=6 N Mulberry St:geo:-77.7159808,39.6402839
END:VEVENT
BEGIN:VEVENT
DTSTART;TZID=America/New_York:20270718T160000
DTEND;TZID=America/New_York:20270718T170000
DTSTAMP:20260423T115555
CREATED:20241123T234112Z
LAST-MODIFIED:20241124T120042Z
UID:10000307-1815926400-1815930000@hagerstownaa.org
SUMMARY:District 20 Meeting
DESCRIPTION:District 20 Meetings take place the 3rd Sunday of each month\, 4:00pm at Fellowship Hall.
URL:https://hagerstownaa.org/event/district-20-meeting-2/2027-07-18/
LOCATION:Fellowship Hall\, 6 N Mulberry St\, Hagerstown\, MD\, 21740\, United States
GEO:39.6402839;-77.7159808
X-APPLE-STRUCTURED-LOCATION;VALUE=URI;X-ADDRESS=Fellowship Hall 6 N Mulberry St Hagerstown MD 21740 United States;X-APPLE-RADIUS=500;X-TITLE=6 N Mulberry St:geo:-77.7159808,39.6402839
END:VEVENT
END:VCALENDAR