BEGIN:VCALENDAR
VERSION:2.0
PRODID:-//Hagerstown AA - ECPv6.15.20//NONSGML v1.0//EN
CALSCALE:GREGORIAN
METHOD:PUBLISH
X-ORIGINAL-URL:https://hagerstownaa.org
X-WR-CALDESC:Events for Hagerstown AA
REFRESH-INTERVAL;VALUE=DURATION:PT1H
X-Robots-Tag:noindex
X-PUBLISHED-TTL:PT1H
BEGIN:VTIMEZONE
TZID:America/New_York
BEGIN:DAYLIGHT
TZOFFSETFROM:-0500
TZOFFSETTO:-0400
TZNAME:EDT
DTSTART:20240310T070000
END:DAYLIGHT
BEGIN:STANDARD
TZOFFSETFROM:-0400
TZOFFSETTO:-0500
TZNAME:EST
DTSTART:20241103T060000
END:STANDARD
BEGIN:DAYLIGHT
TZOFFSETFROM:-0500
TZOFFSETTO:-0400
TZNAME:EDT
DTSTART:20250309T070000
END:DAYLIGHT
BEGIN:STANDARD
TZOFFSETFROM:-0400
TZOFFSETTO:-0500
TZNAME:EST
DTSTART:20251102T060000
END:STANDARD
BEGIN:DAYLIGHT
TZOFFSETFROM:-0500
TZOFFSETTO:-0400
TZNAME:EDT
DTSTART:20260308T070000
END:DAYLIGHT
BEGIN:STANDARD
TZOFFSETFROM:-0400
TZOFFSETTO:-0500
TZNAME:EST
DTSTART:20261101T060000
END:STANDARD
BEGIN:DAYLIGHT
TZOFFSETFROM:-0500
TZOFFSETTO:-0400
TZNAME:EDT
DTSTART:20270314T070000
END:DAYLIGHT
BEGIN:STANDARD
TZOFFSETFROM:-0400
TZOFFSETTO:-0500
TZNAME:EST
DTSTART:20271107T060000
END:STANDARD
END:VTIMEZONE
BEGIN:VEVENT
DTSTART;TZID=America/New_York:20260419T160000
DTEND;TZID=America/New_York:20260419T170000
DTSTAMP:20260423T132813
CREATED:20241123T234112Z
LAST-MODIFIED:20241124T120042Z
UID:10000292-1776614400-1776618000@hagerstownaa.org
SUMMARY:District 20 Meeting
DESCRIPTION:District 20 Meetings take place the 3rd Sunday of each month\, 4:00pm at Fellowship Hall.
URL:https://hagerstownaa.org/event/district-20-meeting-2/2026-04-19/
LOCATION:Fellowship Hall\, 6 N Mulberry St\, Hagerstown\, MD\, 21740\, United States
GEO:39.6402839;-77.7159808
X-APPLE-STRUCTURED-LOCATION;VALUE=URI;X-ADDRESS=Fellowship Hall 6 N Mulberry St Hagerstown MD 21740 United States;X-APPLE-RADIUS=500;X-TITLE=6 N Mulberry St:geo:-77.7159808,39.6402839
END:VEVENT
BEGIN:VEVENT
DTSTART;TZID=America/New_York:20260322T153000
DTEND;TZID=America/New_York:20260322T163000
DTSTAMP:20260423T132813
CREATED:20240702T130853Z
LAST-MODIFIED:20250505T014452Z
UID:10000172-1774193400-1774197000@hagerstownaa.org
SUMMARY:HAIG Meeting
DESCRIPTION:The Hagerstown Area Intergroup (HAIG) meetings are typically held the 4th Sunday of the month\, 3:30pm at Fellowship Hall.
URL:https://hagerstownaa.org/event/haig-meeting-2/2026-03-22/
LOCATION:Fellowship Hall\, 6 N Mulberry St\, Hagerstown\, MD\, 21740\, United States
GEO:39.6402839;-77.7159808
X-APPLE-STRUCTURED-LOCATION;VALUE=URI;X-ADDRESS=Fellowship Hall 6 N Mulberry St Hagerstown MD 21740 United States;X-APPLE-RADIUS=500;X-TITLE=6 N Mulberry St:geo:-77.7159808,39.6402839
END:VEVENT
BEGIN:VEVENT
DTSTART;TZID=America/New_York:20260315T160000
DTEND;TZID=America/New_York:20260315T170000
DTSTAMP:20260423T132813
CREATED:20241123T234112Z
LAST-MODIFIED:20241124T120042Z
UID:10000291-1773590400-1773594000@hagerstownaa.org
SUMMARY:District 20 Meeting
DESCRIPTION:District 20 Meetings take place the 3rd Sunday of each month\, 4:00pm at Fellowship Hall.
URL:https://hagerstownaa.org/event/district-20-meeting-2/2026-03-15/
LOCATION:Fellowship Hall\, 6 N Mulberry St\, Hagerstown\, MD\, 21740\, United States
GEO:39.6402839;-77.7159808
X-APPLE-STRUCTURED-LOCATION;VALUE=URI;X-ADDRESS=Fellowship Hall 6 N Mulberry St Hagerstown MD 21740 United States;X-APPLE-RADIUS=500;X-TITLE=6 N Mulberry St:geo:-77.7159808,39.6402839
END:VEVENT
BEGIN:VEVENT
DTSTART;TZID=America/New_York:20260222T153000
DTEND;TZID=America/New_York:20260222T163000
DTSTAMP:20260423T132813
CREATED:20240702T130853Z
LAST-MODIFIED:20250505T014452Z
UID:10000171-1771774200-1771777800@hagerstownaa.org
SUMMARY:HAIG Meeting
DESCRIPTION:The Hagerstown Area Intergroup (HAIG) meetings are typically held the 4th Sunday of the month\, 3:30pm at Fellowship Hall.
URL:https://hagerstownaa.org/event/haig-meeting-2/2026-02-22/
LOCATION:Fellowship Hall\, 6 N Mulberry St\, Hagerstown\, MD\, 21740\, United States
GEO:39.6402839;-77.7159808
X-APPLE-STRUCTURED-LOCATION;VALUE=URI;X-ADDRESS=Fellowship Hall 6 N Mulberry St Hagerstown MD 21740 United States;X-APPLE-RADIUS=500;X-TITLE=6 N Mulberry St:geo:-77.7159808,39.6402839
END:VEVENT
BEGIN:VEVENT
DTSTART;TZID=America/New_York:20260215T160000
DTEND;TZID=America/New_York:20260215T170000
DTSTAMP:20260423T132813
CREATED:20241123T234112Z
LAST-MODIFIED:20241124T120042Z
UID:10000290-1771171200-1771174800@hagerstownaa.org
SUMMARY:District 20 Meeting
DESCRIPTION:District 20 Meetings take place the 3rd Sunday of each month\, 4:00pm at Fellowship Hall.
URL:https://hagerstownaa.org/event/district-20-meeting-2/2026-02-15/
LOCATION:Fellowship Hall\, 6 N Mulberry St\, Hagerstown\, MD\, 21740\, United States
GEO:39.6402839;-77.7159808
X-APPLE-STRUCTURED-LOCATION;VALUE=URI;X-ADDRESS=Fellowship Hall 6 N Mulberry St Hagerstown MD 21740 United States;X-APPLE-RADIUS=500;X-TITLE=6 N Mulberry St:geo:-77.7159808,39.6402839
END:VEVENT
BEGIN:VEVENT
DTSTART;TZID=America/New_York:20260125T153000
DTEND;TZID=America/New_York:20260125T163000
DTSTAMP:20260423T132813
CREATED:20240702T130853Z
LAST-MODIFIED:20250505T014452Z
UID:10000170-1769355000-1769358600@hagerstownaa.org
SUMMARY:HAIG Meeting
DESCRIPTION:The Hagerstown Area Intergroup (HAIG) meetings are typically held the 4th Sunday of the month\, 3:30pm at Fellowship Hall.
URL:https://hagerstownaa.org/event/haig-meeting-2/2026-01-25/
LOCATION:Fellowship Hall\, 6 N Mulberry St\, Hagerstown\, MD\, 21740\, United States
GEO:39.6402839;-77.7159808
X-APPLE-STRUCTURED-LOCATION;VALUE=URI;X-ADDRESS=Fellowship Hall 6 N Mulberry St Hagerstown MD 21740 United States;X-APPLE-RADIUS=500;X-TITLE=6 N Mulberry St:geo:-77.7159808,39.6402839
END:VEVENT
BEGIN:VEVENT
DTSTART;TZID=America/New_York:20260118T160000
DTEND;TZID=America/New_York:20260118T170000
DTSTAMP:20260423T132813
CREATED:20241123T234112Z
LAST-MODIFIED:20241124T120042Z
UID:10000289-1768752000-1768755600@hagerstownaa.org
SUMMARY:District 20 Meeting
DESCRIPTION:District 20 Meetings take place the 3rd Sunday of each month\, 4:00pm at Fellowship Hall.
URL:https://hagerstownaa.org/event/district-20-meeting-2/2026-01-18/
LOCATION:Fellowship Hall\, 6 N Mulberry St\, Hagerstown\, MD\, 21740\, United States
GEO:39.6402839;-77.7159808
X-APPLE-STRUCTURED-LOCATION;VALUE=URI;X-ADDRESS=Fellowship Hall 6 N Mulberry St Hagerstown MD 21740 United States;X-APPLE-RADIUS=500;X-TITLE=6 N Mulberry St:geo:-77.7159808,39.6402839
END:VEVENT
BEGIN:VEVENT
DTSTART;TZID=America/New_York:20251228T153000
DTEND;TZID=America/New_York:20251228T163000
DTSTAMP:20260423T132813
CREATED:20240702T130853Z
LAST-MODIFIED:20250505T014452Z
UID:10000169-1766935800-1766939400@hagerstownaa.org
SUMMARY:HAIG Meeting
DESCRIPTION:The Hagerstown Area Intergroup (HAIG) meetings are typically held the 4th Sunday of the month\, 3:30pm at Fellowship Hall.
URL:https://hagerstownaa.org/event/haig-meeting-2/2025-12-28/
LOCATION:Fellowship Hall\, 6 N Mulberry St\, Hagerstown\, MD\, 21740\, United States
GEO:39.6402839;-77.7159808
X-APPLE-STRUCTURED-LOCATION;VALUE=URI;X-ADDRESS=Fellowship Hall 6 N Mulberry St Hagerstown MD 21740 United States;X-APPLE-RADIUS=500;X-TITLE=6 N Mulberry St:geo:-77.7159808,39.6402839
END:VEVENT
BEGIN:VEVENT
DTSTART;TZID=America/New_York:20251221T160000
DTEND;TZID=America/New_York:20251221T170000
DTSTAMP:20260423T132813
CREATED:20241123T234112Z
LAST-MODIFIED:20241124T120042Z
UID:10000288-1766332800-1766336400@hagerstownaa.org
SUMMARY:District 20 Meeting
DESCRIPTION:District 20 Meetings take place the 3rd Sunday of each month\, 4:00pm at Fellowship Hall.
URL:https://hagerstownaa.org/event/district-20-meeting-2/2025-12-21/
LOCATION:Fellowship Hall\, 6 N Mulberry St\, Hagerstown\, MD\, 21740\, United States
GEO:39.6402839;-77.7159808
X-APPLE-STRUCTURED-LOCATION;VALUE=URI;X-ADDRESS=Fellowship Hall 6 N Mulberry St Hagerstown MD 21740 United States;X-APPLE-RADIUS=500;X-TITLE=6 N Mulberry St:geo:-77.7159808,39.6402839
END:VEVENT
BEGIN:VEVENT
DTSTART;TZID=America/New_York:20251123T153000
DTEND;TZID=America/New_York:20251123T163000
DTSTAMP:20260423T132813
CREATED:20240702T130853Z
LAST-MODIFIED:20250505T014452Z
UID:10000168-1763911800-1763915400@hagerstownaa.org
SUMMARY:HAIG Meeting
DESCRIPTION:The Hagerstown Area Intergroup (HAIG) meetings are typically held the 4th Sunday of the month\, 3:30pm at Fellowship Hall.
URL:https://hagerstownaa.org/event/haig-meeting-2/2025-11-23/
LOCATION:Fellowship Hall\, 6 N Mulberry St\, Hagerstown\, MD\, 21740\, United States
GEO:39.6402839;-77.7159808
X-APPLE-STRUCTURED-LOCATION;VALUE=URI;X-ADDRESS=Fellowship Hall 6 N Mulberry St Hagerstown MD 21740 United States;X-APPLE-RADIUS=500;X-TITLE=6 N Mulberry St:geo:-77.7159808,39.6402839
END:VEVENT
BEGIN:VEVENT
DTSTART;TZID=America/New_York:20251116T160000
DTEND;TZID=America/New_York:20251116T170000
DTSTAMP:20260423T132813
CREATED:20241123T234112Z
LAST-MODIFIED:20241124T120042Z
UID:10000287-1763308800-1763312400@hagerstownaa.org
SUMMARY:District 20 Meeting
DESCRIPTION:District 20 Meetings take place the 3rd Sunday of each month\, 4:00pm at Fellowship Hall.
URL:https://hagerstownaa.org/event/district-20-meeting-2/2025-11-16/
LOCATION:Fellowship Hall\, 6 N Mulberry St\, Hagerstown\, MD\, 21740\, United States
GEO:39.6402839;-77.7159808
X-APPLE-STRUCTURED-LOCATION;VALUE=URI;X-ADDRESS=Fellowship Hall 6 N Mulberry St Hagerstown MD 21740 United States;X-APPLE-RADIUS=500;X-TITLE=6 N Mulberry St:geo:-77.7159808,39.6402839
END:VEVENT
BEGIN:VEVENT
DTSTART;TZID=America/New_York:20251026T153000
DTEND;TZID=America/New_York:20251026T163000
DTSTAMP:20260423T132813
CREATED:20240702T130853Z
LAST-MODIFIED:20250505T014452Z
UID:10000167-1761492600-1761496200@hagerstownaa.org
SUMMARY:HAIG Meeting
DESCRIPTION:The Hagerstown Area Intergroup (HAIG) meetings are typically held the 4th Sunday of the month\, 3:30pm at Fellowship Hall.
URL:https://hagerstownaa.org/event/haig-meeting-2/2025-10-26/
LOCATION:Fellowship Hall\, 6 N Mulberry St\, Hagerstown\, MD\, 21740\, United States
GEO:39.6402839;-77.7159808
X-APPLE-STRUCTURED-LOCATION;VALUE=URI;X-ADDRESS=Fellowship Hall 6 N Mulberry St Hagerstown MD 21740 United States;X-APPLE-RADIUS=500;X-TITLE=6 N Mulberry St:geo:-77.7159808,39.6402839
END:VEVENT
BEGIN:VEVENT
DTSTART;TZID=America/New_York:20251019T160000
DTEND;TZID=America/New_York:20251019T170000
DTSTAMP:20260423T132813
CREATED:20241123T234112Z
LAST-MODIFIED:20241124T120042Z
UID:10000286-1760889600-1760893200@hagerstownaa.org
SUMMARY:District 20 Meeting
DESCRIPTION:District 20 Meetings take place the 3rd Sunday of each month\, 4:00pm at Fellowship Hall.
URL:https://hagerstownaa.org/event/district-20-meeting-2/2025-10-19/
LOCATION:Fellowship Hall\, 6 N Mulberry St\, Hagerstown\, MD\, 21740\, United States
GEO:39.6402839;-77.7159808
X-APPLE-STRUCTURED-LOCATION;VALUE=URI;X-ADDRESS=Fellowship Hall 6 N Mulberry St Hagerstown MD 21740 United States;X-APPLE-RADIUS=500;X-TITLE=6 N Mulberry St:geo:-77.7159808,39.6402839
END:VEVENT
BEGIN:VEVENT
DTSTART;TZID=America/New_York:20250928T153000
DTEND;TZID=America/New_York:20250928T163000
DTSTAMP:20260423T132813
CREATED:20240702T130853Z
LAST-MODIFIED:20250505T014452Z
UID:10000166-1759073400-1759077000@hagerstownaa.org
SUMMARY:HAIG Meeting
DESCRIPTION:The Hagerstown Area Intergroup (HAIG) meetings are typically held the 4th Sunday of the month\, 3:30pm at Fellowship Hall.
URL:https://hagerstownaa.org/event/haig-meeting-2/2025-09-28/
LOCATION:Fellowship Hall\, 6 N Mulberry St\, Hagerstown\, MD\, 21740\, United States
GEO:39.6402839;-77.7159808
X-APPLE-STRUCTURED-LOCATION;VALUE=URI;X-ADDRESS=Fellowship Hall 6 N Mulberry St Hagerstown MD 21740 United States;X-APPLE-RADIUS=500;X-TITLE=6 N Mulberry St:geo:-77.7159808,39.6402839
END:VEVENT
BEGIN:VEVENT
DTSTART;TZID=America/New_York:20250921T160000
DTEND;TZID=America/New_York:20250921T170000
DTSTAMP:20260423T132813
CREATED:20241123T234112Z
LAST-MODIFIED:20241124T120042Z
UID:10000285-1758470400-1758474000@hagerstownaa.org
SUMMARY:District 20 Meeting
DESCRIPTION:District 20 Meetings take place the 3rd Sunday of each month\, 4:00pm at Fellowship Hall.
URL:https://hagerstownaa.org/event/district-20-meeting-2/2025-09-21/
LOCATION:Fellowship Hall\, 6 N Mulberry St\, Hagerstown\, MD\, 21740\, United States
GEO:39.6402839;-77.7159808
X-APPLE-STRUCTURED-LOCATION;VALUE=URI;X-ADDRESS=Fellowship Hall 6 N Mulberry St Hagerstown MD 21740 United States;X-APPLE-RADIUS=500;X-TITLE=6 N Mulberry St:geo:-77.7159808,39.6402839
END:VEVENT
BEGIN:VEVENT
DTSTART;TZID=America/New_York:20250824T153000
DTEND;TZID=America/New_York:20250824T163000
DTSTAMP:20260423T132813
CREATED:20240702T130853Z
LAST-MODIFIED:20250505T014452Z
UID:10000165-1756049400-1756053000@hagerstownaa.org
SUMMARY:HAIG Meeting
DESCRIPTION:The Hagerstown Area Intergroup (HAIG) meetings are typically held the 4th Sunday of the month\, 3:30pm at Fellowship Hall.
URL:https://hagerstownaa.org/event/haig-meeting-2/2025-08-24/
LOCATION:Fellowship Hall\, 6 N Mulberry St\, Hagerstown\, MD\, 21740\, United States
GEO:39.6402839;-77.7159808
X-APPLE-STRUCTURED-LOCATION;VALUE=URI;X-ADDRESS=Fellowship Hall 6 N Mulberry St Hagerstown MD 21740 United States;X-APPLE-RADIUS=500;X-TITLE=6 N Mulberry St:geo:-77.7159808,39.6402839
END:VEVENT
BEGIN:VEVENT
DTSTART;TZID=America/New_York:20250817T160000
DTEND;TZID=America/New_York:20250817T170000
DTSTAMP:20260423T132813
CREATED:20241123T234112Z
LAST-MODIFIED:20241124T120042Z
UID:10000284-1755446400-1755450000@hagerstownaa.org
SUMMARY:District 20 Meeting
DESCRIPTION:District 20 Meetings take place the 3rd Sunday of each month\, 4:00pm at Fellowship Hall.
URL:https://hagerstownaa.org/event/district-20-meeting-2/2025-08-17/
LOCATION:Fellowship Hall\, 6 N Mulberry St\, Hagerstown\, MD\, 21740\, United States
GEO:39.6402839;-77.7159808
X-APPLE-STRUCTURED-LOCATION;VALUE=URI;X-ADDRESS=Fellowship Hall 6 N Mulberry St Hagerstown MD 21740 United States;X-APPLE-RADIUS=500;X-TITLE=6 N Mulberry St:geo:-77.7159808,39.6402839
END:VEVENT
BEGIN:VEVENT
DTSTART;TZID=America/New_York:20250727T153000
DTEND;TZID=America/New_York:20250727T163000
DTSTAMP:20260423T132813
CREATED:20240702T130853Z
LAST-MODIFIED:20250505T014452Z
UID:10000164-1753630200-1753633800@hagerstownaa.org
SUMMARY:HAIG Meeting
DESCRIPTION:The Hagerstown Area Intergroup (HAIG) meetings are typically held the 4th Sunday of the month\, 3:30pm at Fellowship Hall.
URL:https://hagerstownaa.org/event/haig-meeting-2/2025-07-27/
LOCATION:Fellowship Hall\, 6 N Mulberry St\, Hagerstown\, MD\, 21740\, United States
GEO:39.6402839;-77.7159808
X-APPLE-STRUCTURED-LOCATION;VALUE=URI;X-ADDRESS=Fellowship Hall 6 N Mulberry St Hagerstown MD 21740 United States;X-APPLE-RADIUS=500;X-TITLE=6 N Mulberry St:geo:-77.7159808,39.6402839
END:VEVENT
BEGIN:VEVENT
DTSTART;TZID=America/New_York:20250720T160000
DTEND;TZID=America/New_York:20250720T170000
DTSTAMP:20260423T132813
CREATED:20241123T234112Z
LAST-MODIFIED:20241124T120042Z
UID:10000283-1753027200-1753030800@hagerstownaa.org
SUMMARY:District 20 Meeting
DESCRIPTION:District 20 Meetings take place the 3rd Sunday of each month\, 4:00pm at Fellowship Hall.
URL:https://hagerstownaa.org/event/district-20-meeting-2/2025-07-20/
LOCATION:Fellowship Hall\, 6 N Mulberry St\, Hagerstown\, MD\, 21740\, United States
GEO:39.6402839;-77.7159808
X-APPLE-STRUCTURED-LOCATION;VALUE=URI;X-ADDRESS=Fellowship Hall 6 N Mulberry St Hagerstown MD 21740 United States;X-APPLE-RADIUS=500;X-TITLE=6 N Mulberry St:geo:-77.7159808,39.6402839
END:VEVENT
BEGIN:VEVENT
DTSTART;TZID=America/New_York:20250622T153000
DTEND;TZID=America/New_York:20250622T163000
DTSTAMP:20260423T132813
CREATED:20240702T130853Z
LAST-MODIFIED:20250505T014452Z
UID:10000163-1750606200-1750609800@hagerstownaa.org
SUMMARY:HAIG Meeting
DESCRIPTION:The Hagerstown Area Intergroup (HAIG) meetings are typically held the 4th Sunday of the month\, 3:30pm at Fellowship Hall.
URL:https://hagerstownaa.org/event/haig-meeting-2/2025-06-22/
LOCATION:Fellowship Hall\, 6 N Mulberry St\, Hagerstown\, MD\, 21740\, United States
GEO:39.6402839;-77.7159808
X-APPLE-STRUCTURED-LOCATION;VALUE=URI;X-ADDRESS=Fellowship Hall 6 N Mulberry St Hagerstown MD 21740 United States;X-APPLE-RADIUS=500;X-TITLE=6 N Mulberry St:geo:-77.7159808,39.6402839
END:VEVENT
BEGIN:VEVENT
DTSTART;TZID=America/New_York:20250615T160000
DTEND;TZID=America/New_York:20250615T170000
DTSTAMP:20260423T132813
CREATED:20241123T234112Z
LAST-MODIFIED:20241124T120042Z
UID:10000282-1750003200-1750006800@hagerstownaa.org
SUMMARY:District 20 Meeting
DESCRIPTION:District 20 Meetings take place the 3rd Sunday of each month\, 4:00pm at Fellowship Hall.
URL:https://hagerstownaa.org/event/district-20-meeting-2/2025-06-15/
LOCATION:Fellowship Hall\, 6 N Mulberry St\, Hagerstown\, MD\, 21740\, United States
GEO:39.6402839;-77.7159808
X-APPLE-STRUCTURED-LOCATION;VALUE=URI;X-ADDRESS=Fellowship Hall 6 N Mulberry St Hagerstown MD 21740 United States;X-APPLE-RADIUS=500;X-TITLE=6 N Mulberry St:geo:-77.7159808,39.6402839
END:VEVENT
BEGIN:VEVENT
DTSTART;TZID=America/New_York:20250518T160000
DTEND;TZID=America/New_York:20250518T170000
DTSTAMP:20260423T132813
CREATED:20241123T234112Z
LAST-MODIFIED:20241124T120042Z
UID:10000281-1747584000-1747587600@hagerstownaa.org
SUMMARY:District 20 Meeting
DESCRIPTION:District 20 Meetings take place the 3rd Sunday of each month\, 4:00pm at Fellowship Hall.
URL:https://hagerstownaa.org/event/district-20-meeting-2/2025-05-18/
LOCATION:Fellowship Hall\, 6 N Mulberry St\, Hagerstown\, MD\, 21740\, United States
GEO:39.6402839;-77.7159808
X-APPLE-STRUCTURED-LOCATION;VALUE=URI;X-ADDRESS=Fellowship Hall 6 N Mulberry St Hagerstown MD 21740 United States;X-APPLE-RADIUS=500;X-TITLE=6 N Mulberry St:geo:-77.7159808,39.6402839
END:VEVENT
BEGIN:VEVENT
DTSTART;TZID=America/New_York:20250518T153000
DTEND;TZID=America/New_York:20250518T163000
DTSTAMP:20260423T132813
CREATED:20240505T161720Z
LAST-MODIFIED:20250505T014621Z
UID:10000149-1747582200-1747585800@hagerstownaa.org
SUMMARY:HAIG Meeting
DESCRIPTION:The Hagerstown Area Intergroup (HAIG) meeting will be held on May 18 at 3:30pm at Fellowship Hall.
URL:https://hagerstownaa.org/event/haig-meeting/
LOCATION:Fellowship Hall\, 6 N Mulberry St\, Hagerstown\, MD\, 21740\, United States
GEO:39.6402839;-77.7159808
X-APPLE-STRUCTURED-LOCATION;VALUE=URI;X-ADDRESS=Fellowship Hall 6 N Mulberry St Hagerstown MD 21740 United States;X-APPLE-RADIUS=500;X-TITLE=6 N Mulberry St:geo:-77.7159808,39.6402839
END:VEVENT
BEGIN:VEVENT
DTSTART;TZID=America/New_York:20250427T153000
DTEND;TZID=America/New_York:20250427T163000
DTSTAMP:20260423T132813
CREATED:20240702T130853Z
LAST-MODIFIED:20250505T014452Z
UID:10000161-1745767800-1745771400@hagerstownaa.org
SUMMARY:HAIG Meeting
DESCRIPTION:The Hagerstown Area Intergroup (HAIG) meetings are typically held the 4th Sunday of the month\, 3:30pm at Fellowship Hall.
URL:https://hagerstownaa.org/event/haig-meeting-2/2025-04-27/
LOCATION:Fellowship Hall\, 6 N Mulberry St\, Hagerstown\, MD\, 21740\, United States
GEO:39.6402839;-77.7159808
X-APPLE-STRUCTURED-LOCATION;VALUE=URI;X-ADDRESS=Fellowship Hall 6 N Mulberry St Hagerstown MD 21740 United States;X-APPLE-RADIUS=500;X-TITLE=6 N Mulberry St:geo:-77.7159808,39.6402839
END:VEVENT
BEGIN:VEVENT
DTSTART;TZID=America/New_York:20250420T160000
DTEND;TZID=America/New_York:20250420T170000
DTSTAMP:20260423T132813
CREATED:20241123T234112Z
LAST-MODIFIED:20241124T120042Z
UID:10000280-1745164800-1745168400@hagerstownaa.org
SUMMARY:District 20 Meeting
DESCRIPTION:District 20 Meetings take place the 3rd Sunday of each month\, 4:00pm at Fellowship Hall.
URL:https://hagerstownaa.org/event/district-20-meeting-2/2025-04-20/
LOCATION:Fellowship Hall\, 6 N Mulberry St\, Hagerstown\, MD\, 21740\, United States
GEO:39.6402839;-77.7159808
X-APPLE-STRUCTURED-LOCATION;VALUE=URI;X-ADDRESS=Fellowship Hall 6 N Mulberry St Hagerstown MD 21740 United States;X-APPLE-RADIUS=500;X-TITLE=6 N Mulberry St:geo:-77.7159808,39.6402839
END:VEVENT
BEGIN:VEVENT
DTSTART;TZID=America/New_York:20250323T153000
DTEND;TZID=America/New_York:20250323T163000
DTSTAMP:20260423T132813
CREATED:20240702T130853Z
LAST-MODIFIED:20250505T014452Z
UID:10000160-1742743800-1742747400@hagerstownaa.org
SUMMARY:HAIG Meeting
DESCRIPTION:The Hagerstown Area Intergroup (HAIG) meetings are typically held the 4th Sunday of the month\, 3:30pm at Fellowship Hall.
URL:https://hagerstownaa.org/event/haig-meeting-2/2025-03-23/
LOCATION:Fellowship Hall\, 6 N Mulberry St\, Hagerstown\, MD\, 21740\, United States
GEO:39.6402839;-77.7159808
X-APPLE-STRUCTURED-LOCATION;VALUE=URI;X-ADDRESS=Fellowship Hall 6 N Mulberry St Hagerstown MD 21740 United States;X-APPLE-RADIUS=500;X-TITLE=6 N Mulberry St:geo:-77.7159808,39.6402839
END:VEVENT
BEGIN:VEVENT
DTSTART;TZID=America/New_York:20250316T160000
DTEND;TZID=America/New_York:20250316T170000
DTSTAMP:20260423T132813
CREATED:20241123T234112Z
LAST-MODIFIED:20241124T120042Z
UID:10000279-1742140800-1742144400@hagerstownaa.org
SUMMARY:District 20 Meeting
DESCRIPTION:District 20 Meetings take place the 3rd Sunday of each month\, 4:00pm at Fellowship Hall.
URL:https://hagerstownaa.org/event/district-20-meeting-2/2025-03-16/
LOCATION:Fellowship Hall\, 6 N Mulberry St\, Hagerstown\, MD\, 21740\, United States
GEO:39.6402839;-77.7159808
X-APPLE-STRUCTURED-LOCATION;VALUE=URI;X-ADDRESS=Fellowship Hall 6 N Mulberry St Hagerstown MD 21740 United States;X-APPLE-RADIUS=500;X-TITLE=6 N Mulberry St:geo:-77.7159808,39.6402839
END:VEVENT
BEGIN:VEVENT
DTSTART;TZID=America/New_York:20250223T153000
DTEND;TZID=America/New_York:20250223T163000
DTSTAMP:20260423T132813
CREATED:20240702T130853Z
LAST-MODIFIED:20250505T014452Z
UID:10000159-1740324600-1740328200@hagerstownaa.org
SUMMARY:HAIG Meeting
DESCRIPTION:The Hagerstown Area Intergroup (HAIG) meetings are typically held the 4th Sunday of the month\, 3:30pm at Fellowship Hall.
URL:https://hagerstownaa.org/event/haig-meeting-2/2025-02-23/
LOCATION:Fellowship Hall\, 6 N Mulberry St\, Hagerstown\, MD\, 21740\, United States
GEO:39.6402839;-77.7159808
X-APPLE-STRUCTURED-LOCATION;VALUE=URI;X-ADDRESS=Fellowship Hall 6 N Mulberry St Hagerstown MD 21740 United States;X-APPLE-RADIUS=500;X-TITLE=6 N Mulberry St:geo:-77.7159808,39.6402839
END:VEVENT
BEGIN:VEVENT
DTSTART;TZID=America/New_York:20250216T160000
DTEND;TZID=America/New_York:20250216T170000
DTSTAMP:20260423T132813
CREATED:20241123T234112Z
LAST-MODIFIED:20241124T120042Z
UID:10000278-1739721600-1739725200@hagerstownaa.org
SUMMARY:District 20 Meeting
DESCRIPTION:District 20 Meetings take place the 3rd Sunday of each month\, 4:00pm at Fellowship Hall.
URL:https://hagerstownaa.org/event/district-20-meeting-2/2025-02-16/
LOCATION:Fellowship Hall\, 6 N Mulberry St\, Hagerstown\, MD\, 21740\, United States
GEO:39.6402839;-77.7159808
X-APPLE-STRUCTURED-LOCATION;VALUE=URI;X-ADDRESS=Fellowship Hall 6 N Mulberry St Hagerstown MD 21740 United States;X-APPLE-RADIUS=500;X-TITLE=6 N Mulberry St:geo:-77.7159808,39.6402839
END:VEVENT
BEGIN:VEVENT
DTSTART;TZID=America/New_York:20250126T153000
DTEND;TZID=America/New_York:20250126T163000
DTSTAMP:20260423T132813
CREATED:20240702T130853Z
LAST-MODIFIED:20250505T014452Z
UID:10000158-1737905400-1737909000@hagerstownaa.org
SUMMARY:HAIG Meeting
DESCRIPTION:The Hagerstown Area Intergroup (HAIG) meetings are typically held the 4th Sunday of the month\, 3:30pm at Fellowship Hall.
URL:https://hagerstownaa.org/event/haig-meeting-2/2025-01-26/
LOCATION:Fellowship Hall\, 6 N Mulberry St\, Hagerstown\, MD\, 21740\, United States
GEO:39.6402839;-77.7159808
X-APPLE-STRUCTURED-LOCATION;VALUE=URI;X-ADDRESS=Fellowship Hall 6 N Mulberry St Hagerstown MD 21740 United States;X-APPLE-RADIUS=500;X-TITLE=6 N Mulberry St:geo:-77.7159808,39.6402839
END:VEVENT
END:VCALENDAR