BEGIN:VCALENDAR
VERSION:2.0
PRODID:-//Hagerstown AA - ECPv6.15.20//NONSGML v1.0//EN
CALSCALE:GREGORIAN
METHOD:PUBLISH
X-ORIGINAL-URL:https://hagerstownaa.org
X-WR-CALDESC:Events for Hagerstown AA
REFRESH-INTERVAL;VALUE=DURATION:PT1H
X-Robots-Tag:noindex
X-PUBLISHED-TTL:PT1H
BEGIN:VTIMEZONE
TZID:America/New_York
BEGIN:DAYLIGHT
TZOFFSETFROM:-0500
TZOFFSETTO:-0400
TZNAME:EDT
DTSTART:20280312T070000
END:DAYLIGHT
BEGIN:STANDARD
TZOFFSETFROM:-0400
TZOFFSETTO:-0500
TZNAME:EST
DTSTART:20281105T060000
END:STANDARD
BEGIN:DAYLIGHT
TZOFFSETFROM:-0500
TZOFFSETTO:-0400
TZNAME:EDT
DTSTART:20290311T070000
END:DAYLIGHT
BEGIN:STANDARD
TZOFFSETFROM:-0400
TZOFFSETTO:-0500
TZNAME:EST
DTSTART:20291104T060000
END:STANDARD
BEGIN:DAYLIGHT
TZOFFSETFROM:-0500
TZOFFSETTO:-0400
TZNAME:EDT
DTSTART:20300310T070000
END:DAYLIGHT
BEGIN:STANDARD
TZOFFSETFROM:-0400
TZOFFSETTO:-0500
TZNAME:EST
DTSTART:20301103T060000
END:STANDARD
BEGIN:DAYLIGHT
TZOFFSETFROM:-0500
TZOFFSETTO:-0400
TZNAME:EDT
DTSTART:20310309T070000
END:DAYLIGHT
BEGIN:STANDARD
TZOFFSETFROM:-0400
TZOFFSETTO:-0500
TZNAME:EST
DTSTART:20311102T060000
END:STANDARD
END:VTIMEZONE
BEGIN:VEVENT
DTSTART;TZID=America/New_York:20291223T153000
DTEND;TZID=America/New_York:20291223T163000
DTSTAMP:20260425T084823
CREATED:20240702T130853Z
LAST-MODIFIED:20250505T014452Z
UID:10000349-1892734200-1892737800@hagerstownaa.org
SUMMARY:HAIG Meeting
DESCRIPTION:The Hagerstown Area Intergroup (HAIG) meetings are typically held the 4th Sunday of the month\, 3:30pm at Fellowship Hall.
URL:https://hagerstownaa.org/event/haig-meeting-2/2029-12-23/
LOCATION:Fellowship Hall\, 6 N Mulberry St\, Hagerstown\, MD\, 21740\, United States
GEO:39.6402839;-77.7159808
X-APPLE-STRUCTURED-LOCATION;VALUE=URI;X-ADDRESS=Fellowship Hall 6 N Mulberry St Hagerstown MD 21740 United States;X-APPLE-RADIUS=500;X-TITLE=6 N Mulberry St:geo:-77.7159808,39.6402839
END:VEVENT
BEGIN:VEVENT
DTSTART;TZID=America/New_York:20300127T153000
DTEND;TZID=America/New_York:20300127T163000
DTSTAMP:20260425T084823
CREATED:20240702T130853Z
LAST-MODIFIED:20250505T014452Z
UID:10000350-1895758200-1895761800@hagerstownaa.org
SUMMARY:HAIG Meeting
DESCRIPTION:The Hagerstown Area Intergroup (HAIG) meetings are typically held the 4th Sunday of the month\, 3:30pm at Fellowship Hall.
URL:https://hagerstownaa.org/event/haig-meeting-2/2030-01-27/
LOCATION:Fellowship Hall\, 6 N Mulberry St\, Hagerstown\, MD\, 21740\, United States
GEO:39.6402839;-77.7159808
X-APPLE-STRUCTURED-LOCATION;VALUE=URI;X-ADDRESS=Fellowship Hall 6 N Mulberry St Hagerstown MD 21740 United States;X-APPLE-RADIUS=500;X-TITLE=6 N Mulberry St:geo:-77.7159808,39.6402839
END:VEVENT
BEGIN:VEVENT
DTSTART;TZID=America/New_York:20300224T153000
DTEND;TZID=America/New_York:20300224T163000
DTSTAMP:20260425T084823
CREATED:20240702T130853Z
LAST-MODIFIED:20250505T014452Z
UID:10000351-1898177400-1898181000@hagerstownaa.org
SUMMARY:HAIG Meeting
DESCRIPTION:The Hagerstown Area Intergroup (HAIG) meetings are typically held the 4th Sunday of the month\, 3:30pm at Fellowship Hall.
URL:https://hagerstownaa.org/event/haig-meeting-2/2030-02-24/
LOCATION:Fellowship Hall\, 6 N Mulberry St\, Hagerstown\, MD\, 21740\, United States
GEO:39.6402839;-77.7159808
X-APPLE-STRUCTURED-LOCATION;VALUE=URI;X-ADDRESS=Fellowship Hall 6 N Mulberry St Hagerstown MD 21740 United States;X-APPLE-RADIUS=500;X-TITLE=6 N Mulberry St:geo:-77.7159808,39.6402839
END:VEVENT
BEGIN:VEVENT
DTSTART;TZID=America/New_York:20300324T153000
DTEND;TZID=America/New_York:20300324T163000
DTSTAMP:20260425T084823
CREATED:20240702T130853Z
LAST-MODIFIED:20250505T014452Z
UID:10000352-1900596600-1900600200@hagerstownaa.org
SUMMARY:HAIG Meeting
DESCRIPTION:The Hagerstown Area Intergroup (HAIG) meetings are typically held the 4th Sunday of the month\, 3:30pm at Fellowship Hall.
URL:https://hagerstownaa.org/event/haig-meeting-2/2030-03-24/
LOCATION:Fellowship Hall\, 6 N Mulberry St\, Hagerstown\, MD\, 21740\, United States
GEO:39.6402839;-77.7159808
X-APPLE-STRUCTURED-LOCATION;VALUE=URI;X-ADDRESS=Fellowship Hall 6 N Mulberry St Hagerstown MD 21740 United States;X-APPLE-RADIUS=500;X-TITLE=6 N Mulberry St:geo:-77.7159808,39.6402839
END:VEVENT
BEGIN:VEVENT
DTSTART;TZID=America/New_York:20300428T153000
DTEND;TZID=America/New_York:20300428T163000
DTSTAMP:20260425T084823
CREATED:20240702T130853Z
LAST-MODIFIED:20250505T014452Z
UID:10000353-1903620600-1903624200@hagerstownaa.org
SUMMARY:HAIG Meeting
DESCRIPTION:The Hagerstown Area Intergroup (HAIG) meetings are typically held the 4th Sunday of the month\, 3:30pm at Fellowship Hall.
URL:https://hagerstownaa.org/event/haig-meeting-2/2030-04-28/
LOCATION:Fellowship Hall\, 6 N Mulberry St\, Hagerstown\, MD\, 21740\, United States
GEO:39.6402839;-77.7159808
X-APPLE-STRUCTURED-LOCATION;VALUE=URI;X-ADDRESS=Fellowship Hall 6 N Mulberry St Hagerstown MD 21740 United States;X-APPLE-RADIUS=500;X-TITLE=6 N Mulberry St:geo:-77.7159808,39.6402839
END:VEVENT
END:VCALENDAR