BEGIN:VCALENDAR
VERSION:2.0
PRODID:-//Hagerstown AA - ECPv6.15.20//NONSGML v1.0//EN
CALSCALE:GREGORIAN
METHOD:PUBLISH
X-ORIGINAL-URL:https://hagerstownaa.org
X-WR-CALDESC:Events for Hagerstown AA
REFRESH-INTERVAL;VALUE=DURATION:PT1H
X-Robots-Tag:noindex
X-PUBLISHED-TTL:PT1H
BEGIN:VTIMEZONE
TZID:America/New_York
BEGIN:DAYLIGHT
TZOFFSETFROM:-0500
TZOFFSETTO:-0400
TZNAME:EDT
DTSTART:20260308T070000
END:DAYLIGHT
BEGIN:STANDARD
TZOFFSETFROM:-0400
TZOFFSETTO:-0500
TZNAME:EST
DTSTART:20261101T060000
END:STANDARD
BEGIN:DAYLIGHT
TZOFFSETFROM:-0500
TZOFFSETTO:-0400
TZNAME:EDT
DTSTART:20270314T070000
END:DAYLIGHT
BEGIN:STANDARD
TZOFFSETFROM:-0400
TZOFFSETTO:-0500
TZNAME:EST
DTSTART:20271107T060000
END:STANDARD
BEGIN:DAYLIGHT
TZOFFSETFROM:-0500
TZOFFSETTO:-0400
TZNAME:EDT
DTSTART:20280312T070000
END:DAYLIGHT
BEGIN:STANDARD
TZOFFSETFROM:-0400
TZOFFSETTO:-0500
TZNAME:EST
DTSTART:20281105T060000
END:STANDARD
BEGIN:DAYLIGHT
TZOFFSETFROM:-0500
TZOFFSETTO:-0400
TZNAME:EDT
DTSTART:20290311T070000
END:DAYLIGHT
BEGIN:STANDARD
TZOFFSETFROM:-0400
TZOFFSETTO:-0500
TZNAME:EST
DTSTART:20291104T060000
END:STANDARD
END:VTIMEZONE
BEGIN:VEVENT
DTSTART;TZID=America/New_York:20270612T090000
DTEND;TZID=America/New_York:20270612T120000
DTSTAMP:20260423T201855
CREATED:20231220T202026Z
LAST-MODIFIED:20250110T205608Z
UID:10000126-1812790800-1812801600@hagerstownaa.org
SUMMARY:Mountain Breakfast
DESCRIPTION:Great service opportunity! \nSetup at 7:00 (Service Opportunity) \nFellowship at 9:00 \nBreakfast at 10:00 \nSpeaker at 11:00 \n$10.00 donation
URL:https://hagerstownaa.org/event/mountain-breakfast-2-2/2027-06-12/
LOCATION:Old Germantown Church of God\, 16924 Raven Rd\, Sabillasville\, MD\, 21780\, United States
GEO:39.7003209;-77.4560092
X-APPLE-STRUCTURED-LOCATION;VALUE=URI;X-ADDRESS=Old Germantown Church of God 16924 Raven Rd Sabillasville MD 21780 United States;X-APPLE-RADIUS=500;X-TITLE=16924 Raven Rd:geo:-77.4560092,39.7003209
END:VEVENT
BEGIN:VEVENT
DTSTART;TZID=America/New_York:20270620T160000
DTEND;TZID=America/New_York:20270620T170000
DTSTAMP:20260423T201855
CREATED:20241123T234112Z
LAST-MODIFIED:20241124T120042Z
UID:10000306-1813507200-1813510800@hagerstownaa.org
SUMMARY:District 20 Meeting
DESCRIPTION:District 20 Meetings take place the 3rd Sunday of each month\, 4:00pm at Fellowship Hall.
URL:https://hagerstownaa.org/event/district-20-meeting-2/2027-06-20/
LOCATION:Fellowship Hall\, 6 N Mulberry St\, Hagerstown\, MD\, 21740\, United States
GEO:39.6402839;-77.7159808
X-APPLE-STRUCTURED-LOCATION;VALUE=URI;X-ADDRESS=Fellowship Hall 6 N Mulberry St Hagerstown MD 21740 United States;X-APPLE-RADIUS=500;X-TITLE=6 N Mulberry St:geo:-77.7159808,39.6402839
END:VEVENT
BEGIN:VEVENT
DTSTART;TZID=America/New_York:20270627T153000
DTEND;TZID=America/New_York:20270627T163000
DTSTAMP:20260423T201855
CREATED:20240702T130853Z
LAST-MODIFIED:20250505T014452Z
UID:10000187-1814110200-1814113800@hagerstownaa.org
SUMMARY:HAIG Meeting
DESCRIPTION:The Hagerstown Area Intergroup (HAIG) meetings are typically held the 4th Sunday of the month\, 3:30pm at Fellowship Hall.
URL:https://hagerstownaa.org/event/haig-meeting-2/2027-06-27/
LOCATION:Fellowship Hall\, 6 N Mulberry St\, Hagerstown\, MD\, 21740\, United States
GEO:39.6402839;-77.7159808
X-APPLE-STRUCTURED-LOCATION;VALUE=URI;X-ADDRESS=Fellowship Hall 6 N Mulberry St Hagerstown MD 21740 United States;X-APPLE-RADIUS=500;X-TITLE=6 N Mulberry St:geo:-77.7159808,39.6402839
END:VEVENT
BEGIN:VEVENT
DTSTART;TZID=America/New_York:20270710T090000
DTEND;TZID=America/New_York:20270710T120000
DTSTAMP:20260423T201855
CREATED:20231220T202026Z
LAST-MODIFIED:20250110T205608Z
UID:10000127-1815210000-1815220800@hagerstownaa.org
SUMMARY:Mountain Breakfast
DESCRIPTION:Great service opportunity! \nSetup at 7:00 (Service Opportunity) \nFellowship at 9:00 \nBreakfast at 10:00 \nSpeaker at 11:00 \n$10.00 donation
URL:https://hagerstownaa.org/event/mountain-breakfast-2-2/2027-07-10/
LOCATION:Old Germantown Church of God\, 16924 Raven Rd\, Sabillasville\, MD\, 21780\, United States
GEO:39.7003209;-77.4560092
X-APPLE-STRUCTURED-LOCATION;VALUE=URI;X-ADDRESS=Old Germantown Church of God 16924 Raven Rd Sabillasville MD 21780 United States;X-APPLE-RADIUS=500;X-TITLE=16924 Raven Rd:geo:-77.4560092,39.7003209
END:VEVENT
BEGIN:VEVENT
DTSTART;TZID=America/New_York:20270718T160000
DTEND;TZID=America/New_York:20270718T170000
DTSTAMP:20260423T201855
CREATED:20241123T234112Z
LAST-MODIFIED:20241124T120042Z
UID:10000307-1815926400-1815930000@hagerstownaa.org
SUMMARY:District 20 Meeting
DESCRIPTION:District 20 Meetings take place the 3rd Sunday of each month\, 4:00pm at Fellowship Hall.
URL:https://hagerstownaa.org/event/district-20-meeting-2/2027-07-18/
LOCATION:Fellowship Hall\, 6 N Mulberry St\, Hagerstown\, MD\, 21740\, United States
GEO:39.6402839;-77.7159808
X-APPLE-STRUCTURED-LOCATION;VALUE=URI;X-ADDRESS=Fellowship Hall 6 N Mulberry St Hagerstown MD 21740 United States;X-APPLE-RADIUS=500;X-TITLE=6 N Mulberry St:geo:-77.7159808,39.6402839
END:VEVENT
BEGIN:VEVENT
DTSTART;TZID=America/New_York:20270725T153000
DTEND;TZID=America/New_York:20270725T163000
DTSTAMP:20260423T201855
CREATED:20240702T130853Z
LAST-MODIFIED:20250505T014452Z
UID:10000188-1816529400-1816533000@hagerstownaa.org
SUMMARY:HAIG Meeting
DESCRIPTION:The Hagerstown Area Intergroup (HAIG) meetings are typically held the 4th Sunday of the month\, 3:30pm at Fellowship Hall.
URL:https://hagerstownaa.org/event/haig-meeting-2/2027-07-25/
LOCATION:Fellowship Hall\, 6 N Mulberry St\, Hagerstown\, MD\, 21740\, United States
GEO:39.6402839;-77.7159808
X-APPLE-STRUCTURED-LOCATION;VALUE=URI;X-ADDRESS=Fellowship Hall 6 N Mulberry St Hagerstown MD 21740 United States;X-APPLE-RADIUS=500;X-TITLE=6 N Mulberry St:geo:-77.7159808,39.6402839
END:VEVENT
BEGIN:VEVENT
DTSTART;TZID=America/New_York:20270814T090000
DTEND;TZID=America/New_York:20270814T120000
DTSTAMP:20260423T201855
CREATED:20231220T202026Z
LAST-MODIFIED:20250110T205608Z
UID:10000128-1818234000-1818244800@hagerstownaa.org
SUMMARY:Mountain Breakfast
DESCRIPTION:Great service opportunity! \nSetup at 7:00 (Service Opportunity) \nFellowship at 9:00 \nBreakfast at 10:00 \nSpeaker at 11:00 \n$10.00 donation
URL:https://hagerstownaa.org/event/mountain-breakfast-2-2/2027-08-14/
LOCATION:Old Germantown Church of God\, 16924 Raven Rd\, Sabillasville\, MD\, 21780\, United States
GEO:39.7003209;-77.4560092
X-APPLE-STRUCTURED-LOCATION;VALUE=URI;X-ADDRESS=Old Germantown Church of God 16924 Raven Rd Sabillasville MD 21780 United States;X-APPLE-RADIUS=500;X-TITLE=16924 Raven Rd:geo:-77.4560092,39.7003209
END:VEVENT
BEGIN:VEVENT
DTSTART;TZID=America/New_York:20270815T160000
DTEND;TZID=America/New_York:20270815T170000
DTSTAMP:20260423T201855
CREATED:20241123T234112Z
LAST-MODIFIED:20241124T120042Z
UID:10000308-1818345600-1818349200@hagerstownaa.org
SUMMARY:District 20 Meeting
DESCRIPTION:District 20 Meetings take place the 3rd Sunday of each month\, 4:00pm at Fellowship Hall.
URL:https://hagerstownaa.org/event/district-20-meeting-2/2027-08-15/
LOCATION:Fellowship Hall\, 6 N Mulberry St\, Hagerstown\, MD\, 21740\, United States
GEO:39.6402839;-77.7159808
X-APPLE-STRUCTURED-LOCATION;VALUE=URI;X-ADDRESS=Fellowship Hall 6 N Mulberry St Hagerstown MD 21740 United States;X-APPLE-RADIUS=500;X-TITLE=6 N Mulberry St:geo:-77.7159808,39.6402839
END:VEVENT
BEGIN:VEVENT
DTSTART;TZID=America/New_York:20270822T153000
DTEND;TZID=America/New_York:20270822T163000
DTSTAMP:20260423T201855
CREATED:20240702T130853Z
LAST-MODIFIED:20250505T014452Z
UID:10000189-1818948600-1818952200@hagerstownaa.org
SUMMARY:HAIG Meeting
DESCRIPTION:The Hagerstown Area Intergroup (HAIG) meetings are typically held the 4th Sunday of the month\, 3:30pm at Fellowship Hall.
URL:https://hagerstownaa.org/event/haig-meeting-2/2027-08-22/
LOCATION:Fellowship Hall\, 6 N Mulberry St\, Hagerstown\, MD\, 21740\, United States
GEO:39.6402839;-77.7159808
X-APPLE-STRUCTURED-LOCATION;VALUE=URI;X-ADDRESS=Fellowship Hall 6 N Mulberry St Hagerstown MD 21740 United States;X-APPLE-RADIUS=500;X-TITLE=6 N Mulberry St:geo:-77.7159808,39.6402839
END:VEVENT
BEGIN:VEVENT
DTSTART;TZID=America/New_York:20270911T090000
DTEND;TZID=America/New_York:20270911T120000
DTSTAMP:20260423T201855
CREATED:20231220T202026Z
LAST-MODIFIED:20250110T205608Z
UID:10000129-1820653200-1820664000@hagerstownaa.org
SUMMARY:Mountain Breakfast
DESCRIPTION:Great service opportunity! \nSetup at 7:00 (Service Opportunity) \nFellowship at 9:00 \nBreakfast at 10:00 \nSpeaker at 11:00 \n$10.00 donation
URL:https://hagerstownaa.org/event/mountain-breakfast-2-2/2027-09-11/
LOCATION:Old Germantown Church of God\, 16924 Raven Rd\, Sabillasville\, MD\, 21780\, United States
GEO:39.7003209;-77.4560092
X-APPLE-STRUCTURED-LOCATION;VALUE=URI;X-ADDRESS=Old Germantown Church of God 16924 Raven Rd Sabillasville MD 21780 United States;X-APPLE-RADIUS=500;X-TITLE=16924 Raven Rd:geo:-77.4560092,39.7003209
END:VEVENT
BEGIN:VEVENT
DTSTART;TZID=America/New_York:20270919T160000
DTEND;TZID=America/New_York:20270919T170000
DTSTAMP:20260423T201855
CREATED:20241123T234112Z
LAST-MODIFIED:20241124T120042Z
UID:10000309-1821369600-1821373200@hagerstownaa.org
SUMMARY:District 20 Meeting
DESCRIPTION:District 20 Meetings take place the 3rd Sunday of each month\, 4:00pm at Fellowship Hall.
URL:https://hagerstownaa.org/event/district-20-meeting-2/2027-09-19/
LOCATION:Fellowship Hall\, 6 N Mulberry St\, Hagerstown\, MD\, 21740\, United States
GEO:39.6402839;-77.7159808
X-APPLE-STRUCTURED-LOCATION;VALUE=URI;X-ADDRESS=Fellowship Hall 6 N Mulberry St Hagerstown MD 21740 United States;X-APPLE-RADIUS=500;X-TITLE=6 N Mulberry St:geo:-77.7159808,39.6402839
END:VEVENT
BEGIN:VEVENT
DTSTART;TZID=America/New_York:20270926T153000
DTEND;TZID=America/New_York:20270926T163000
DTSTAMP:20260423T201855
CREATED:20240702T130853Z
LAST-MODIFIED:20250505T014452Z
UID:10000190-1821972600-1821976200@hagerstownaa.org
SUMMARY:HAIG Meeting
DESCRIPTION:The Hagerstown Area Intergroup (HAIG) meetings are typically held the 4th Sunday of the month\, 3:30pm at Fellowship Hall.
URL:https://hagerstownaa.org/event/haig-meeting-2/2027-09-26/
LOCATION:Fellowship Hall\, 6 N Mulberry St\, Hagerstown\, MD\, 21740\, United States
GEO:39.6402839;-77.7159808
X-APPLE-STRUCTURED-LOCATION;VALUE=URI;X-ADDRESS=Fellowship Hall 6 N Mulberry St Hagerstown MD 21740 United States;X-APPLE-RADIUS=500;X-TITLE=6 N Mulberry St:geo:-77.7159808,39.6402839
END:VEVENT
BEGIN:VEVENT
DTSTART;TZID=America/New_York:20271009T090000
DTEND;TZID=America/New_York:20271009T120000
DTSTAMP:20260423T201855
CREATED:20231220T202026Z
LAST-MODIFIED:20250110T205608Z
UID:10000130-1823072400-1823083200@hagerstownaa.org
SUMMARY:Mountain Breakfast
DESCRIPTION:Great service opportunity! \nSetup at 7:00 (Service Opportunity) \nFellowship at 9:00 \nBreakfast at 10:00 \nSpeaker at 11:00 \n$10.00 donation
URL:https://hagerstownaa.org/event/mountain-breakfast-2-2/2027-10-09/
LOCATION:Old Germantown Church of God\, 16924 Raven Rd\, Sabillasville\, MD\, 21780\, United States
GEO:39.7003209;-77.4560092
X-APPLE-STRUCTURED-LOCATION;VALUE=URI;X-ADDRESS=Old Germantown Church of God 16924 Raven Rd Sabillasville MD 21780 United States;X-APPLE-RADIUS=500;X-TITLE=16924 Raven Rd:geo:-77.4560092,39.7003209
END:VEVENT
BEGIN:VEVENT
DTSTART;TZID=America/New_York:20271017T160000
DTEND;TZID=America/New_York:20271017T170000
DTSTAMP:20260423T201855
CREATED:20241123T234112Z
LAST-MODIFIED:20241124T120042Z
UID:10000310-1823788800-1823792400@hagerstownaa.org
SUMMARY:District 20 Meeting
DESCRIPTION:District 20 Meetings take place the 3rd Sunday of each month\, 4:00pm at Fellowship Hall.
URL:https://hagerstownaa.org/event/district-20-meeting-2/2027-10-17/
LOCATION:Fellowship Hall\, 6 N Mulberry St\, Hagerstown\, MD\, 21740\, United States
GEO:39.6402839;-77.7159808
X-APPLE-STRUCTURED-LOCATION;VALUE=URI;X-ADDRESS=Fellowship Hall 6 N Mulberry St Hagerstown MD 21740 United States;X-APPLE-RADIUS=500;X-TITLE=6 N Mulberry St:geo:-77.7159808,39.6402839
END:VEVENT
BEGIN:VEVENT
DTSTART;TZID=America/New_York:20271024T153000
DTEND;TZID=America/New_York:20271024T163000
DTSTAMP:20260423T201855
CREATED:20240702T130853Z
LAST-MODIFIED:20250505T014452Z
UID:10000191-1824391800-1824395400@hagerstownaa.org
SUMMARY:HAIG Meeting
DESCRIPTION:The Hagerstown Area Intergroup (HAIG) meetings are typically held the 4th Sunday of the month\, 3:30pm at Fellowship Hall.
URL:https://hagerstownaa.org/event/haig-meeting-2/2027-10-24/
LOCATION:Fellowship Hall\, 6 N Mulberry St\, Hagerstown\, MD\, 21740\, United States
GEO:39.6402839;-77.7159808
X-APPLE-STRUCTURED-LOCATION;VALUE=URI;X-ADDRESS=Fellowship Hall 6 N Mulberry St Hagerstown MD 21740 United States;X-APPLE-RADIUS=500;X-TITLE=6 N Mulberry St:geo:-77.7159808,39.6402839
END:VEVENT
BEGIN:VEVENT
DTSTART;TZID=America/New_York:20271113T090000
DTEND;TZID=America/New_York:20271113T120000
DTSTAMP:20260423T201855
CREATED:20231220T202026Z
LAST-MODIFIED:20250110T205608Z
UID:10000131-1826096400-1826107200@hagerstownaa.org
SUMMARY:Mountain Breakfast
DESCRIPTION:Great service opportunity! \nSetup at 7:00 (Service Opportunity) \nFellowship at 9:00 \nBreakfast at 10:00 \nSpeaker at 11:00 \n$10.00 donation
URL:https://hagerstownaa.org/event/mountain-breakfast-2-2/2027-11-13/
LOCATION:Old Germantown Church of God\, 16924 Raven Rd\, Sabillasville\, MD\, 21780\, United States
GEO:39.7003209;-77.4560092
X-APPLE-STRUCTURED-LOCATION;VALUE=URI;X-ADDRESS=Old Germantown Church of God 16924 Raven Rd Sabillasville MD 21780 United States;X-APPLE-RADIUS=500;X-TITLE=16924 Raven Rd:geo:-77.4560092,39.7003209
END:VEVENT
BEGIN:VEVENT
DTSTART;TZID=America/New_York:20271121T160000
DTEND;TZID=America/New_York:20271121T170000
DTSTAMP:20260423T201855
CREATED:20241123T234112Z
LAST-MODIFIED:20241124T120042Z
UID:10000311-1826812800-1826816400@hagerstownaa.org
SUMMARY:District 20 Meeting
DESCRIPTION:District 20 Meetings take place the 3rd Sunday of each month\, 4:00pm at Fellowship Hall.
URL:https://hagerstownaa.org/event/district-20-meeting-2/2027-11-21/
LOCATION:Fellowship Hall\, 6 N Mulberry St\, Hagerstown\, MD\, 21740\, United States
GEO:39.6402839;-77.7159808
X-APPLE-STRUCTURED-LOCATION;VALUE=URI;X-ADDRESS=Fellowship Hall 6 N Mulberry St Hagerstown MD 21740 United States;X-APPLE-RADIUS=500;X-TITLE=6 N Mulberry St:geo:-77.7159808,39.6402839
END:VEVENT
BEGIN:VEVENT
DTSTART;TZID=America/New_York:20271128T153000
DTEND;TZID=America/New_York:20271128T163000
DTSTAMP:20260423T201855
CREATED:20240702T130853Z
LAST-MODIFIED:20250505T014452Z
UID:10000192-1827415800-1827419400@hagerstownaa.org
SUMMARY:HAIG Meeting
DESCRIPTION:The Hagerstown Area Intergroup (HAIG) meetings are typically held the 4th Sunday of the month\, 3:30pm at Fellowship Hall.
URL:https://hagerstownaa.org/event/haig-meeting-2/2027-11-28/
LOCATION:Fellowship Hall\, 6 N Mulberry St\, Hagerstown\, MD\, 21740\, United States
GEO:39.6402839;-77.7159808
X-APPLE-STRUCTURED-LOCATION;VALUE=URI;X-ADDRESS=Fellowship Hall 6 N Mulberry St Hagerstown MD 21740 United States;X-APPLE-RADIUS=500;X-TITLE=6 N Mulberry St:geo:-77.7159808,39.6402839
END:VEVENT
BEGIN:VEVENT
DTSTART;TZID=America/New_York:20271211T090000
DTEND;TZID=America/New_York:20271211T120000
DTSTAMP:20260423T201855
CREATED:20231220T202026Z
LAST-MODIFIED:20250110T205608Z
UID:10000132-1828515600-1828526400@hagerstownaa.org
SUMMARY:Mountain Breakfast
DESCRIPTION:Great service opportunity! \nSetup at 7:00 (Service Opportunity) \nFellowship at 9:00 \nBreakfast at 10:00 \nSpeaker at 11:00 \n$10.00 donation
URL:https://hagerstownaa.org/event/mountain-breakfast-2-2/2027-12-11/
LOCATION:Old Germantown Church of God\, 16924 Raven Rd\, Sabillasville\, MD\, 21780\, United States
GEO:39.7003209;-77.4560092
X-APPLE-STRUCTURED-LOCATION;VALUE=URI;X-ADDRESS=Old Germantown Church of God 16924 Raven Rd Sabillasville MD 21780 United States;X-APPLE-RADIUS=500;X-TITLE=16924 Raven Rd:geo:-77.4560092,39.7003209
END:VEVENT
BEGIN:VEVENT
DTSTART;TZID=America/New_York:20271219T160000
DTEND;TZID=America/New_York:20271219T170000
DTSTAMP:20260423T201855
CREATED:20241123T234112Z
LAST-MODIFIED:20241124T120042Z
UID:10000312-1829232000-1829235600@hagerstownaa.org
SUMMARY:District 20 Meeting
DESCRIPTION:District 20 Meetings take place the 3rd Sunday of each month\, 4:00pm at Fellowship Hall.
URL:https://hagerstownaa.org/event/district-20-meeting-2/2027-12-19/
LOCATION:Fellowship Hall\, 6 N Mulberry St\, Hagerstown\, MD\, 21740\, United States
GEO:39.6402839;-77.7159808
X-APPLE-STRUCTURED-LOCATION;VALUE=URI;X-ADDRESS=Fellowship Hall 6 N Mulberry St Hagerstown MD 21740 United States;X-APPLE-RADIUS=500;X-TITLE=6 N Mulberry St:geo:-77.7159808,39.6402839
END:VEVENT
BEGIN:VEVENT
DTSTART;TZID=America/New_York:20271226T153000
DTEND;TZID=America/New_York:20271226T163000
DTSTAMP:20260423T201855
CREATED:20240702T130853Z
LAST-MODIFIED:20250505T014452Z
UID:10000193-1829835000-1829838600@hagerstownaa.org
SUMMARY:HAIG Meeting
DESCRIPTION:The Hagerstown Area Intergroup (HAIG) meetings are typically held the 4th Sunday of the month\, 3:30pm at Fellowship Hall.
URL:https://hagerstownaa.org/event/haig-meeting-2/2027-12-26/
LOCATION:Fellowship Hall\, 6 N Mulberry St\, Hagerstown\, MD\, 21740\, United States
GEO:39.6402839;-77.7159808
X-APPLE-STRUCTURED-LOCATION;VALUE=URI;X-ADDRESS=Fellowship Hall 6 N Mulberry St Hagerstown MD 21740 United States;X-APPLE-RADIUS=500;X-TITLE=6 N Mulberry St:geo:-77.7159808,39.6402839
END:VEVENT
BEGIN:VEVENT
DTSTART;TZID=America/New_York:20280108T090000
DTEND;TZID=America/New_York:20280108T120000
DTSTAMP:20260423T201855
CREATED:20231220T202026Z
LAST-MODIFIED:20250110T205608Z
UID:10000133-1830934800-1830945600@hagerstownaa.org
SUMMARY:Mountain Breakfast
DESCRIPTION:Great service opportunity! \nSetup at 7:00 (Service Opportunity) \nFellowship at 9:00 \nBreakfast at 10:00 \nSpeaker at 11:00 \n$10.00 donation
URL:https://hagerstownaa.org/event/mountain-breakfast-2-2/2028-01-08/
LOCATION:Old Germantown Church of God\, 16924 Raven Rd\, Sabillasville\, MD\, 21780\, United States
GEO:39.7003209;-77.4560092
X-APPLE-STRUCTURED-LOCATION;VALUE=URI;X-ADDRESS=Old Germantown Church of God 16924 Raven Rd Sabillasville MD 21780 United States;X-APPLE-RADIUS=500;X-TITLE=16924 Raven Rd:geo:-77.4560092,39.7003209
END:VEVENT
BEGIN:VEVENT
DTSTART;TZID=America/New_York:20280116T160000
DTEND;TZID=America/New_York:20280116T170000
DTSTAMP:20260423T201855
CREATED:20241123T234112Z
LAST-MODIFIED:20241124T120042Z
UID:10000313-1831651200-1831654800@hagerstownaa.org
SUMMARY:District 20 Meeting
DESCRIPTION:District 20 Meetings take place the 3rd Sunday of each month\, 4:00pm at Fellowship Hall.
URL:https://hagerstownaa.org/event/district-20-meeting-2/2028-01-16/
LOCATION:Fellowship Hall\, 6 N Mulberry St\, Hagerstown\, MD\, 21740\, United States
GEO:39.6402839;-77.7159808
X-APPLE-STRUCTURED-LOCATION;VALUE=URI;X-ADDRESS=Fellowship Hall 6 N Mulberry St Hagerstown MD 21740 United States;X-APPLE-RADIUS=500;X-TITLE=6 N Mulberry St:geo:-77.7159808,39.6402839
END:VEVENT
BEGIN:VEVENT
DTSTART;TZID=America/New_York:20280123T153000
DTEND;TZID=America/New_York:20280123T163000
DTSTAMP:20260423T201855
CREATED:20240702T130853Z
LAST-MODIFIED:20250505T014452Z
UID:10000194-1832254200-1832257800@hagerstownaa.org
SUMMARY:HAIG Meeting
DESCRIPTION:The Hagerstown Area Intergroup (HAIG) meetings are typically held the 4th Sunday of the month\, 3:30pm at Fellowship Hall.
URL:https://hagerstownaa.org/event/haig-meeting-2/2028-01-23/
LOCATION:Fellowship Hall\, 6 N Mulberry St\, Hagerstown\, MD\, 21740\, United States
GEO:39.6402839;-77.7159808
X-APPLE-STRUCTURED-LOCATION;VALUE=URI;X-ADDRESS=Fellowship Hall 6 N Mulberry St Hagerstown MD 21740 United States;X-APPLE-RADIUS=500;X-TITLE=6 N Mulberry St:geo:-77.7159808,39.6402839
END:VEVENT
BEGIN:VEVENT
DTSTART;TZID=America/New_York:20280212T090000
DTEND;TZID=America/New_York:20280212T120000
DTSTAMP:20260423T201855
CREATED:20231220T202026Z
LAST-MODIFIED:20250110T205608Z
UID:10000134-1833958800-1833969600@hagerstownaa.org
SUMMARY:Mountain Breakfast
DESCRIPTION:Great service opportunity! \nSetup at 7:00 (Service Opportunity) \nFellowship at 9:00 \nBreakfast at 10:00 \nSpeaker at 11:00 \n$10.00 donation
URL:https://hagerstownaa.org/event/mountain-breakfast-2-2/2028-02-12/
LOCATION:Old Germantown Church of God\, 16924 Raven Rd\, Sabillasville\, MD\, 21780\, United States
GEO:39.7003209;-77.4560092
X-APPLE-STRUCTURED-LOCATION;VALUE=URI;X-ADDRESS=Old Germantown Church of God 16924 Raven Rd Sabillasville MD 21780 United States;X-APPLE-RADIUS=500;X-TITLE=16924 Raven Rd:geo:-77.4560092,39.7003209
END:VEVENT
BEGIN:VEVENT
DTSTART;TZID=America/New_York:20280220T160000
DTEND;TZID=America/New_York:20280220T170000
DTSTAMP:20260423T201855
CREATED:20241123T234112Z
LAST-MODIFIED:20241124T120042Z
UID:10000314-1834675200-1834678800@hagerstownaa.org
SUMMARY:District 20 Meeting
DESCRIPTION:District 20 Meetings take place the 3rd Sunday of each month\, 4:00pm at Fellowship Hall.
URL:https://hagerstownaa.org/event/district-20-meeting-2/2028-02-20/
LOCATION:Fellowship Hall\, 6 N Mulberry St\, Hagerstown\, MD\, 21740\, United States
GEO:39.6402839;-77.7159808
X-APPLE-STRUCTURED-LOCATION;VALUE=URI;X-ADDRESS=Fellowship Hall 6 N Mulberry St Hagerstown MD 21740 United States;X-APPLE-RADIUS=500;X-TITLE=6 N Mulberry St:geo:-77.7159808,39.6402839
END:VEVENT
BEGIN:VEVENT
DTSTART;TZID=America/New_York:20280227T153000
DTEND;TZID=America/New_York:20280227T163000
DTSTAMP:20260423T201855
CREATED:20240702T130853Z
LAST-MODIFIED:20250505T014452Z
UID:10000195-1835278200-1835281800@hagerstownaa.org
SUMMARY:HAIG Meeting
DESCRIPTION:The Hagerstown Area Intergroup (HAIG) meetings are typically held the 4th Sunday of the month\, 3:30pm at Fellowship Hall.
URL:https://hagerstownaa.org/event/haig-meeting-2/2028-02-27/
LOCATION:Fellowship Hall\, 6 N Mulberry St\, Hagerstown\, MD\, 21740\, United States
GEO:39.6402839;-77.7159808
X-APPLE-STRUCTURED-LOCATION;VALUE=URI;X-ADDRESS=Fellowship Hall 6 N Mulberry St Hagerstown MD 21740 United States;X-APPLE-RADIUS=500;X-TITLE=6 N Mulberry St:geo:-77.7159808,39.6402839
END:VEVENT
BEGIN:VEVENT
DTSTART;TZID=America/New_York:20280311T090000
DTEND;TZID=America/New_York:20280311T120000
DTSTAMP:20260423T201855
CREATED:20231220T202026Z
LAST-MODIFIED:20250110T205608Z
UID:10000135-1836378000-1836388800@hagerstownaa.org
SUMMARY:Mountain Breakfast
DESCRIPTION:Great service opportunity! \nSetup at 7:00 (Service Opportunity) \nFellowship at 9:00 \nBreakfast at 10:00 \nSpeaker at 11:00 \n$10.00 donation
URL:https://hagerstownaa.org/event/mountain-breakfast-2-2/2028-03-11/
LOCATION:Old Germantown Church of God\, 16924 Raven Rd\, Sabillasville\, MD\, 21780\, United States
GEO:39.7003209;-77.4560092
X-APPLE-STRUCTURED-LOCATION;VALUE=URI;X-ADDRESS=Old Germantown Church of God 16924 Raven Rd Sabillasville MD 21780 United States;X-APPLE-RADIUS=500;X-TITLE=16924 Raven Rd:geo:-77.4560092,39.7003209
END:VEVENT
BEGIN:VEVENT
DTSTART;TZID=America/New_York:20280319T160000
DTEND;TZID=America/New_York:20280319T170000
DTSTAMP:20260423T201855
CREATED:20241123T234112Z
LAST-MODIFIED:20241124T120042Z
UID:10000315-1837094400-1837098000@hagerstownaa.org
SUMMARY:District 20 Meeting
DESCRIPTION:District 20 Meetings take place the 3rd Sunday of each month\, 4:00pm at Fellowship Hall.
URL:https://hagerstownaa.org/event/district-20-meeting-2/2028-03-19/
LOCATION:Fellowship Hall\, 6 N Mulberry St\, Hagerstown\, MD\, 21740\, United States
GEO:39.6402839;-77.7159808
X-APPLE-STRUCTURED-LOCATION;VALUE=URI;X-ADDRESS=Fellowship Hall 6 N Mulberry St Hagerstown MD 21740 United States;X-APPLE-RADIUS=500;X-TITLE=6 N Mulberry St:geo:-77.7159808,39.6402839
END:VEVENT
BEGIN:VEVENT
DTSTART;TZID=America/New_York:20280326T153000
DTEND;TZID=America/New_York:20280326T163000
DTSTAMP:20260423T201855
CREATED:20240702T130853Z
LAST-MODIFIED:20250505T014452Z
UID:10000196-1837697400-1837701000@hagerstownaa.org
SUMMARY:HAIG Meeting
DESCRIPTION:The Hagerstown Area Intergroup (HAIG) meetings are typically held the 4th Sunday of the month\, 3:30pm at Fellowship Hall.
URL:https://hagerstownaa.org/event/haig-meeting-2/2028-03-26/
LOCATION:Fellowship Hall\, 6 N Mulberry St\, Hagerstown\, MD\, 21740\, United States
GEO:39.6402839;-77.7159808
X-APPLE-STRUCTURED-LOCATION;VALUE=URI;X-ADDRESS=Fellowship Hall 6 N Mulberry St Hagerstown MD 21740 United States;X-APPLE-RADIUS=500;X-TITLE=6 N Mulberry St:geo:-77.7159808,39.6402839
END:VEVENT
END:VCALENDAR