BEGIN:VCALENDAR
VERSION:2.0
PRODID:-//Hagerstown AA - ECPv6.15.20//NONSGML v1.0//EN
CALSCALE:GREGORIAN
METHOD:PUBLISH
X-WR-CALNAME:Hagerstown AA
X-ORIGINAL-URL:https://hagerstownaa.org
X-WR-CALDESC:Events for Hagerstown AA
REFRESH-INTERVAL;VALUE=DURATION:PT1H
X-Robots-Tag:noindex
X-PUBLISHED-TTL:PT1H
BEGIN:VTIMEZONE
TZID:America/New_York
BEGIN:DAYLIGHT
TZOFFSETFROM:-0500
TZOFFSETTO:-0400
TZNAME:EDT
DTSTART:20170312T070000
END:DAYLIGHT
BEGIN:STANDARD
TZOFFSETFROM:-0400
TZOFFSETTO:-0500
TZNAME:EST
DTSTART:20171105T060000
END:STANDARD
BEGIN:DAYLIGHT
TZOFFSETFROM:-0500
TZOFFSETTO:-0400
TZNAME:EDT
DTSTART:20180311T070000
END:DAYLIGHT
BEGIN:STANDARD
TZOFFSETFROM:-0400
TZOFFSETTO:-0500
TZNAME:EST
DTSTART:20181104T060000
END:STANDARD
BEGIN:DAYLIGHT
TZOFFSETFROM:-0500
TZOFFSETTO:-0400
TZNAME:EDT
DTSTART:20190310T070000
END:DAYLIGHT
BEGIN:STANDARD
TZOFFSETFROM:-0400
TZOFFSETTO:-0500
TZNAME:EST
DTSTART:20191103T060000
END:STANDARD
BEGIN:DAYLIGHT
TZOFFSETFROM:-0500
TZOFFSETTO:-0400
TZNAME:EDT
DTSTART:20200308T070000
END:DAYLIGHT
BEGIN:STANDARD
TZOFFSETFROM:-0400
TZOFFSETTO:-0500
TZNAME:EST
DTSTART:20201101T060000
END:STANDARD
END:VTIMEZONE
BEGIN:VEVENT
DTSTART;TZID=America/New_York:20190209T090000
DTEND;TZID=America/New_York:20190209T120000
DTSTAMP:20260424T115929
CREATED:20180222T231644Z
LAST-MODIFIED:20231124T120035Z
UID:10000026-1549702800-1549713600@hagerstownaa.org
SUMMARY:Mountain Breakfast
DESCRIPTION:Great service opportunity! \nSetup at 7:00 (Service Opportunity) \nFellowship at 9:00 \nBreakfast at 10:00 \nSpeaker at 11:00 \n$10.00 donation
URL:https://hagerstownaa.org/event/mountain-breakfast-2/2019-02-09/
LOCATION:Old Germantown Church of God\, 16924 Raven Rd\, Sabillasville\, MD\, 21780\, United States
GEO:39.7003209;-77.4560092
X-APPLE-STRUCTURED-LOCATION;VALUE=URI;X-ADDRESS=Old Germantown Church of God 16924 Raven Rd Sabillasville MD 21780 United States;X-APPLE-RADIUS=500;X-TITLE=16924 Raven Rd:geo:-77.4560092,39.7003209
END:VEVENT
BEGIN:VEVENT
DTSTART;TZID=America/New_York:20190112T090000
DTEND;TZID=America/New_York:20190112T120000
DTSTAMP:20260424T115929
CREATED:20180222T231644Z
LAST-MODIFIED:20231124T120035Z
UID:10000025-1547283600-1547294400@hagerstownaa.org
SUMMARY:Mountain Breakfast
DESCRIPTION:Great service opportunity! \nSetup at 7:00 (Service Opportunity) \nFellowship at 9:00 \nBreakfast at 10:00 \nSpeaker at 11:00 \n$10.00 donation
URL:https://hagerstownaa.org/event/mountain-breakfast-2/2019-01-12/
LOCATION:Old Germantown Church of God\, 16924 Raven Rd\, Sabillasville\, MD\, 21780\, United States
GEO:39.7003209;-77.4560092
X-APPLE-STRUCTURED-LOCATION;VALUE=URI;X-ADDRESS=Old Germantown Church of God 16924 Raven Rd Sabillasville MD 21780 United States;X-APPLE-RADIUS=500;X-TITLE=16924 Raven Rd:geo:-77.4560092,39.7003209
END:VEVENT
BEGIN:VEVENT
DTSTART;TZID=America/New_York:20181208T090000
DTEND;TZID=America/New_York:20181208T120000
DTSTAMP:20260424T115929
CREATED:20180222T231644Z
LAST-MODIFIED:20231124T120035Z
UID:10000024-1544259600-1544270400@hagerstownaa.org
SUMMARY:Mountain Breakfast
DESCRIPTION:Great service opportunity! \nSetup at 7:00 (Service Opportunity) \nFellowship at 9:00 \nBreakfast at 10:00 \nSpeaker at 11:00 \n$10.00 donation
URL:https://hagerstownaa.org/event/mountain-breakfast-2/2018-12-08/
LOCATION:Old Germantown Church of God\, 16924 Raven Rd\, Sabillasville\, MD\, 21780\, United States
GEO:39.7003209;-77.4560092
X-APPLE-STRUCTURED-LOCATION;VALUE=URI;X-ADDRESS=Old Germantown Church of God 16924 Raven Rd Sabillasville MD 21780 United States;X-APPLE-RADIUS=500;X-TITLE=16924 Raven Rd:geo:-77.4560092,39.7003209
END:VEVENT
BEGIN:VEVENT
DTSTART;TZID=America/New_York:20181110T090000
DTEND;TZID=America/New_York:20181110T120000
DTSTAMP:20260424T115929
CREATED:20180222T231644Z
LAST-MODIFIED:20231124T120035Z
UID:10000023-1541840400-1541851200@hagerstownaa.org
SUMMARY:Mountain Breakfast
DESCRIPTION:Great service opportunity! \nSetup at 7:00 (Service Opportunity) \nFellowship at 9:00 \nBreakfast at 10:00 \nSpeaker at 11:00 \n$10.00 donation
URL:https://hagerstownaa.org/event/mountain-breakfast-2/2018-11-10/
LOCATION:Old Germantown Church of God\, 16924 Raven Rd\, Sabillasville\, MD\, 21780\, United States
GEO:39.7003209;-77.4560092
X-APPLE-STRUCTURED-LOCATION;VALUE=URI;X-ADDRESS=Old Germantown Church of God 16924 Raven Rd Sabillasville MD 21780 United States;X-APPLE-RADIUS=500;X-TITLE=16924 Raven Rd:geo:-77.4560092,39.7003209
END:VEVENT
BEGIN:VEVENT
DTSTART;TZID=America/New_York:20181103T090000
DTEND;TZID=America/New_York:20181103T120000
DTSTAMP:20260424T115929
CREATED:20180716T234542Z
LAST-MODIFIED:20210310T221409Z
UID:10000006-1541235600-1541246400@hagerstownaa.org
SUMMARY:District 20 Workshop: Principles Before Posting
DESCRIPTION:Flyer-D20 Principles Before Posting – Nov 3\, 2018 \nMARK YOUR CALENDARS!  \nDistrict 20 (Washington County) will present the following informational and well-received workshop: Principles Before Posting \nSaturday\, November 3\, 2018 9:00 am to Noon \nEmmanuel United Methodist Church (site of Summit Avenue Group meeting) \n802 Summit Avenue Hagerstown\, MD \nFeel free to pass on the information and make a copy of the attached flyer to announce at your home group. \n\n\n\n\n\n\n\n 
URL:https://hagerstownaa.org/event/district-20-workshop-principles-before-posting/
LOCATION:Emmanuel United Methodist Church\, 802 Summit Ave\, Hagerstown\, MD\, 21740\, United States
GEO:39.6296814;-77.7318444
X-APPLE-STRUCTURED-LOCATION;VALUE=URI;X-ADDRESS=Emmanuel United Methodist Church 802 Summit Ave Hagerstown MD 21740 United States;X-APPLE-RADIUS=500;X-TITLE=802 Summit Ave:geo:-77.7318444,39.6296814
END:VEVENT
BEGIN:VEVENT
DTSTART;TZID=America/New_York:20181027T083000
DTEND;TZID=America/New_York:20181027T160000
DTSTAMP:20260424T115929
CREATED:20180914T001818Z
LAST-MODIFIED:20180926T214315Z
UID:10000005-1540629000-1540656000@hagerstownaa.org
SUMMARY:Women's Retreat - Freedom from Alcohol
DESCRIPTION:Click to download flier \nFreedom from Alcohol!Women in Recovery5th Annual Fall FrolicSATURDAY\, OCTOBER 27\, 2018 \n8:30 a.m. – 4:00 p.m.3200 Mar Lu Ridge Road\, Jefferson\, MD 21755 \nPotomac House \n“Most good ideas are simple\, and this concept was the keystone of thenew and triumphant arch through which we passed to freedom.” \nThe Big Book\, page 62 \nWear comfortable clothing and prepare to enjoy the fellowship!Coffee\, tea and water will be provided throughout the day. \nParking: Mar Lu Ridge Retreat Center restricts parking to designated areas\, so please considercarpooling and/or arriving early. Smoking will be permitted in an assigned outdoor area only.Directions: Mar Lu Ridge Conference Center’s website is www.mar-lu-ridge.org. Under the “About Us” tab\, \nthe “Directions” hot link connects you to written instructions. \nWe are unfortunately unable to refund for cancellations. We will\, however\, return registrations and checks if the \nconference is full. No tickets will be available after October 21.Come join us for a day of sisterhood including: \n• Meet and Greet • Guided Meditation • Two Fabulous Speakers from Hagerstown and Frederick \n• Interactive Exercises • Sharing • Sobriety Countdown • and more! \nONLY $25 PER REGISTRANT ~ Includes Light Breakfast and Full Lunch
URL:https://hagerstownaa.org/event/womens-retreat-freedom-from-alcohol/
LOCATION:Potomac House\, 3200 Mar Lu Ridge Road\, Jefferson\, MD\, 21755\, United States
CATEGORIES:Retreat,Women Only
GEO:39.3206214;-77.5297048
X-APPLE-STRUCTURED-LOCATION;VALUE=URI;X-ADDRESS=Potomac House 3200 Mar Lu Ridge Road Jefferson MD 21755 United States;X-APPLE-RADIUS=500;X-TITLE=3200 Mar Lu Ridge Road:geo:-77.5297048,39.3206214
END:VEVENT
BEGIN:VEVENT
DTSTART;TZID=America/New_York:20181023T190000
DTEND;TZID=America/New_York:20181023T210000
DTSTAMP:20260424T115929
CREATED:20181005T195101Z
LAST-MODIFIED:20181005T195101Z
UID:10000002-1540321200-1540328400@hagerstownaa.org
SUMMARY:Big Book Study
DESCRIPTION:Big Book StudyFlyer-Fall2018 \nTuesdays\, starting October 23rd through January 15 (excluding Christmas) \n7:00 PM – 9:00 PM \nSummit Ave Meeting Location \nEmmanuel United Methodist Church \n 
URL:https://hagerstownaa.org/event/big-book-study/
LOCATION:Emmanuel United Methodist Church\, 802 Summit Ave\, Hagerstown\, MD\, 21740\, United States
CATEGORIES:Big Book Study
GEO:39.6296814;-77.7318444
X-APPLE-STRUCTURED-LOCATION;VALUE=URI;X-ADDRESS=Emmanuel United Methodist Church 802 Summit Ave Hagerstown MD 21740 United States;X-APPLE-RADIUS=500;X-TITLE=802 Summit Ave:geo:-77.7318444,39.6296814
END:VEVENT
BEGIN:VEVENT
DTSTART;TZID=America/New_York:20181013T090000
DTEND;TZID=America/New_York:20181013T120000
DTSTAMP:20260424T115929
CREATED:20180222T231644Z
LAST-MODIFIED:20231124T120035Z
UID:10000022-1539421200-1539432000@hagerstownaa.org
SUMMARY:Mountain Breakfast
DESCRIPTION:Great service opportunity! \nSetup at 7:00 (Service Opportunity) \nFellowship at 9:00 \nBreakfast at 10:00 \nSpeaker at 11:00 \n$10.00 donation
URL:https://hagerstownaa.org/event/mountain-breakfast-2/2018-10-13/
LOCATION:Old Germantown Church of God\, 16924 Raven Rd\, Sabillasville\, MD\, 21780\, United States
GEO:39.7003209;-77.4560092
X-APPLE-STRUCTURED-LOCATION;VALUE=URI;X-ADDRESS=Old Germantown Church of God 16924 Raven Rd Sabillasville MD 21780 United States;X-APPLE-RADIUS=500;X-TITLE=16924 Raven Rd:geo:-77.4560092,39.7003209
END:VEVENT
BEGIN:VEVENT
DTSTART;TZID=America/New_York:20180922T110000
DTEND;TZID=America/New_York:20180922T150000
DTSTAMP:20260424T115929
CREATED:20180916T154501Z
LAST-MODIFIED:20180926T214554Z
UID:10000003-1537614000-1537628400@hagerstownaa.org
SUMMARY:BRS Hilltop Group Picnic - Shades of Change
DESCRIPTION:BRS Hilltop Group presents the 11th annual “Shades of Change” Picnic and Meeting. \nSeptember 22\, Pen Mar Park\, Pavilion #1 \nDrinks\, Burgers\, Dogs n Fixin’s will be supplied \nPlease\, if you care\, bring a covered dish to share!! \nFellowship @ 11am Grub @ Noon Speaker @ 2:00PM Gates open @ 9am and close at 8pm \nPlayground for the kids and Horseshoes available \n50/50 raffle Hope to see you there! \nCall or text 443-307-4036  
URL:https://hagerstownaa.org/event/brs-hilltop-group-picnic-shades-of-change/
LOCATION:Pen Mar Park\, 14600 Pen Mar/High Rock Road\, Cascade\, MD\, 21719\, United States
GEO:39.7171923;-77.5078358
X-APPLE-STRUCTURED-LOCATION;VALUE=URI;X-ADDRESS=Pen Mar Park 14600 Pen Mar/High Rock Road Cascade MD 21719 United States;X-APPLE-RADIUS=500;X-TITLE=14600 Pen Mar/High Rock Road:geo:-77.5078358,39.7171923
END:VEVENT
BEGIN:VEVENT
DTSTART;TZID=America/New_York:20180916T150000
DTEND;TZID=America/New_York:20180916T170000
DTSTAMP:20260424T115929
CREATED:20180915T115547Z
LAST-MODIFIED:20180915T120650Z
UID:10000004-1537110000-1537117200@hagerstownaa.org
SUMMARY:Answering Service Workshop
DESCRIPTION:Answering Service Workshop Flyer 2018 \nHagerstown AreaIntergroup\nAnswering Service \nWorkshop \nSunday\, September 16\n3:00 pm to 5:00 pm \n__________ \nJ.P. Mino Coffee Shop\n431 Dual Highway\nHagerstown\, Maryland \nDiscussion to Include:\n How to field calls of\ndifferent varieties\n Shared experience with\ncall center calls and how\nthey were handled
URL:https://hagerstownaa.org/event/answering-service-workshop/
LOCATION:J.P. Mino Coffee Shop\, 431 Dual Highway\, Hagerstown\, MD\, United States
CATEGORIES:Intergroup
GEO:39.6370946;-77.710958
X-APPLE-STRUCTURED-LOCATION;VALUE=URI;X-ADDRESS=J.P. Mino Coffee Shop 431 Dual Highway Hagerstown MD United States;X-APPLE-RADIUS=500;X-TITLE=431 Dual Highway:geo:-77.710958,39.6370946
END:VEVENT
BEGIN:VEVENT
DTSTART;TZID=America/New_York:20180908T090000
DTEND;TZID=America/New_York:20180908T120000
DTSTAMP:20260424T115929
CREATED:20180222T231644Z
LAST-MODIFIED:20231124T120035Z
UID:10000015-1536397200-1536408000@hagerstownaa.org
SUMMARY:Mountain Breakfast
DESCRIPTION:Great service opportunity! \nSetup at 7:00 (Service Opportunity) \nFellowship at 9:00 \nBreakfast at 10:00 \nSpeaker at 11:00 \n$10.00 donation
URL:https://hagerstownaa.org/event/mountain-breakfast-2/2018-09-08/
LOCATION:Old Germantown Church of God\, 16924 Raven Rd\, Sabillasville\, MD\, 21780\, United States
GEO:39.7003209;-77.4560092
X-APPLE-STRUCTURED-LOCATION;VALUE=URI;X-ADDRESS=Old Germantown Church of God 16924 Raven Rd Sabillasville MD 21780 United States;X-APPLE-RADIUS=500;X-TITLE=16924 Raven Rd:geo:-77.4560092,39.7003209
END:VEVENT
BEGIN:VEVENT
DTSTART;VALUE=DATE:20180830
DTEND;VALUE=DATE:20180903
DTSTAMP:20260424T115929
CREATED:20180525T202728Z
LAST-MODIFIED:20180525T202728Z
UID:10000010-1535587200-1535932799@hagerstownaa.org
SUMMARY:ICYPAA - International Conference for Young People of Alcoholics Anonymous
DESCRIPTION:
URL:https://hagerstownaa.org/event/icypaa18/
LOCATION:Hilton Baltimore\, 401 W Pratt St.\, Baltimore\, MD\, 21201\, United States
GEO:39.2856106;-76.6213247
X-APPLE-STRUCTURED-LOCATION;VALUE=URI;X-ADDRESS=Hilton Baltimore 401 W Pratt St. Baltimore MD 21201 United States;X-APPLE-RADIUS=500;X-TITLE=401 W Pratt St.:geo:-76.6213247,39.2856106
END:VEVENT
BEGIN:VEVENT
DTSTART;TZID=America/New_York:20180804T110000
DTEND;TZID=America/New_York:20180804T140000
DTSTAMP:20260424T115929
CREATED:20180702T173609Z
LAST-MODIFIED:20180702T173609Z
UID:10000007-1533380400-1533391200@hagerstownaa.org
SUMMARY:August Summer Picnic and Speaker
DESCRIPTION:HAIG 2018-08-04 Speaker and Picnic Flyer \nDoub’s Woods Park\, South Pavilion\n1307 S. Potomac St\, Hagerstown\, MD \n(Enter from S. Potomac St; Between E. Russell Hicks\nMiddle School and Emma K. Doub Elementary School) \n\nCoffee and Fellowship: 11 am\nFood: Noon\nSpeaker: 1 pm\n\nFried Chicken\, Coffee\, and Drinks will be provided. Grills available – bring your own charcoal and meat.\nPLEASE BRING A CASSEROLE\, SALAD OR DESSERT TO SHARE \nCome enjoy the warm weather with friends and fellowship! \n50/50 Raffle \nAdmission is Free!
URL:https://hagerstownaa.org/event/august-summer-picnic-and-speaker/
LOCATION:Doubs Woods Park\, 1307 S Potomac St\, Hagerstown\, MD\, 21740\, United States
GEO:39.6157728;-77.7304821
X-APPLE-STRUCTURED-LOCATION;VALUE=URI;X-ADDRESS=Doubs Woods Park 1307 S Potomac St Hagerstown MD 21740 United States;X-APPLE-RADIUS=500;X-TITLE=1307 S Potomac St:geo:-77.7304821,39.6157728
END:VEVENT
BEGIN:VEVENT
DTSTART;VALUE=DATE:20180629
DTEND;VALUE=DATE:20180702
DTSTAMP:20260424T115929
CREATED:20180603T175817Z
LAST-MODIFIED:20180603T175817Z
UID:10000009-1530230400-1530489599@hagerstownaa.org
SUMMARY:Maryland State Convention\, 48th Annual\, Area 29
DESCRIPTION:2018MDStateConventionflyer \nClick above link for flyer – Convention held at Clarion Hotel\, Frederick\, MD.
URL:https://hagerstownaa.org/event/maryland-state-convention-48th-annual-area-29/
LOCATION:Clarion Inn\, 5400 Holiday Drive\, Frederick\, MD\, 21701
GEO:39.3798089;-77.4045744
X-APPLE-STRUCTURED-LOCATION;VALUE=URI;X-ADDRESS=Clarion Inn 5400 Holiday Drive Frederick MD 21701;X-APPLE-RADIUS=500;X-TITLE=5400 Holiday Drive:geo:-77.4045744,39.3798089
END:VEVENT
BEGIN:VEVENT
DTSTART;TZID=America/New_York:20180624T153000
DTEND;TZID=America/New_York:20180624T163000
DTSTAMP:20260424T115929
CREATED:20180216T033739Z
LAST-MODIFIED:20180525T203518Z
UID:10000021-1529854200-1529857800@hagerstownaa.org
SUMMARY:Hagerstown Area Intergroup
DESCRIPTION:In June\, we will be holding elections for officers. Please plan to attend… \nAll Intergroup Reps\, Officers\, and Committee Chairs should attend the meeting.
URL:https://hagerstownaa.org/event/hagerstown-area-intergroup/
LOCATION:Fellowship Hall\, 6 N Mulberry St\, Hagerstown\, MD\, 21740\, United States
CATEGORIES:Intergroup
GEO:39.6402839;-77.7159808
X-APPLE-STRUCTURED-LOCATION;VALUE=URI;X-ADDRESS=Fellowship Hall 6 N Mulberry St Hagerstown MD 21740 United States;X-APPLE-RADIUS=500;X-TITLE=6 N Mulberry St:geo:-77.7159808,39.6402839
END:VEVENT
BEGIN:VEVENT
DTSTART;TZID=America/New_York:20180519T110000
DTEND;TZID=America/New_York:20180519T140000
DTSTAMP:20260424T115929
CREATED:20180428T144659Z
LAST-MODIFIED:20180428T144659Z
UID:10000011-1526727600-1526738400@hagerstownaa.org
SUMMARY:HAIG Round Robin Spring Fellowship & Speaker
DESCRIPTION:Coffee & Fellowship\, Lunch\, and a Speaker: 11 am to 2 pm \nChicken\, Coffee\, and Drinks Provided \nPLEASE BRING A CASSEROLE\, SALAD OR DESSERT TO SHARE \nCome out and get some good food\, fellowship\, and an amazing speaker! \nADMISSION IS FREE!!
URL:https://hagerstownaa.org/event/haig-round-robin-spring-fellowship-speaker/
LOCATION:Otterbein United Methodist Church\, 108 East Franklin Street\, Hagerstown\, MD\, 21740\, United States
CATEGORIES:Intergroup,Speaker Meeting
GEO:39.6423094;-77.7165078
X-APPLE-STRUCTURED-LOCATION;VALUE=URI;X-ADDRESS=Otterbein United Methodist Church 108 East Franklin Street Hagerstown MD 21740 United States;X-APPLE-RADIUS=500;X-TITLE=108 East Franklin Street:geo:-77.7165078,39.6423094
END:VEVENT
BEGIN:VEVENT
DTSTART;TZID=America/New_York:20180428T200000
DTEND;TZID=America/New_York:20180428T210000
DTSTAMP:20260424T115929
CREATED:20180216T033627Z
LAST-MODIFIED:20180408T135334Z
UID:10000008-1524945600-1524949200@hagerstownaa.org
SUMMARY:Hagerstown Group - Speaker
DESCRIPTION:Speaker to be announced…
URL:https://hagerstownaa.org/event/hagerstown-group-speaker/
LOCATION:St. John’s Episcopal Church\, 101 S. Prospect St.\, Hagerstown\, MD\, 21740\, United States
CATEGORIES:Speaker Meeting
GEO:39.6426117;-77.7256852
X-APPLE-STRUCTURED-LOCATION;VALUE=URI;X-ADDRESS=St. John’s Episcopal Church 101 S. Prospect St. Hagerstown MD 21740 United States;X-APPLE-RADIUS=500;X-TITLE=101 S. Prospect St.:geo:-77.7256852,39.6426117
END:VEVENT
BEGIN:VEVENT
DTSTART;TZID=America/New_York:20180421T180000
DTEND;TZID=America/New_York:20180421T190000
DTSTAMP:20260424T115929
CREATED:20180308T035626Z
LAST-MODIFIED:20180408T135220Z
UID:10000012-1524333600-1524337200@hagerstownaa.org
SUMMARY:Fellowship Hall Speaker
DESCRIPTION:Carl S. from Hagerstown will be the speaker
URL:https://hagerstownaa.org/event/fellowship-hall-speaker/
LOCATION:Fellowship Hall\, 6 N Mulberry St\, Hagerstown\, MD\, 21740\, United States
CATEGORIES:Speaker Meeting
GEO:39.6402839;-77.7159808
X-APPLE-STRUCTURED-LOCATION;VALUE=URI;X-ADDRESS=Fellowship Hall 6 N Mulberry St Hagerstown MD 21740 United States;X-APPLE-RADIUS=500;X-TITLE=6 N Mulberry St:geo:-77.7159808,39.6402839
END:VEVENT
BEGIN:VEVENT
DTSTART;TZID=America/New_York:20180415T170000
DTEND;TZID=America/New_York:20180415T180000
DTSTAMP:20260424T115929
CREATED:20180216T032829Z
LAST-MODIFIED:20180408T135124Z
UID:10000019-1523811600-1523815200@hagerstownaa.org
SUMMARY:District 20 Meeting
DESCRIPTION:Meeting of the GSRs will start at 5:00 pm at 6 N. Mulberry St\, Hagerstown\, MD.
URL:https://hagerstownaa.org/event/district-20-meeting/
LOCATION:Fellowship Hall\, 6 N Mulberry St\, Hagerstown\, MD\, 21740\, United States
CATEGORIES:District 20 Meeting
GEO:39.6402839;-77.7159808
X-APPLE-STRUCTURED-LOCATION;VALUE=URI;X-ADDRESS=Fellowship Hall 6 N Mulberry St Hagerstown MD 21740 United States;X-APPLE-RADIUS=500;X-TITLE=6 N Mulberry St:geo:-77.7159808,39.6402839
END:VEVENT
BEGIN:VEVENT
DTSTART;TZID=America/New_York:20180318T130000
DTEND;TZID=America/New_York:20180318T160000
DTSTAMP:20260424T115929
CREATED:20180308T034508Z
LAST-MODIFIED:20180308T034508Z
UID:10000014-1521378000-1521388800@hagerstownaa.org
SUMMARY:Area 29’s Conference Agenda Review Committee (CARC 4)
DESCRIPTION:Area 29’s Delegate Don B. wants your home group’s feedback on upcoming Conference Agenda items. See DCM Scott L. for more information or a ride to the CARC.
URL:https://hagerstownaa.org/event/area-29s-conference-agenda-review-committee-carc-4/
LOCATION:Grace Trinity Church\, 9501 Baltimore Rd.\, Frederick\, MD
CATEGORIES:Area 29 Meeting
GEO:39.3939489;-77.334641
X-APPLE-STRUCTURED-LOCATION;VALUE=URI;X-ADDRESS=Grace Trinity Church 9501 Baltimore Rd. Frederick MD;X-APPLE-RADIUS=500;X-TITLE=9501 Baltimore Rd.:geo:-77.334641,39.3939489
END:VEVENT
BEGIN:VEVENT
DTSTART;VALUE=DATE:20180317
DTEND;VALUE=DATE:20180318
DTSTAMP:20260424T115929
CREATED:20180308T035137Z
LAST-MODIFIED:20180308T035137Z
UID:10000013-1521244800-1521331199@hagerstownaa.org
SUMMARY:Area 29 Area Assembly
DESCRIPTION:DCMs\, Alt. DCMs\, GSRs\, Alt. GSRs\, Area Committee Chairs and Co-Chairs\, Officers and all members of the fellowship are cordially invited to attend.
URL:https://hagerstownaa.org/event/area-29-area-assembly/
LOCATION:Church of the Resurrection\, 3175 Paulskirk Dr\, Ellicott City\, MD
CATEGORIES:Area 29 Meeting
GEO:39.2818436;-76.8310556
X-APPLE-STRUCTURED-LOCATION;VALUE=URI;X-ADDRESS=Church of the Resurrection 3175 Paulskirk Dr Ellicott City MD;X-APPLE-RADIUS=500;X-TITLE=3175 Paulskirk Dr:geo:-76.8310556,39.2818436
END:VEVENT
BEGIN:VEVENT
DTSTART;TZID=America/New_York:20180311T160000
DTEND;TZID=America/New_York:20180311T170000
DTSTAMP:20260424T115929
CREATED:20180216T034110Z
LAST-MODIFIED:20180216T034631Z
UID:10000016-1520784000-1520787600@hagerstownaa.org
SUMMARY:Area 29 MD State Convention Committee Meeting
DESCRIPTION:Any member interested in helping with the State Convention is recommended to attend this meeting. There are plenty of service positions available.
URL:https://hagerstownaa.org/event/area-29-md-state-convention-committee-meeting/
LOCATION:Clarion Inn\, 5400 Holiday Drive\, Frederick\, MD\, 21701
CATEGORIES:Area 29 Meeting
GEO:39.3798089;-77.4045744
X-APPLE-STRUCTURED-LOCATION;VALUE=URI;X-ADDRESS=Clarion Inn 5400 Holiday Drive Frederick MD 21701;X-APPLE-RADIUS=500;X-TITLE=5400 Holiday Drive:geo:-77.4045744,39.3798089
END:VEVENT
BEGIN:VEVENT
DTSTART;VALUE=DATE:20180223
DTEND;VALUE=DATE:20180226
DTSTAMP:20260424T115929
CREATED:20180216T033336Z
LAST-MODIFIED:20180216T033336Z
UID:10000020-1519344000-1519603199@hagerstownaa.org
SUMMARY:NERAASA (Northeast Regional Area Service Assembly)
DESCRIPTION:Cromwell\, CT at the Radisson Hotel.
URL:https://hagerstownaa.org/event/neraasa-northeast-regional-area-service-assembly/
LOCATION:Radisson Hotel\, Cromwell\, CT\, United States
END:VEVENT
BEGIN:VEVENT
DTSTART;TZID=America/New_York:20180217T180000
DTEND;TZID=America/New_York:20180217T190000
DTSTAMP:20260424T115929
CREATED:20180216T032600Z
LAST-MODIFIED:20180216T032600Z
UID:10000018-1518890400-1518894000@hagerstownaa.org
SUMMARY:Fellowship Hall Group Speaker Meeting
DESCRIPTION:Lovell B.\, from Annapolis\, MD is the speaker.
URL:https://hagerstownaa.org/event/fellowship-hall-group-speaker-meeting/
LOCATION:Fellowship Hall\, 6 N Mulberry St\, Hagerstown\, MD\, 21740\, United States
GEO:39.6402839;-77.7159808
X-APPLE-STRUCTURED-LOCATION;VALUE=URI;X-ADDRESS=Fellowship Hall 6 N Mulberry St Hagerstown MD 21740 United States;X-APPLE-RADIUS=500;X-TITLE=6 N Mulberry St:geo:-77.7159808,39.6402839
END:VEVENT
BEGIN:VEVENT
DTSTART;VALUE=DATE:20180217
DTEND;VALUE=DATE:20180218
DTSTAMP:20260424T115929
CREATED:20180216T024040Z
LAST-MODIFIED:20180216T024040Z
UID:10000017-1518825600-1518911999@hagerstownaa.org
SUMMARY:Area 29 Committee Meeting
DESCRIPTION:Area Officers\, DCMs\, Alt. DCMs\, Area Committee Chairs and Co-Chairs to attend. GSRs and all members of the fellowship are cordially invited to attend.
URL:https://hagerstownaa.org/event/area-29-committee-meeting/
LOCATION:All Saints Episcopal Church\, 106 W. Church St.\, Frederick\, 21701\, United States
GEO:39.4151689;-77.4126176
X-APPLE-STRUCTURED-LOCATION;VALUE=URI;X-ADDRESS=All Saints Episcopal Church 106 W. Church St. Frederick 21701 United States;X-APPLE-RADIUS=500;X-TITLE=106 W. Church St.:geo:-77.4126176,39.4151689
END:VEVENT
END:VCALENDAR