BEGIN:VCALENDAR
VERSION:2.0
PRODID:-//Hagerstown AA - ECPv6.15.20//NONSGML v1.0//EN
CALSCALE:GREGORIAN
METHOD:PUBLISH
X-ORIGINAL-URL:https://hagerstownaa.org
X-WR-CALDESC:Events for Hagerstown AA
REFRESH-INTERVAL;VALUE=DURATION:PT1H
X-Robots-Tag:noindex
X-PUBLISHED-TTL:PT1H
BEGIN:VTIMEZONE
TZID:America/New_York
BEGIN:DAYLIGHT
TZOFFSETFROM:-0500
TZOFFSETTO:-0400
TZNAME:EDT
DTSTART:20270314T070000
END:DAYLIGHT
BEGIN:STANDARD
TZOFFSETFROM:-0400
TZOFFSETTO:-0500
TZNAME:EST
DTSTART:20271107T060000
END:STANDARD
BEGIN:DAYLIGHT
TZOFFSETFROM:-0500
TZOFFSETTO:-0400
TZNAME:EDT
DTSTART:20280312T070000
END:DAYLIGHT
BEGIN:STANDARD
TZOFFSETFROM:-0400
TZOFFSETTO:-0500
TZNAME:EST
DTSTART:20281105T060000
END:STANDARD
BEGIN:DAYLIGHT
TZOFFSETFROM:-0500
TZOFFSETTO:-0400
TZNAME:EDT
DTSTART:20290311T070000
END:DAYLIGHT
BEGIN:STANDARD
TZOFFSETFROM:-0400
TZOFFSETTO:-0500
TZNAME:EST
DTSTART:20291104T060000
END:STANDARD
BEGIN:DAYLIGHT
TZOFFSETFROM:-0500
TZOFFSETTO:-0400
TZNAME:EDT
DTSTART:20300310T070000
END:DAYLIGHT
BEGIN:STANDARD
TZOFFSETFROM:-0400
TZOFFSETTO:-0500
TZNAME:EST
DTSTART:20301103T060000
END:STANDARD
END:VTIMEZONE
BEGIN:VEVENT
DTSTART;TZID=America/New_York:20280812T090000
DTEND;TZID=America/New_York:20280812T120000
DTSTAMP:20260425T083902
CREATED:20231220T202026Z
LAST-MODIFIED:20250110T205608Z
UID:10000140-1849683600-1849694400@hagerstownaa.org
SUMMARY:Mountain Breakfast
DESCRIPTION:Great service opportunity! \nSetup at 7:00 (Service Opportunity) \nFellowship at 9:00 \nBreakfast at 10:00 \nSpeaker at 11:00 \n$10.00 donation
URL:https://hagerstownaa.org/event/mountain-breakfast-2-2/2028-08-12/
LOCATION:Old Germantown Church of God\, 16924 Raven Rd\, Sabillasville\, MD\, 21780\, United States
GEO:39.7003209;-77.4560092
X-APPLE-STRUCTURED-LOCATION;VALUE=URI;X-ADDRESS=Old Germantown Church of God 16924 Raven Rd Sabillasville MD 21780 United States;X-APPLE-RADIUS=500;X-TITLE=16924 Raven Rd:geo:-77.4560092,39.7003209
END:VEVENT
BEGIN:VEVENT
DTSTART;TZID=America/New_York:20280820T160000
DTEND;TZID=America/New_York:20280820T170000
DTSTAMP:20260425T083902
CREATED:20241123T234112Z
LAST-MODIFIED:20241124T120042Z
UID:10000320-1850400000-1850403600@hagerstownaa.org
SUMMARY:District 20 Meeting
DESCRIPTION:District 20 Meetings take place the 3rd Sunday of each month\, 4:00pm at Fellowship Hall.
URL:https://hagerstownaa.org/event/district-20-meeting-2/2028-08-20/
LOCATION:Fellowship Hall\, 6 N Mulberry St\, Hagerstown\, MD\, 21740\, United States
GEO:39.6402839;-77.7159808
X-APPLE-STRUCTURED-LOCATION;VALUE=URI;X-ADDRESS=Fellowship Hall 6 N Mulberry St Hagerstown MD 21740 United States;X-APPLE-RADIUS=500;X-TITLE=6 N Mulberry St:geo:-77.7159808,39.6402839
END:VEVENT
BEGIN:VEVENT
DTSTART;TZID=America/New_York:20280827T153000
DTEND;TZID=America/New_York:20280827T163000
DTSTAMP:20260425T083902
CREATED:20240702T130853Z
LAST-MODIFIED:20250505T014452Z
UID:10000201-1851003000-1851006600@hagerstownaa.org
SUMMARY:HAIG Meeting
DESCRIPTION:The Hagerstown Area Intergroup (HAIG) meetings are typically held the 4th Sunday of the month\, 3:30pm at Fellowship Hall.
URL:https://hagerstownaa.org/event/haig-meeting-2/2028-08-27/
LOCATION:Fellowship Hall\, 6 N Mulberry St\, Hagerstown\, MD\, 21740\, United States
GEO:39.6402839;-77.7159808
X-APPLE-STRUCTURED-LOCATION;VALUE=URI;X-ADDRESS=Fellowship Hall 6 N Mulberry St Hagerstown MD 21740 United States;X-APPLE-RADIUS=500;X-TITLE=6 N Mulberry St:geo:-77.7159808,39.6402839
END:VEVENT
BEGIN:VEVENT
DTSTART;TZID=America/New_York:20280909T090000
DTEND;TZID=America/New_York:20280909T120000
DTSTAMP:20260425T083902
CREATED:20231220T202026Z
LAST-MODIFIED:20250110T205608Z
UID:10000141-1852102800-1852113600@hagerstownaa.org
SUMMARY:Mountain Breakfast
DESCRIPTION:Great service opportunity! \nSetup at 7:00 (Service Opportunity) \nFellowship at 9:00 \nBreakfast at 10:00 \nSpeaker at 11:00 \n$10.00 donation
URL:https://hagerstownaa.org/event/mountain-breakfast-2-2/2028-09-09/
LOCATION:Old Germantown Church of God\, 16924 Raven Rd\, Sabillasville\, MD\, 21780\, United States
GEO:39.7003209;-77.4560092
X-APPLE-STRUCTURED-LOCATION;VALUE=URI;X-ADDRESS=Old Germantown Church of God 16924 Raven Rd Sabillasville MD 21780 United States;X-APPLE-RADIUS=500;X-TITLE=16924 Raven Rd:geo:-77.4560092,39.7003209
END:VEVENT
BEGIN:VEVENT
DTSTART;TZID=America/New_York:20280917T160000
DTEND;TZID=America/New_York:20280917T170000
DTSTAMP:20260425T083902
CREATED:20241123T234112Z
LAST-MODIFIED:20241124T120042Z
UID:10000321-1852819200-1852822800@hagerstownaa.org
SUMMARY:District 20 Meeting
DESCRIPTION:District 20 Meetings take place the 3rd Sunday of each month\, 4:00pm at Fellowship Hall.
URL:https://hagerstownaa.org/event/district-20-meeting-2/2028-09-17/
LOCATION:Fellowship Hall\, 6 N Mulberry St\, Hagerstown\, MD\, 21740\, United States
GEO:39.6402839;-77.7159808
X-APPLE-STRUCTURED-LOCATION;VALUE=URI;X-ADDRESS=Fellowship Hall 6 N Mulberry St Hagerstown MD 21740 United States;X-APPLE-RADIUS=500;X-TITLE=6 N Mulberry St:geo:-77.7159808,39.6402839
END:VEVENT
BEGIN:VEVENT
DTSTART;TZID=America/New_York:20280924T153000
DTEND;TZID=America/New_York:20280924T163000
DTSTAMP:20260425T083902
CREATED:20240702T130853Z
LAST-MODIFIED:20250505T014452Z
UID:10000202-1853422200-1853425800@hagerstownaa.org
SUMMARY:HAIG Meeting
DESCRIPTION:The Hagerstown Area Intergroup (HAIG) meetings are typically held the 4th Sunday of the month\, 3:30pm at Fellowship Hall.
URL:https://hagerstownaa.org/event/haig-meeting-2/2028-09-24/
LOCATION:Fellowship Hall\, 6 N Mulberry St\, Hagerstown\, MD\, 21740\, United States
GEO:39.6402839;-77.7159808
X-APPLE-STRUCTURED-LOCATION;VALUE=URI;X-ADDRESS=Fellowship Hall 6 N Mulberry St Hagerstown MD 21740 United States;X-APPLE-RADIUS=500;X-TITLE=6 N Mulberry St:geo:-77.7159808,39.6402839
END:VEVENT
BEGIN:VEVENT
DTSTART;TZID=America/New_York:20281014T090000
DTEND;TZID=America/New_York:20281014T120000
DTSTAMP:20260425T083902
CREATED:20231220T202026Z
LAST-MODIFIED:20250110T205608Z
UID:10000142-1855126800-1855137600@hagerstownaa.org
SUMMARY:Mountain Breakfast
DESCRIPTION:Great service opportunity! \nSetup at 7:00 (Service Opportunity) \nFellowship at 9:00 \nBreakfast at 10:00 \nSpeaker at 11:00 \n$10.00 donation
URL:https://hagerstownaa.org/event/mountain-breakfast-2-2/2028-10-14/
LOCATION:Old Germantown Church of God\, 16924 Raven Rd\, Sabillasville\, MD\, 21780\, United States
GEO:39.7003209;-77.4560092
X-APPLE-STRUCTURED-LOCATION;VALUE=URI;X-ADDRESS=Old Germantown Church of God 16924 Raven Rd Sabillasville MD 21780 United States;X-APPLE-RADIUS=500;X-TITLE=16924 Raven Rd:geo:-77.4560092,39.7003209
END:VEVENT
BEGIN:VEVENT
DTSTART;TZID=America/New_York:20281015T160000
DTEND;TZID=America/New_York:20281015T170000
DTSTAMP:20260425T083902
CREATED:20241123T234112Z
LAST-MODIFIED:20241124T120042Z
UID:10000322-1855238400-1855242000@hagerstownaa.org
SUMMARY:District 20 Meeting
DESCRIPTION:District 20 Meetings take place the 3rd Sunday of each month\, 4:00pm at Fellowship Hall.
URL:https://hagerstownaa.org/event/district-20-meeting-2/2028-10-15/
LOCATION:Fellowship Hall\, 6 N Mulberry St\, Hagerstown\, MD\, 21740\, United States
GEO:39.6402839;-77.7159808
X-APPLE-STRUCTURED-LOCATION;VALUE=URI;X-ADDRESS=Fellowship Hall 6 N Mulberry St Hagerstown MD 21740 United States;X-APPLE-RADIUS=500;X-TITLE=6 N Mulberry St:geo:-77.7159808,39.6402839
END:VEVENT
BEGIN:VEVENT
DTSTART;TZID=America/New_York:20281022T153000
DTEND;TZID=America/New_York:20281022T163000
DTSTAMP:20260425T083902
CREATED:20240702T130853Z
LAST-MODIFIED:20250505T014452Z
UID:10000203-1855841400-1855845000@hagerstownaa.org
SUMMARY:HAIG Meeting
DESCRIPTION:The Hagerstown Area Intergroup (HAIG) meetings are typically held the 4th Sunday of the month\, 3:30pm at Fellowship Hall.
URL:https://hagerstownaa.org/event/haig-meeting-2/2028-10-22/
LOCATION:Fellowship Hall\, 6 N Mulberry St\, Hagerstown\, MD\, 21740\, United States
GEO:39.6402839;-77.7159808
X-APPLE-STRUCTURED-LOCATION;VALUE=URI;X-ADDRESS=Fellowship Hall 6 N Mulberry St Hagerstown MD 21740 United States;X-APPLE-RADIUS=500;X-TITLE=6 N Mulberry St:geo:-77.7159808,39.6402839
END:VEVENT
BEGIN:VEVENT
DTSTART;TZID=America/New_York:20281111T090000
DTEND;TZID=America/New_York:20281111T120000
DTSTAMP:20260425T083902
CREATED:20231220T202026Z
LAST-MODIFIED:20250110T205608Z
UID:10000143-1857546000-1857556800@hagerstownaa.org
SUMMARY:Mountain Breakfast
DESCRIPTION:Great service opportunity! \nSetup at 7:00 (Service Opportunity) \nFellowship at 9:00 \nBreakfast at 10:00 \nSpeaker at 11:00 \n$10.00 donation
URL:https://hagerstownaa.org/event/mountain-breakfast-2-2/2028-11-11/
LOCATION:Old Germantown Church of God\, 16924 Raven Rd\, Sabillasville\, MD\, 21780\, United States
GEO:39.7003209;-77.4560092
X-APPLE-STRUCTURED-LOCATION;VALUE=URI;X-ADDRESS=Old Germantown Church of God 16924 Raven Rd Sabillasville MD 21780 United States;X-APPLE-RADIUS=500;X-TITLE=16924 Raven Rd:geo:-77.4560092,39.7003209
END:VEVENT
BEGIN:VEVENT
DTSTART;TZID=America/New_York:20281119T160000
DTEND;TZID=America/New_York:20281119T170000
DTSTAMP:20260425T083902
CREATED:20241123T234112Z
LAST-MODIFIED:20241124T120042Z
UID:10000323-1858262400-1858266000@hagerstownaa.org
SUMMARY:District 20 Meeting
DESCRIPTION:District 20 Meetings take place the 3rd Sunday of each month\, 4:00pm at Fellowship Hall.
URL:https://hagerstownaa.org/event/district-20-meeting-2/2028-11-19/
LOCATION:Fellowship Hall\, 6 N Mulberry St\, Hagerstown\, MD\, 21740\, United States
GEO:39.6402839;-77.7159808
X-APPLE-STRUCTURED-LOCATION;VALUE=URI;X-ADDRESS=Fellowship Hall 6 N Mulberry St Hagerstown MD 21740 United States;X-APPLE-RADIUS=500;X-TITLE=6 N Mulberry St:geo:-77.7159808,39.6402839
END:VEVENT
BEGIN:VEVENT
DTSTART;TZID=America/New_York:20281126T153000
DTEND;TZID=America/New_York:20281126T163000
DTSTAMP:20260425T083902
CREATED:20240702T130853Z
LAST-MODIFIED:20250505T014452Z
UID:10000204-1858865400-1858869000@hagerstownaa.org
SUMMARY:HAIG Meeting
DESCRIPTION:The Hagerstown Area Intergroup (HAIG) meetings are typically held the 4th Sunday of the month\, 3:30pm at Fellowship Hall.
URL:https://hagerstownaa.org/event/haig-meeting-2/2028-11-26/
LOCATION:Fellowship Hall\, 6 N Mulberry St\, Hagerstown\, MD\, 21740\, United States
GEO:39.6402839;-77.7159808
X-APPLE-STRUCTURED-LOCATION;VALUE=URI;X-ADDRESS=Fellowship Hall 6 N Mulberry St Hagerstown MD 21740 United States;X-APPLE-RADIUS=500;X-TITLE=6 N Mulberry St:geo:-77.7159808,39.6402839
END:VEVENT
BEGIN:VEVENT
DTSTART;TZID=America/New_York:20281209T090000
DTEND;TZID=America/New_York:20281209T120000
DTSTAMP:20260425T083902
CREATED:20231220T202026Z
LAST-MODIFIED:20250110T205608Z
UID:10000145-1859965200-1859976000@hagerstownaa.org
SUMMARY:Mountain Breakfast
DESCRIPTION:Great service opportunity! \nSetup at 7:00 (Service Opportunity) \nFellowship at 9:00 \nBreakfast at 10:00 \nSpeaker at 11:00 \n$10.00 donation
URL:https://hagerstownaa.org/event/mountain-breakfast-2-2/2028-12-09/
LOCATION:Old Germantown Church of God\, 16924 Raven Rd\, Sabillasville\, MD\, 21780\, United States
GEO:39.7003209;-77.4560092
X-APPLE-STRUCTURED-LOCATION;VALUE=URI;X-ADDRESS=Old Germantown Church of God 16924 Raven Rd Sabillasville MD 21780 United States;X-APPLE-RADIUS=500;X-TITLE=16924 Raven Rd:geo:-77.4560092,39.7003209
END:VEVENT
BEGIN:VEVENT
DTSTART;TZID=America/New_York:20281217T160000
DTEND;TZID=America/New_York:20281217T170000
DTSTAMP:20260425T083902
CREATED:20241123T234112Z
LAST-MODIFIED:20241124T120042Z
UID:10000324-1860681600-1860685200@hagerstownaa.org
SUMMARY:District 20 Meeting
DESCRIPTION:District 20 Meetings take place the 3rd Sunday of each month\, 4:00pm at Fellowship Hall.
URL:https://hagerstownaa.org/event/district-20-meeting-2/2028-12-17/
LOCATION:Fellowship Hall\, 6 N Mulberry St\, Hagerstown\, MD\, 21740\, United States
GEO:39.6402839;-77.7159808
X-APPLE-STRUCTURED-LOCATION;VALUE=URI;X-ADDRESS=Fellowship Hall 6 N Mulberry St Hagerstown MD 21740 United States;X-APPLE-RADIUS=500;X-TITLE=6 N Mulberry St:geo:-77.7159808,39.6402839
END:VEVENT
BEGIN:VEVENT
DTSTART;TZID=America/New_York:20281224T153000
DTEND;TZID=America/New_York:20281224T163000
DTSTAMP:20260425T083902
CREATED:20240702T130853Z
LAST-MODIFIED:20250505T014452Z
UID:10000205-1861284600-1861288200@hagerstownaa.org
SUMMARY:HAIG Meeting
DESCRIPTION:The Hagerstown Area Intergroup (HAIG) meetings are typically held the 4th Sunday of the month\, 3:30pm at Fellowship Hall.
URL:https://hagerstownaa.org/event/haig-meeting-2/2028-12-24/
LOCATION:Fellowship Hall\, 6 N Mulberry St\, Hagerstown\, MD\, 21740\, United States
GEO:39.6402839;-77.7159808
X-APPLE-STRUCTURED-LOCATION;VALUE=URI;X-ADDRESS=Fellowship Hall 6 N Mulberry St Hagerstown MD 21740 United States;X-APPLE-RADIUS=500;X-TITLE=6 N Mulberry St:geo:-77.7159808,39.6402839
END:VEVENT
BEGIN:VEVENT
DTSTART;TZID=America/New_York:20290113T090000
DTEND;TZID=America/New_York:20290113T120000
DTSTAMP:20260425T083902
CREATED:20231220T202026Z
LAST-MODIFIED:20250110T205608Z
UID:10000336-1862989200-1863000000@hagerstownaa.org
SUMMARY:Mountain Breakfast
DESCRIPTION:Great service opportunity! \nSetup at 7:00 (Service Opportunity) \nFellowship at 9:00 \nBreakfast at 10:00 \nSpeaker at 11:00 \n$10.00 donation
URL:https://hagerstownaa.org/event/mountain-breakfast-2-2/2029-01-13/
LOCATION:Old Germantown Church of God\, 16924 Raven Rd\, Sabillasville\, MD\, 21780\, United States
GEO:39.7003209;-77.4560092
X-APPLE-STRUCTURED-LOCATION;VALUE=URI;X-ADDRESS=Old Germantown Church of God 16924 Raven Rd Sabillasville MD 21780 United States;X-APPLE-RADIUS=500;X-TITLE=16924 Raven Rd:geo:-77.4560092,39.7003209
END:VEVENT
BEGIN:VEVENT
DTSTART;TZID=America/New_York:20290121T160000
DTEND;TZID=America/New_York:20290121T170000
DTSTAMP:20260425T083902
CREATED:20241123T234112Z
LAST-MODIFIED:20241124T120042Z
UID:10000325-1863705600-1863709200@hagerstownaa.org
SUMMARY:District 20 Meeting
DESCRIPTION:District 20 Meetings take place the 3rd Sunday of each month\, 4:00pm at Fellowship Hall.
URL:https://hagerstownaa.org/event/district-20-meeting-2/2029-01-21/
LOCATION:Fellowship Hall\, 6 N Mulberry St\, Hagerstown\, MD\, 21740\, United States
GEO:39.6402839;-77.7159808
X-APPLE-STRUCTURED-LOCATION;VALUE=URI;X-ADDRESS=Fellowship Hall 6 N Mulberry St Hagerstown MD 21740 United States;X-APPLE-RADIUS=500;X-TITLE=6 N Mulberry St:geo:-77.7159808,39.6402839
END:VEVENT
BEGIN:VEVENT
DTSTART;TZID=America/New_York:20290128T153000
DTEND;TZID=America/New_York:20290128T163000
DTSTAMP:20260425T083902
CREATED:20240702T130853Z
LAST-MODIFIED:20250505T014452Z
UID:10000206-1864308600-1864312200@hagerstownaa.org
SUMMARY:HAIG Meeting
DESCRIPTION:The Hagerstown Area Intergroup (HAIG) meetings are typically held the 4th Sunday of the month\, 3:30pm at Fellowship Hall.
URL:https://hagerstownaa.org/event/haig-meeting-2/2029-01-28/
LOCATION:Fellowship Hall\, 6 N Mulberry St\, Hagerstown\, MD\, 21740\, United States
GEO:39.6402839;-77.7159808
X-APPLE-STRUCTURED-LOCATION;VALUE=URI;X-ADDRESS=Fellowship Hall 6 N Mulberry St Hagerstown MD 21740 United States;X-APPLE-RADIUS=500;X-TITLE=6 N Mulberry St:geo:-77.7159808,39.6402839
END:VEVENT
BEGIN:VEVENT
DTSTART;TZID=America/New_York:20290210T090000
DTEND;TZID=America/New_York:20290210T120000
DTSTAMP:20260425T083902
CREATED:20231220T202026Z
LAST-MODIFIED:20250110T205608Z
UID:10000337-1865408400-1865419200@hagerstownaa.org
SUMMARY:Mountain Breakfast
DESCRIPTION:Great service opportunity! \nSetup at 7:00 (Service Opportunity) \nFellowship at 9:00 \nBreakfast at 10:00 \nSpeaker at 11:00 \n$10.00 donation
URL:https://hagerstownaa.org/event/mountain-breakfast-2-2/2029-02-10/
LOCATION:Old Germantown Church of God\, 16924 Raven Rd\, Sabillasville\, MD\, 21780\, United States
GEO:39.7003209;-77.4560092
X-APPLE-STRUCTURED-LOCATION;VALUE=URI;X-ADDRESS=Old Germantown Church of God 16924 Raven Rd Sabillasville MD 21780 United States;X-APPLE-RADIUS=500;X-TITLE=16924 Raven Rd:geo:-77.4560092,39.7003209
END:VEVENT
BEGIN:VEVENT
DTSTART;TZID=America/New_York:20290218T160000
DTEND;TZID=America/New_York:20290218T170000
DTSTAMP:20260425T083902
CREATED:20241123T234112Z
LAST-MODIFIED:20241124T120042Z
UID:10000326-1866124800-1866128400@hagerstownaa.org
SUMMARY:District 20 Meeting
DESCRIPTION:District 20 Meetings take place the 3rd Sunday of each month\, 4:00pm at Fellowship Hall.
URL:https://hagerstownaa.org/event/district-20-meeting-2/2029-02-18/
LOCATION:Fellowship Hall\, 6 N Mulberry St\, Hagerstown\, MD\, 21740\, United States
GEO:39.6402839;-77.7159808
X-APPLE-STRUCTURED-LOCATION;VALUE=URI;X-ADDRESS=Fellowship Hall 6 N Mulberry St Hagerstown MD 21740 United States;X-APPLE-RADIUS=500;X-TITLE=6 N Mulberry St:geo:-77.7159808,39.6402839
END:VEVENT
BEGIN:VEVENT
DTSTART;TZID=America/New_York:20290225T153000
DTEND;TZID=America/New_York:20290225T163000
DTSTAMP:20260425T083902
CREATED:20240702T130853Z
LAST-MODIFIED:20250505T014452Z
UID:10000207-1866727800-1866731400@hagerstownaa.org
SUMMARY:HAIG Meeting
DESCRIPTION:The Hagerstown Area Intergroup (HAIG) meetings are typically held the 4th Sunday of the month\, 3:30pm at Fellowship Hall.
URL:https://hagerstownaa.org/event/haig-meeting-2/2029-02-25/
LOCATION:Fellowship Hall\, 6 N Mulberry St\, Hagerstown\, MD\, 21740\, United States
GEO:39.6402839;-77.7159808
X-APPLE-STRUCTURED-LOCATION;VALUE=URI;X-ADDRESS=Fellowship Hall 6 N Mulberry St Hagerstown MD 21740 United States;X-APPLE-RADIUS=500;X-TITLE=6 N Mulberry St:geo:-77.7159808,39.6402839
END:VEVENT
BEGIN:VEVENT
DTSTART;TZID=America/New_York:20290310T090000
DTEND;TZID=America/New_York:20290310T120000
DTSTAMP:20260425T083902
CREATED:20231220T202026Z
LAST-MODIFIED:20250110T205608Z
UID:10000338-1867827600-1867838400@hagerstownaa.org
SUMMARY:Mountain Breakfast
DESCRIPTION:Great service opportunity! \nSetup at 7:00 (Service Opportunity) \nFellowship at 9:00 \nBreakfast at 10:00 \nSpeaker at 11:00 \n$10.00 donation
URL:https://hagerstownaa.org/event/mountain-breakfast-2-2/2029-03-10/
LOCATION:Old Germantown Church of God\, 16924 Raven Rd\, Sabillasville\, MD\, 21780\, United States
GEO:39.7003209;-77.4560092
X-APPLE-STRUCTURED-LOCATION;VALUE=URI;X-ADDRESS=Old Germantown Church of God 16924 Raven Rd Sabillasville MD 21780 United States;X-APPLE-RADIUS=500;X-TITLE=16924 Raven Rd:geo:-77.4560092,39.7003209
END:VEVENT
BEGIN:VEVENT
DTSTART;TZID=America/New_York:20290318T160000
DTEND;TZID=America/New_York:20290318T170000
DTSTAMP:20260425T083902
CREATED:20241123T234112Z
LAST-MODIFIED:20241124T120042Z
UID:10000327-1868544000-1868547600@hagerstownaa.org
SUMMARY:District 20 Meeting
DESCRIPTION:District 20 Meetings take place the 3rd Sunday of each month\, 4:00pm at Fellowship Hall.
URL:https://hagerstownaa.org/event/district-20-meeting-2/2029-03-18/
LOCATION:Fellowship Hall\, 6 N Mulberry St\, Hagerstown\, MD\, 21740\, United States
GEO:39.6402839;-77.7159808
X-APPLE-STRUCTURED-LOCATION;VALUE=URI;X-ADDRESS=Fellowship Hall 6 N Mulberry St Hagerstown MD 21740 United States;X-APPLE-RADIUS=500;X-TITLE=6 N Mulberry St:geo:-77.7159808,39.6402839
END:VEVENT
BEGIN:VEVENT
DTSTART;TZID=America/New_York:20290325T153000
DTEND;TZID=America/New_York:20290325T163000
DTSTAMP:20260425T083902
CREATED:20240702T130853Z
LAST-MODIFIED:20250505T014452Z
UID:10000208-1869147000-1869150600@hagerstownaa.org
SUMMARY:HAIG Meeting
DESCRIPTION:The Hagerstown Area Intergroup (HAIG) meetings are typically held the 4th Sunday of the month\, 3:30pm at Fellowship Hall.
URL:https://hagerstownaa.org/event/haig-meeting-2/2029-03-25/
LOCATION:Fellowship Hall\, 6 N Mulberry St\, Hagerstown\, MD\, 21740\, United States
GEO:39.6402839;-77.7159808
X-APPLE-STRUCTURED-LOCATION;VALUE=URI;X-ADDRESS=Fellowship Hall 6 N Mulberry St Hagerstown MD 21740 United States;X-APPLE-RADIUS=500;X-TITLE=6 N Mulberry St:geo:-77.7159808,39.6402839
END:VEVENT
BEGIN:VEVENT
DTSTART;TZID=America/New_York:20290414T090000
DTEND;TZID=America/New_York:20290414T120000
DTSTAMP:20260425T083902
CREATED:20231220T202026Z
LAST-MODIFIED:20250110T205608Z
UID:10000339-1870851600-1870862400@hagerstownaa.org
SUMMARY:Mountain Breakfast
DESCRIPTION:Great service opportunity! \nSetup at 7:00 (Service Opportunity) \nFellowship at 9:00 \nBreakfast at 10:00 \nSpeaker at 11:00 \n$10.00 donation
URL:https://hagerstownaa.org/event/mountain-breakfast-2-2/2029-04-14/
LOCATION:Old Germantown Church of God\, 16924 Raven Rd\, Sabillasville\, MD\, 21780\, United States
GEO:39.7003209;-77.4560092
X-APPLE-STRUCTURED-LOCATION;VALUE=URI;X-ADDRESS=Old Germantown Church of God 16924 Raven Rd Sabillasville MD 21780 United States;X-APPLE-RADIUS=500;X-TITLE=16924 Raven Rd:geo:-77.4560092,39.7003209
END:VEVENT
BEGIN:VEVENT
DTSTART;TZID=America/New_York:20290415T160000
DTEND;TZID=America/New_York:20290415T170000
DTSTAMP:20260425T083902
CREATED:20241123T234112Z
LAST-MODIFIED:20241124T120042Z
UID:10000328-1870963200-1870966800@hagerstownaa.org
SUMMARY:District 20 Meeting
DESCRIPTION:District 20 Meetings take place the 3rd Sunday of each month\, 4:00pm at Fellowship Hall.
URL:https://hagerstownaa.org/event/district-20-meeting-2/2029-04-15/
LOCATION:Fellowship Hall\, 6 N Mulberry St\, Hagerstown\, MD\, 21740\, United States
GEO:39.6402839;-77.7159808
X-APPLE-STRUCTURED-LOCATION;VALUE=URI;X-ADDRESS=Fellowship Hall 6 N Mulberry St Hagerstown MD 21740 United States;X-APPLE-RADIUS=500;X-TITLE=6 N Mulberry St:geo:-77.7159808,39.6402839
END:VEVENT
BEGIN:VEVENT
DTSTART;TZID=America/New_York:20290422T153000
DTEND;TZID=America/New_York:20290422T163000
DTSTAMP:20260425T083902
CREATED:20240702T130853Z
LAST-MODIFIED:20250505T014452Z
UID:10000209-1871566200-1871569800@hagerstownaa.org
SUMMARY:HAIG Meeting
DESCRIPTION:The Hagerstown Area Intergroup (HAIG) meetings are typically held the 4th Sunday of the month\, 3:30pm at Fellowship Hall.
URL:https://hagerstownaa.org/event/haig-meeting-2/2029-04-22/
LOCATION:Fellowship Hall\, 6 N Mulberry St\, Hagerstown\, MD\, 21740\, United States
GEO:39.6402839;-77.7159808
X-APPLE-STRUCTURED-LOCATION;VALUE=URI;X-ADDRESS=Fellowship Hall 6 N Mulberry St Hagerstown MD 21740 United States;X-APPLE-RADIUS=500;X-TITLE=6 N Mulberry St:geo:-77.7159808,39.6402839
END:VEVENT
BEGIN:VEVENT
DTSTART;TZID=America/New_York:20290512T090000
DTEND;TZID=America/New_York:20290512T120000
DTSTAMP:20260425T083902
CREATED:20231220T202026Z
LAST-MODIFIED:20250110T205608Z
UID:10000340-1873270800-1873281600@hagerstownaa.org
SUMMARY:Mountain Breakfast
DESCRIPTION:Great service opportunity! \nSetup at 7:00 (Service Opportunity) \nFellowship at 9:00 \nBreakfast at 10:00 \nSpeaker at 11:00 \n$10.00 donation
URL:https://hagerstownaa.org/event/mountain-breakfast-2-2/2029-05-12/
LOCATION:Old Germantown Church of God\, 16924 Raven Rd\, Sabillasville\, MD\, 21780\, United States
GEO:39.7003209;-77.4560092
X-APPLE-STRUCTURED-LOCATION;VALUE=URI;X-ADDRESS=Old Germantown Church of God 16924 Raven Rd Sabillasville MD 21780 United States;X-APPLE-RADIUS=500;X-TITLE=16924 Raven Rd:geo:-77.4560092,39.7003209
END:VEVENT
BEGIN:VEVENT
DTSTART;TZID=America/New_York:20290520T160000
DTEND;TZID=America/New_York:20290520T170000
DTSTAMP:20260425T083902
CREATED:20241123T234112Z
LAST-MODIFIED:20241124T120042Z
UID:10000329-1873987200-1873990800@hagerstownaa.org
SUMMARY:District 20 Meeting
DESCRIPTION:District 20 Meetings take place the 3rd Sunday of each month\, 4:00pm at Fellowship Hall.
URL:https://hagerstownaa.org/event/district-20-meeting-2/2029-05-20/
LOCATION:Fellowship Hall\, 6 N Mulberry St\, Hagerstown\, MD\, 21740\, United States
GEO:39.6402839;-77.7159808
X-APPLE-STRUCTURED-LOCATION;VALUE=URI;X-ADDRESS=Fellowship Hall 6 N Mulberry St Hagerstown MD 21740 United States;X-APPLE-RADIUS=500;X-TITLE=6 N Mulberry St:geo:-77.7159808,39.6402839
END:VEVENT
BEGIN:VEVENT
DTSTART;TZID=America/New_York:20290527T153000
DTEND;TZID=America/New_York:20290527T163000
DTSTAMP:20260425T083902
CREATED:20240702T130853Z
LAST-MODIFIED:20250505T014452Z
UID:10000210-1874590200-1874593800@hagerstownaa.org
SUMMARY:HAIG Meeting
DESCRIPTION:The Hagerstown Area Intergroup (HAIG) meetings are typically held the 4th Sunday of the month\, 3:30pm at Fellowship Hall.
URL:https://hagerstownaa.org/event/haig-meeting-2/2029-05-27/
LOCATION:Fellowship Hall\, 6 N Mulberry St\, Hagerstown\, MD\, 21740\, United States
GEO:39.6402839;-77.7159808
X-APPLE-STRUCTURED-LOCATION;VALUE=URI;X-ADDRESS=Fellowship Hall 6 N Mulberry St Hagerstown MD 21740 United States;X-APPLE-RADIUS=500;X-TITLE=6 N Mulberry St:geo:-77.7159808,39.6402839
END:VEVENT
END:VCALENDAR